Workbook
Name Etapas: Protokolas!$C$5
Name Komandos_A: OFFSET(ADMIN_Duomenys!$W$5,0,0,MAX(1,COUNTIF(ADMIN_Duomenys!$W$5:$W$44,"?*")),1)
Name Komandos_Aktyvios: OFFSET(ADMIN_Duomenys!$AE$5,0,0,MAX(1,COUNTIF(ADMIN_Duomenys!$AE$5:$AE$44,"?*")),1)
Name Komandos_B: OFFSET(ADMIN_Duomenys!$Y$5,0,0,MAX(1,COUNTIF(ADMIN_Duomenys!$Y$5:$Y$44,"?*")),1)
Name Komandos_C: OFFSET(ADMIN_Duomenys!$AA$5,0,0,MAX(1,COUNTIF(ADMIN_Duomenys!$AA$5:$AA$44,"?*")),1)
Name List_BoulingoCentrai: OFFSET(ADMIN_Duomenys!$AC$5,0,0,MAX(1,COUNTIF(ADMIN_Duomenys!$AC$5:$AC$44,"?*")),1)
Name List_Etapai: OFFSET(ADMIN_Duomenys!$U$5,0,0,MAX(1,COUNTIF(ADMIN_Duomenys!$U$5:$U$44,"?*")),1)
Name List_Pogrupiai: OFFSET(ADMIN_Duomenys!$AN$5,0,0,MAX(1,COUNTIF(ADMIN_Duomenys!$AN$5:$AN$6,"?*")),1)
Name List1: ADMIN_Duomenys!$AG$5:$AG$6
Name List2: ADMIN_Duomenys!$AH$5:$AH$6
Name List3: ADMIN_Duomenys!$AI$5:$AI$6
Name List4: ADMIN_Duomenys!$AJ$5:$AJ$6
Name Lyga: Protokolas!$A$1
Name PogrupioReikia: Protokolas!$M$1
Name Pogrupis: Protokolas!$M$2
Name ProtokolasUzpildytas: Protokolas!$M$3
Name Sezonas: ADMIN_Duomenys!$B$2
Name Zaidejai_Hcp: ADMIN_Duomenys!$E$5:$E$604
Name Zaidejai_Raktas: ADMIN_Duomenys!$J$5:$J$604
Name Zaidejai_Vardas: ADMIN_Duomenys!$I$5:$I$604

Sheet Lentelė
C1: =Protokolas!$A$7 -> ← Pasirinkite lygą | L1: =IF(Lyga="","LYGA?",Lyga&" LYGA") -> LYGA? | Q1: =IF(NOT(ProtokolasUzpildytas),"PROTOKOLAS PRIVALO BŪTI PILNAI UŽPILDYTAS! Sudėtis ir rezultatų laukai atsiras patys, kai Protokolo lape nebeliks raudonų žymų.","") -> PROTOKOLAS PRIVALO BŪTI PILNAI UŽPILDYTAS! Sudėtis ir rezultatų laukai atsiras patys, kai Protokolo lape nebeliks raudonų žymų.
L2: =IF(NOT(ISNUMBER(Protokolas!$D$9)),"",IF(MONTH(Protokolas!$D$9)>=9,YEAR(Protokolas!$D$9)&"/"&(YEAR(Protokolas!$D$9)+1),(YEAR(Protokolas!$D$9)-1)&"/"&YEAR(Protokolas!$D$9))&" m. sezonas")
A4: Vieta | C4: =IF(Protokolas!$D$11="","",Protokolas!$D$11) | H4: Data | I4: =IF(Protokolas!$D$9="","",Protokolas!$D$9) | K4: Teisėjas | L4: =IF(Protokolas!$D$13="","",Protokolas!$D$13)
B6: Namų komanda | D6: =IF(Protokolas!$A$19="","",Protokolas!$A$19) | K6: Taškai | M6: =SUM($D$27:$N$27) -> 0
B7: Svečių komanda | D7: =IF(Protokolas!$A$32="","",Protokolas!$A$32) | K7: Taškai | M7: =SUM($D$47:$N$47) -> 0
A9: NAMŲ KOMANDA | C9: =IF(Protokolas!$A$19="","",Protokolas!$A$19)
B10: Vardas, Pavardė | C10: Hcp | D10: 1 partija | F10: 2 partija | H10: 3 partija | J10: 4 partija | L10: 5 partija | N10: Suma | O10: Vidurkis | X10: Partija | Y10: Namai | Z10: Svečiai | AA10: Skirtumas | AC10: Namai laimėjo | AD10: Svečiai laimėjo | AE10: Bendras skirtumas
D11: Pora | E11: Rezultatas | F11: Pora | G11: Rezultatas | H11: Pora | I11: Rezultatas | J11: Pora | K11: Rezultatas | L11: Pora | M11: Rezultatas | X11: 1 | Y11: =$D$22 -> 0 | Z11: =$D$42 -> 0 | AA11: =$D$23 -> 0 | AC11: =IF($AA11>0,$AA11,NA()) -> #N/A | AD11: =IF($AA11<0,$AA11,NA()) -> #N/A | AE11: =SUM($AA$11:$AA11) -> 0
B12: =IF(NOT(ProtokolasUzpildytas),"",IF(Protokolas!$B$22="","",Protokolas!$B$22)) | C12: =IF(NOT(ProtokolasUzpildytas),"",IF(Protokolas!$C$22="","",Protokolas!$C$22)) | N12: =IF(OR($B12="",COUNT($E12,$G12,$I12,$K12,$M12)=0),"",SUM($E12,$G12,$I12,$K12,$M12)+COUNT($E12,$G12,$I12,$K12,$M12)*N($C12)) | O12: =IF(OR($B12="",COUNT($E12,$G12,$I12,$K12,$M12)=0),"",AVERAGE($E12,$G12,$I12,$K12,$M12)) | Q12: =IF($R12<>"",$R12,IF($S12<>"",$S12,IF($T12<>"",$T12,IF($U12<>"",$U12,IF($V12<>"",$V12,""))))) | R12: =IF($B12="",IF(OR($D12<>"",$E12<>""),"← Eilutėje nėra žaidėjo (1 partija)",""),IF($D12="",IF($E12<>"","← Neįvesta pora ties rezultatu (1 partija)",""),IF(COUNTIF($D$12:$D$19,$D12)>2,"← Per daug žaidėjų poroje (1 partija)",""))) | S12: =IF($B12="",IF(OR($F12<>"",$G12<>""),"← Eilutėje nėra žaidėjo (2 partija)",""),IF($F12="",IF($G12<>"","← Neįvesta pora ties rezultatu (2 partija)",""),IF(AND($D12<>"",$F12<>"",LEFT($F12,1)<>LEFT($D12,1)),"← NELEGALUS keitimas (2 partija)",IF(COUNTIF($F$12:$F$19,$F12)>2,"← Per daug žaidėjų poroje (2 partija)","")))) | T12: =IF($B12="",IF(OR($H12<>"",$I12<>""),"← Eilutėje nėra žaidėjo (3 partija)",""),IF($H12="",IF($I12<>"","← Neįvesta pora ties rezultatu (3 partija)",""),IF(AND($F12<>"",$H12<>"",LEFT($H12,1)<>LEFT($F12,1)),"← NELEGALUS keitimas (3 partija)",IF(COUNTIF($H$12:$H$19,$H12)>2,"← Per daug žaidėjų poroje (3 partija)","")))) | U12: =IF($B12="",IF(OR($J12<>"",$K12<>""),"← Eilutėje nėra žaidėjo (4 partija)",""),IF($J12="",IF($K12<>"","← Neįvesta pora ties rezultatu (4 partija)",""),IF(COUNTIF($J$12:$J$19,$J12)>2,"← Per daug žaidėjų poroje (4 partija)",""))) | V12: =IF($B12="",IF(OR($L12<>"",$M12<>""),"← Eilutėje nėra žaidėjo (5 partija)",""),IF($L12="",IF($M12<>"","← Neįvesta pora ties rezultatu (5 partija)",""),IF(AND($J12<>"",$L12<>"",LEFT($L12,1)<>LEFT($J12,1)),"← NELEGALUS keitimas (5 partija)",IF(COUNTIF($L$12:$L$19,$L12)>2,"← Per daug žaidėjų poroje (5 partija)","")))) | X12: 2 | Y12: =$F$22 -> 0 | Z12: =$F$42 -> 0 | AA12: =$F$23 -> 0 | AC12: =IF($AA12>0,$AA12,NA()) -> #N/A | AD12: =IF($AA12<0,$AA12,NA()) -> #N/A | AE12: =SUM($AA$11:$AA12) -> 0
B13: =IF(NOT(ProtokolasUzpildytas),"",IF(Protokolas!$B$23="","",Protokolas!$B$23)) | C13: =IF(NOT(ProtokolasUzpildytas),"",IF(Protokolas!$C$23="","",Protokolas!$C$23)) | N13: =IF(OR($B13="",COUNT($E13,$G13,$I13,$K13,$M13)=0),"",SUM($E13,$G13,$I13,$K13,$M13)+COUNT($E13,$G13,$I13,$K13,$M13)*N($C13)) | O13: =IF(OR($B13="",COUNT($E13,$G13,$I13,$K13,$M13)=0),"",AVERAGE($E13,$G13,$I13,$K13,$M13)) | Q13: =IF($R13<>"",$R13,IF($S13<>"",$S13,IF($T13<>"",$T13,IF($U13<>"",$U13,IF($V13<>"",$V13,""))))) | R13: =IF($B13="",IF(OR($D13<>"",$E13<>""),"← Eilutėje nėra žaidėjo (1 partija)",""),IF($D13="",IF($E13<>"","← Neįvesta pora ties rezultatu (1 partija)",""),IF(COUNTIF($D$12:$D$19,$D13)>2,"← Per daug žaidėjų poroje (1 partija)",""))) | S13: =IF($B13="",IF(OR($F13<>"",$G13<>""),"← Eilutėje nėra žaidėjo (2 partija)",""),IF($F13="",IF($G13<>"","← Neįvesta pora ties rezultatu (2 partija)",""),IF(AND($D13<>"",$F13<>"",LEFT($F13,1)<>LEFT($D13,1)),"← NELEGALUS keitimas (2 partija)",IF(COUNTIF($F$12:$F$19,$F13)>2,"← Per daug žaidėjų poroje (2 partija)","")))) | T13: =IF($B13="",IF(OR($H13<>"",$I13<>""),"← Eilutėje nėra žaidėjo (3 partija)",""),IF($H13="",IF($I13<>"","← Neįvesta pora ties rezultatu (3 partija)",""),IF(AND($F13<>"",$H13<>"",LEFT($H13,1)<>LEFT($F13,1)),"← NELEGALUS keitimas (3 partija)",IF(COUNTIF($H$12:$H$19,$H13)>2,"← Per daug žaidėjų poroje (3 partija)","")))) | U13: =IF($B13="",IF(OR($J13<>"",$K13<>""),"← Eilutėje nėra žaidėjo (4 partija)",""),IF($J13="",IF($K13<>"","← Neįvesta pora ties rezultatu (4 partija)",""),IF(COUNTIF($J$12:$J$19,$J13)>2,"← Per daug žaidėjų poroje (4 partija)",""))) | V13: =IF($B13="",IF(OR($L13<>"",$M13<>""),"← Eilutėje nėra žaidėjo (5 partija)",""),IF($L13="",IF($M13<>"","← Neįvesta pora ties rezultatu (5 partija)",""),IF(AND($J13<>"",$L13<>"",LEFT($L13,1)<>LEFT($J13,1)),"← NELEGALUS keitimas (5 partija)",IF(COUNTIF($L$12:$L$19,$L13)>2,"← Per daug žaidėjų poroje (5 partija)","")))) | X13: 3 | Y13: =$H$22 -> 0 | Z13: =$H$42 -> 0 | AA13: =$H$23 -> 0 | AC13: =IF($AA13>0,$AA13,NA()) -> #N/A | AD13: =IF($AA13<0,$AA13,NA()) -> #N/A | AE13: =SUM($AA$11:$AA13) -> 0
B14: =IF(NOT(ProtokolasUzpildytas),"",IF(Protokolas!$B$24="","",Protokolas!$B$24)) | C14: =IF(NOT(ProtokolasUzpildytas),"",IF(Protokolas!$C$24="","",Protokolas!$C$24)) | N14: =IF(OR($B14="",COUNT($E14,$G14,$I14,$K14,$M14)=0),"",SUM($E14,$G14,$I14,$K14,$M14)+COUNT($E14,$G14,$I14,$K14,$M14)*N($C14)) | O14: =IF(OR($B14="",COUNT($E14,$G14,$I14,$K14,$M14)=0),"",AVERAGE($E14,$G14,$I14,$K14,$M14)) | Q14: =IF($R14<>"",$R14,IF($S14<>"",$S14,IF($T14<>"",$T14,IF($U14<>"",$U14,IF($V14<>"",$V14,""))))) | R14: =IF($B14="",IF(OR($D14<>"",$E14<>""),"← Eilutėje nėra žaidėjo (1 partija)",""),IF($D14="",IF($E14<>"","← Neįvesta pora ties rezultatu (1 partija)",""),IF(COUNTIF($D$12:$D$19,$D14)>2,"← Per daug žaidėjų poroje (1 partija)",""))) | S14: =IF($B14="",IF(OR($F14<>"",$G14<>""),"← Eilutėje nėra žaidėjo (2 partija)",""),IF($F14="",IF($G14<>"","← Neįvesta pora ties rezultatu (2 partija)",""),IF(AND($D14<>"",$F14<>"",LEFT($F14,1)<>LEFT($D14,1)),"← NELEGALUS keitimas (2 partija)",IF(COUNTIF($F$12:$F$19,$F14)>2,"← Per daug žaidėjų poroje (2 partija)","")))) | T14: =IF($B14="",IF(OR($H14<>"",$I14<>""),"← Eilutėje nėra žaidėjo (3 partija)",""),IF($H14="",IF($I14<>"","← Neįvesta pora ties rezultatu (3 partija)",""),IF(AND($F14<>"",$H14<>"",LEFT($H14,1)<>LEFT($F14,1)),"← NELEGALUS keitimas (3 partija)",IF(COUNTIF($H$12:$H$19,$H14)>2,"← Per daug žaidėjų poroje (3 partija)","")))) | U14: =IF($B14="",IF(OR($J14<>"",$K14<>""),"← Eilutėje nėra žaidėjo (4 partija)",""),IF($J14="",IF($K14<>"","← Neįvesta pora ties rezultatu (4 partija)",""),IF(COUNTIF($J$12:$J$19,$J14)>2,"← Per daug žaidėjų poroje (4 partija)",""))) | V14: =IF($B14="",IF(OR($L14<>"",$M14<>""),"← Eilutėje nėra žaidėjo (5 partija)",""),IF($L14="",IF($M14<>"","← Neįvesta pora ties rezultatu (5 partija)",""),IF(AND($J14<>"",$L14<>"",LEFT($L14,1)<>LEFT($J14,1)),"← NELEGALUS keitimas (5 partija)",IF(COUNTIF($L$12:$L$19,$L14)>2,"← Per daug žaidėjų poroje (5 partija)","")))) | X14: 4 | Y14: =$J$22 -> 0 | Z14: =$J$42 -> 0 | AA14: =$J$23 -> 0 | AC14: =IF($AA14>0,$AA14,NA()) -> #N/A | AD14: =IF($AA14<0,$AA14,NA()) -> #N/A | AE14: =SUM($AA$11:$AA14) -> 0
B15: =IF(NOT(ProtokolasUzpildytas),"",IF(Protokolas!$B$25="","",Protokolas!$B$25)) | C15: =IF(NOT(ProtokolasUzpildytas),"",IF(Protokolas!$C$25="","",Protokolas!$C$25)) | N15: =IF(OR($B15="",COUNT($E15,$G15,$I15,$K15,$M15)=0),"",SUM($E15,$G15,$I15,$K15,$M15)+COUNT($E15,$G15,$I15,$K15,$M15)*N($C15)) | O15: =IF(OR($B15="",COUNT($E15,$G15,$I15,$K15,$M15)=0),"",AVERAGE($E15,$G15,$I15,$K15,$M15)) | Q15: =IF($R15<>"",$R15,IF($S15<>"",$S15,IF($T15<>"",$T15,IF($U15<>"",$U15,IF($V15<>"",$V15,""))))) | R15: =IF($B15="",IF(OR($D15<>"",$E15<>""),"← Eilutėje nėra žaidėjo (1 partija)",""),IF($D15="",IF($E15<>"","← Neįvesta pora ties rezultatu (1 partija)",""),IF(COUNTIF($D$12:$D$19,$D15)>2,"← Per daug žaidėjų poroje (1 partija)",""))) | S15: =IF($B15="",IF(OR($F15<>"",$G15<>""),"← Eilutėje nėra žaidėjo (2 partija)",""),IF($F15="",IF($G15<>"","← Neįvesta pora ties rezultatu (2 partija)",""),IF(AND($D15<>"",$F15<>"",LEFT($F15,1)<>LEFT($D15,1)),"← NELEGALUS keitimas (2 partija)",IF(COUNTIF($F$12:$F$19,$F15)>2,"← Per daug žaidėjų poroje (2 partija)","")))) | T15: =IF($B15="",IF(OR($H15<>"",$I15<>""),"← Eilutėje nėra žaidėjo (3 partija)",""),IF($H15="",IF($I15<>"","← Neįvesta pora ties rezultatu (3 partija)",""),IF(AND($F15<>"",$H15<>"",LEFT($H15,1)<>LEFT($F15,1)),"← NELEGALUS keitimas (3 partija)",IF(COUNTIF($H$12:$H$19,$H15)>2,"← Per daug žaidėjų poroje (3 partija)","")))) | U15: =IF($B15="",IF(OR($J15<>"",$K15<>""),"← Eilutėje nėra žaidėjo (4 partija)",""),IF($J15="",IF($K15<>"","← Neįvesta pora ties rezultatu (4 partija)",""),IF(COUNTIF($J$12:$J$19,$J15)>2,"← Per daug žaidėjų poroje (4 partija)",""))) | V15: =IF($B15="",IF(OR($L15<>"",$M15<>""),"← Eilutėje nėra žaidėjo (5 partija)",""),IF($L15="",IF($M15<>"","← Neįvesta pora ties rezultatu (5 partija)",""),IF(AND($J15<>"",$L15<>"",LEFT($L15,1)<>LEFT($J15,1)),"← NELEGALUS keitimas (5 partija)",IF(COUNTIF($L$12:$L$19,$L15)>2,"← Per daug žaidėjų poroje (5 partija)","")))) | X15: 5 | Y15: =$L$22 -> 0 | Z15: =$L$42 -> 0 | AA15: =$L$23 -> 0 | AC15: =IF($AA15>0,$AA15,NA()) -> #N/A | AD15: =IF($AA15<0,$AA15,NA()) -> #N/A | AE15: =SUM($AA$11:$AA15) -> 0
B16: =IF(NOT(ProtokolasUzpildytas),"",IF(Protokolas!$B$26="","",Protokolas!$B$26)) | C16: =IF(NOT(ProtokolasUzpildytas),"",IF(Protokolas!$C$26="","",Protokolas!$C$26)) | N16: =IF(OR($B16="",COUNT($E16,$G16,$I16,$K16,$M16)=0),"",SUM($E16,$G16,$I16,$K16,$M16)+COUNT($E16,$G16,$I16,$K16,$M16)*N($C16)) | O16: =IF(OR($B16="",COUNT($E16,$G16,$I16,$K16,$M16)=0),"",AVERAGE($E16,$G16,$I16,$K16,$M16)) | Q16: =IF($R16<>"",$R16,IF($S16<>"",$S16,IF($T16<>"",$T16,IF($U16<>"",$U16,IF($V16<>"",$V16,""))))) | R16: =IF($B16="",IF(OR($D16<>"",$E16<>""),"← Eilutėje nėra žaidėjo (1 partija)",""),IF($D16="",IF($E16<>"","← Neįvesta pora ties rezultatu (1 partija)",""),IF(COUNTIF($D$12:$D$19,$D16)>2,"← Per daug žaidėjų poroje (1 partija)",""))) | S16: =IF($B16="",IF(OR($F16<>"",$G16<>""),"← Eilutėje nėra žaidėjo (2 partija)",""),IF($F16="",IF($G16<>"","← Neįvesta pora ties rezultatu (2 partija)",""),IF(AND($D16<>"",$F16<>"",LEFT($F16,1)<>LEFT($D16,1)),"← NELEGALUS keitimas (2 partija)",IF(COUNTIF($F$12:$F$19,$F16)>2,"← Per daug žaidėjų poroje (2 partija)","")))) | T16: =IF($B16="",IF(OR($H16<>"",$I16<>""),"← Eilutėje nėra žaidėjo (3 partija)",""),IF($H16="",IF($I16<>"","← Neįvesta pora ties rezultatu (3 partija)",""),IF(AND($F16<>"",$H16<>"",LEFT($H16,1)<>LEFT($F16,1)),"← NELEGALUS keitimas (3 partija)",IF(COUNTIF($H$12:$H$19,$H16)>2,"← Per daug žaidėjų poroje (3 partija)","")))) | U16: =IF($B16="",IF(OR($J16<>"",$K16<>""),"← Eilutėje nėra žaidėjo (4 partija)",""),IF($J16="",IF($K16<>"","← Neįvesta pora ties rezultatu (4 partija)",""),IF(COUNTIF($J$12:$J$19,$J16)>2,"← Per daug žaidėjų poroje (4 partija)",""))) | V16: =IF($B16="",IF(OR($L16<>"",$M16<>""),"← Eilutėje nėra žaidėjo (5 partija)",""),IF($L16="",IF($M16<>"","← Neįvesta pora ties rezultatu (5 partija)",""),IF(AND($J16<>"",$L16<>"",LEFT($L16,1)<>LEFT($J16,1)),"← NELEGALUS keitimas (5 partija)",IF(COUNTIF($L$12:$L$19,$L16)>2,"← Per daug žaidėjų poroje (5 partija)",""))))
B17: =IF(NOT(ProtokolasUzpildytas),"",IF(Protokolas!$B$27="","",Protokolas!$B$27)) | C17: =IF(NOT(ProtokolasUzpildytas),"",IF(Protokolas!$C$27="","",Protokolas!$C$27)) | N17: =IF(OR($B17="",COUNT($E17,$G17,$I17,$K17,$M17)=0),"",SUM($E17,$G17,$I17,$K17,$M17)+COUNT($E17,$G17,$I17,$K17,$M17)*N($C17)) | O17: =IF(OR($B17="",COUNT($E17,$G17,$I17,$K17,$M17)=0),"",AVERAGE($E17,$G17,$I17,$K17,$M17)) | Q17: =IF($R17<>"",$R17,IF($S17<>"",$S17,IF($T17<>"",$T17,IF($U17<>"",$U17,IF($V17<>"",$V17,""))))) | R17: =IF($B17="",IF(OR($D17<>"",$E17<>""),"← Eilutėje nėra žaidėjo (1 partija)",""),IF($D17="",IF($E17<>"","← Neįvesta pora ties rezultatu (1 partija)",""),IF(COUNTIF($D$12:$D$19,$D17)>2,"← Per daug žaidėjų poroje (1 partija)",""))) | S17: =IF($B17="",IF(OR($F17<>"",$G17<>""),"← Eilutėje nėra žaidėjo (2 partija)",""),IF($F17="",IF($G17<>"","← Neįvesta pora ties rezultatu (2 partija)",""),IF(AND($D17<>"",$F17<>"",LEFT($F17,1)<>LEFT($D17,1)),"← NELEGALUS keitimas (2 partija)",IF(COUNTIF($F$12:$F$19,$F17)>2,"← Per daug žaidėjų poroje (2 partija)","")))) | T17: =IF($B17="",IF(OR($H17<>"",$I17<>""),"← Eilutėje nėra žaidėjo (3 partija)",""),IF($H17="",IF($I17<>"","← Neįvesta pora ties rezultatu (3 partija)",""),IF(AND($F17<>"",$H17<>"",LEFT($H17,1)<>LEFT($F17,1)),"← NELEGALUS keitimas (3 partija)",IF(COUNTIF($H$12:$H$19,$H17)>2,"← Per daug žaidėjų poroje (3 partija)","")))) | U17: =IF($B17="",IF(OR($J17<>"",$K17<>""),"← Eilutėje nėra žaidėjo (4 partija)",""),IF($J17="",IF($K17<>"","← Neįvesta pora ties rezultatu (4 partija)",""),IF(COUNTIF($J$12:$J$19,$J17)>2,"← Per daug žaidėjų poroje (4 partija)",""))) | V17: =IF($B17="",IF(OR($L17<>"",$M17<>""),"← Eilutėje nėra žaidėjo (5 partija)",""),IF($L17="",IF($M17<>"","← Neįvesta pora ties rezultatu (5 partija)",""),IF(AND($J17<>"",$L17<>"",LEFT($L17,1)<>LEFT($J17,1)),"← NELEGALUS keitimas (5 partija)",IF(COUNTIF($L$12:$L$19,$L17)>2,"← Per daug žaidėjų poroje (5 partija)",""))))
B18: =IF(NOT(ProtokolasUzpildytas),"",IF(Protokolas!$B$28="","",Protokolas!$B$28)) | C18: =IF(NOT(ProtokolasUzpildytas),"",IF(Protokolas!$C$28="","",Protokolas!$C$28)) | N18: =IF(OR($B18="",COUNT($E18,$G18,$I18,$K18,$M18)=0),"",SUM($E18,$G18,$I18,$K18,$M18)+COUNT($E18,$G18,$I18,$K18,$M18)*N($C18)) | O18: =IF(OR($B18="",COUNT($E18,$G18,$I18,$K18,$M18)=0),"",AVERAGE($E18,$G18,$I18,$K18,$M18)) | Q18: =IF($R18<>"",$R18,IF($S18<>"",$S18,IF($T18<>"",$T18,IF($U18<>"",$U18,IF($V18<>"",$V18,""))))) | R18: =IF($B18="",IF(OR($D18<>"",$E18<>""),"← Eilutėje nėra žaidėjo (1 partija)",""),IF($D18="",IF($E18<>"","← Neįvesta pora ties rezultatu (1 partija)",""),IF(COUNTIF($D$12:$D$19,$D18)>2,"← Per daug žaidėjų poroje (1 partija)",""))) | S18: =IF($B18="",IF(OR($F18<>"",$G18<>""),"← Eilutėje nėra žaidėjo (2 partija)",""),IF($F18="",IF($G18<>"","← Neįvesta pora ties rezultatu (2 partija)",""),IF(AND($D18<>"",$F18<>"",LEFT($F18,1)<>LEFT($D18,1)),"← NELEGALUS keitimas (2 partija)",IF(COUNTIF($F$12:$F$19,$F18)>2,"← Per daug žaidėjų poroje (2 partija)","")))) | T18: =IF($B18="",IF(OR($H18<>"",$I18<>""),"← Eilutėje nėra žaidėjo (3 partija)",""),IF($H18="",IF($I18<>"","← Neįvesta pora ties rezultatu (3 partija)",""),IF(AND($F18<>"",$H18<>"",LEFT($H18,1)<>LEFT($F18,1)),"← NELEGALUS keitimas (3 partija)",IF(COUNTIF($H$12:$H$19,$H18)>2,"← Per daug žaidėjų poroje (3 partija)","")))) | U18: =IF($B18="",IF(OR($J18<>"",$K18<>""),"← Eilutėje nėra žaidėjo (4 partija)",""),IF($J18="",IF($K18<>"","← Neįvesta pora ties rezultatu (4 partija)",""),IF(COUNTIF($J$12:$J$19,$J18)>2,"← Per daug žaidėjų poroje (4 partija)",""))) | V18: =IF($B18="",IF(OR($L18<>"",$M18<>""),"← Eilutėje nėra žaidėjo (5 partija)",""),IF($L18="",IF($M18<>"","← Neįvesta pora ties rezultatu (5 partija)",""),IF(AND($J18<>"",$L18<>"",LEFT($L18,1)<>LEFT($J18,1)),"← NELEGALUS keitimas (5 partija)",IF(COUNTIF($L$12:$L$19,$L18)>2,"← Per daug žaidėjų poroje (5 partija)",""))))
B19: =IF(NOT(ProtokolasUzpildytas),"",IF(Protokolas!$B$29="","",Protokolas!$B$29)) | C19: =IF(NOT(ProtokolasUzpildytas),"",IF(Protokolas!$C$29="","",Protokolas!$C$29)) | N19: =IF(OR($B19="",COUNT($E19,$G19,$I19,$K19,$M19)=0),"",SUM($E19,$G19,$I19,$K19,$M19)+COUNT($E19,$G19,$I19,$K19,$M19)*N($C19)) | O19: =IF(OR($B19="",COUNT($E19,$G19,$I19,$K19,$M19)=0),"",AVERAGE($E19,$G19,$I19,$K19,$M19)) | Q19: =IF($R19<>"",$R19,IF($S19<>"",$S19,IF($T19<>"",$T19,IF($U19<>"",$U19,IF($V19<>"",$V19,""))))) | R19: =IF($B19="",IF(OR($D19<>"",$E19<>""),"← Eilutėje nėra žaidėjo (1 partija)",""),IF($D19="",IF($E19<>"","← Neįvesta pora ties rezultatu (1 partija)",""),IF(COUNTIF($D$12:$D$19,$D19)>2,"← Per daug žaidėjų poroje (1 partija)",""))) | S19: =IF($B19="",IF(OR($F19<>"",$G19<>""),"← Eilutėje nėra žaidėjo (2 partija)",""),IF($F19="",IF($G19<>"","← Neįvesta pora ties rezultatu (2 partija)",""),IF(AND($D19<>"",$F19<>"",LEFT($F19,1)<>LEFT($D19,1)),"← NELEGALUS keitimas (2 partija)",IF(COUNTIF($F$12:$F$19,$F19)>2,"← Per daug žaidėjų poroje (2 partija)","")))) | T19: =IF($B19="",IF(OR($H19<>"",$I19<>""),"← Eilutėje nėra žaidėjo (3 partija)",""),IF($H19="",IF($I19<>"","← Neįvesta pora ties rezultatu (3 partija)",""),IF(AND($F19<>"",$H19<>"",LEFT($H19,1)<>LEFT($F19,1)),"← NELEGALUS keitimas (3 partija)",IF(COUNTIF($H$12:$H$19,$H19)>2,"← Per daug žaidėjų poroje (3 partija)","")))) | U19: =IF($B19="",IF(OR($J19<>"",$K19<>""),"← Eilutėje nėra žaidėjo (4 partija)",""),IF($J19="",IF($K19<>"","← Neįvesta pora ties rezultatu (4 partija)",""),IF(COUNTIF($J$12:$J$19,$J19)>2,"← Per daug žaidėjų poroje (4 partija)",""))) | V19: =IF($B19="",IF(OR($L19<>"",$M19<>""),"← Eilutėje nėra žaidėjo (5 partija)",""),IF($L19="",IF($M19<>"","← Neįvesta pora ties rezultatu (5 partija)",""),IF(AND($J19<>"",$L19<>"",LEFT($L19,1)<>LEFT($J19,1)),"← NELEGALUS keitimas (5 partija)",IF(COUNTIF($L$12:$L$19,$L19)>2,"← Per daug žaidėjų poroje (5 partija)",""))))
B20: Pora Nr.1 | D20: =SUMIFS($E$12:$E$19,$D$12:$D$19,"1*")+SUMIFS($C$12:$C$19,$D$12:$D$19,"1*",$E$12:$E$19,">0") -> 0 | F20: =SUMIFS($G$12:$G$19,$F$12:$F$19,"1*")+SUMIFS($C$12:$C$19,$F$12:$F$19,"1*",$G$12:$G$19,">0") -> 0 | H20: =SUMIFS($I$12:$I$19,$H$12:$H$19,"1*")+SUMIFS($C$12:$C$19,$H$12:$H$19,"1*",$I$12:$I$19,">0") -> 0 | J20: =SUMIFS($K$12:$K$19,$J$12:$J$19,"1*")+SUMIFS($C$12:$C$19,$J$12:$J$19,"1*",$K$12:$K$19,">0") -> 0 | L20: =SUMIFS($M$12:$M$19,$L$12:$L$19,"1*")+SUMIFS($C$12:$C$19,$L$12:$L$19,"1*",$M$12:$M$19,">0") -> 0 | N20: =SUM($D$22:$M$22) -> 0 | O20: =IF(COUNT($E$12:$E$19,$G$12:$G$19,$I$12:$I$19,$K$12:$K$19,$M$12:$M$19)=0,"",AVERAGE($E$12:$E$19,$G$12:$G$19,$I$12:$I$19,$K$12:$K$19,$M$12:$M$19))
B21: Pora Nr.2 | D21: =SUMIFS($E$12:$E$19,$D$12:$D$19,"2*")+SUMIFS($C$12:$C$19,$D$12:$D$19,"2*",$E$12:$E$19,">0") -> 0 | F21: =SUMIFS($G$12:$G$19,$F$12:$F$19,"2*")+SUMIFS($C$12:$C$19,$F$12:$F$19,"2*",$G$12:$G$19,">0") -> 0 | H21: =SUMIFS($I$12:$I$19,$H$12:$H$19,"2*")+SUMIFS($C$12:$C$19,$H$12:$H$19,"2*",$I$12:$I$19,">0") -> 0 | J21: =SUMIFS($K$12:$K$19,$J$12:$J$19,"2*")+SUMIFS($C$12:$C$19,$J$12:$J$19,"2*",$K$12:$K$19,">0") -> 0 | L21: =SUMIFS($M$12:$M$19,$L$12:$L$19,"2*")+SUMIFS($C$12:$C$19,$L$12:$L$19,"2*",$M$12:$M$19,">0") -> 0
B22: Viso per partiją (bendras) | D22: =SUM(D20:E21) -> 0 | F22: =SUM(F20:G21) -> 0 | H22: =SUM(H20:I21) -> 0 | J22: =SUM(J20:K21) -> 0 | L22: =SUM(L20:M21) -> 0 | N22: su Hcp | O22: =IF(COUNT($E$12:$E$19,$G$12:$G$19,$I$12:$I$19,$K$12:$K$19,$M$12:$M$19)=0,"",$N$20/COUNT($E$12:$E$19,$G$12:$G$19,$I$12:$I$19,$K$12:$K$19,$M$12:$M$19))
B23: Skirtumas per partiją | D23: =D22-D42 -> 0 | F23: =F22-F42 -> 0 | H23: =H22-H42 -> 0 | J23: =J22-J42 -> 0 | L23: =L22-L42 -> 0 | N23: =$N$20-$N$40 -> 0
B24: Taškai Pora Nr.1 | D24: =IF(D20=0,0,IF(D20>D40,2,IF(D20=D40,1,0))) -> 0 | F24: =IF(F20=0,0,IF(F20>F41,2,IF(F20=F41,1,0))) -> 0 | H24: =IF(H20=0,0,IF(H20>H40,2,IF(H20=H40,1,0))) -> 0 | J24: =IF(J20=0,0,IF(J20>J40,2,IF(J20=J40,1,0))) -> 0 | L24: =IF(L20=0,0,IF(L20>L41,2,IF(L20=L41,1,0))) -> 0 | O24: =SUM($D$27:$N$27) -> 0
B25: Taškai Pora Nr.2 | D25: =IF(D21=0,0,IF(D21>D41,2,IF(D21=D41,1,0))) -> 0 | F25: =IF(F21=0,0,IF(F21>F40,2,IF(F21=F40,1,0))) -> 0 | H25: =IF(H21=0,0,IF(H21>H41,2,IF(H21=H41,1,0))) -> 0 | J25: =IF(J21=0,0,IF(J21>J41,2,IF(J21=J41,1,0))) -> 0 | L25: =IF(L21=0,0,IF(L21>L40,2,IF(L21=L40,1,0))) -> 0
B26: Taškai (bendras rezultatas) | D26: =IF(D22=0,0,IF(D22>D42,2,IF(D22=D42,1,0))) -> 0 | F26: =IF(F22=0,0,IF(F22>F42,2,IF(F22=F42,1,0))) -> 0 | H26: =IF(H22=0,0,IF(H22>H42,2,IF(H22=H42,1,0))) -> 0 | J26: =IF(J22=0,0,IF(J22>J42,2,IF(J22=J42,1,0))) -> 0 | L26: =IF(L22=0,0,IF(L22>L42,2,IF(L22=L42,1,0))) -> 0
B27: TAŠKAI | D27: =SUM(D24:E26) -> 0 | F27: =SUM(F24:G26) -> 0 | H27: =SUM(H24:I26) -> 0 | J27: =SUM(J24:K26) -> 0 | L27: =SUM(L24:M26) -> 0 | N27: =IF(SUM($D$27:$M$27)+SUM($D$47:$M$47)<30,0,IF($N$20>$N$40,6,IF($N$20=$N$40,3,0))) -> 0
A29: SVEČIŲ KOMANDA | C29: =IF(Protokolas!$A$32="","",Protokolas!$A$32)
B30: Vardas, Pavardė | C30: Hcp | D30: 1 partija | F30: 2 partija | H30: 3 partija | J30: 4 partija | L30: 5 partija | N30: Suma | O30: Vidurkis
D31: Pora | E31: Rezultatas | F31: Pora | G31: Rezultatas | H31: Pora | I31: Rezultatas | J31: Pora | K31: Rezultatas | L31: Pora | M31: Rezultatas
B32: =IF(NOT(ProtokolasUzpildytas),"",IF(Protokolas!$B$35="","",Protokolas!$B$35)) | C32: =IF(NOT(ProtokolasUzpildytas),"",IF(Protokolas!$C$35="","",Protokolas!$C$35)) | N32: =IF(OR($B32="",COUNT($E32,$G32,$I32,$K32,$M32)=0),"",SUM($E32,$G32,$I32,$K32,$M32)+COUNT($E32,$G32,$I32,$K32,$M32)*N($C32)) | O32: =IF(OR($B32="",COUNT($E32,$G32,$I32,$K32,$M32)=0),"",AVERAGE($E32,$G32,$I32,$K32,$M32)) | Q32: =IF($R32<>"",$R32,IF($S32<>"",$S32,IF($T32<>"",$T32,IF($U32<>"",$U32,IF($V32<>"",$V32,""))))) | R32: =IF($B32="",IF(OR($D32<>"",$E32<>""),"← Eilutėje nėra žaidėjo (1 partija)",""),IF($D32="",IF($E32<>"","← Neįvesta pora ties rezultatu (1 partija)",""),IF(COUNTIF($D$32:$D$39,$D32)>2,"← Per daug žaidėjų poroje (1 partija)",""))) | S32: =IF($B32="",IF(OR($F32<>"",$G32<>""),"← Eilutėje nėra žaidėjo (2 partija)",""),IF($F32="",IF($G32<>"","← Neįvesta pora ties rezultatu (2 partija)",""),IF(AND($D32<>"",$F32<>"",LEFT($F32,1)<>LEFT($D32,1)),"← NELEGALUS keitimas (2 partija)",IF(COUNTIF($F$32:$F$39,$F32)>2,"← Per daug žaidėjų poroje (2 partija)","")))) | T32: =IF($B32="",IF(OR($H32<>"",$I32<>""),"← Eilutėje nėra žaidėjo (3 partija)",""),IF($H32="",IF($I32<>"","← Neįvesta pora ties rezultatu (3 partija)",""),IF(AND($F32<>"",$H32<>"",LEFT($H32,1)<>LEFT($F32,1)),"← NELEGALUS keitimas (3 partija)",IF(COUNTIF($H$32:$H$39,$H32)>2,"← Per daug žaidėjų poroje (3 partija)","")))) | U32: =IF($B32="",IF(OR($J32<>"",$K32<>""),"← Eilutėje nėra žaidėjo (4 partija)",""),IF($J32="",IF($K32<>"","← Neįvesta pora ties rezultatu (4 partija)",""),IF(COUNTIF($J$32:$J$39,$J32)>2,"← Per daug žaidėjų poroje (4 partija)",""))) | V32: =IF($B32="",IF(OR($L32<>"",$M32<>""),"← Eilutėje nėra žaidėjo (5 partija)",""),IF($L32="",IF($M32<>"","← Neįvesta pora ties rezultatu (5 partija)",""),IF(AND($J32<>"",$L32<>"",LEFT($L32,1)<>LEFT($J32,1)),"← NELEGALUS keitimas (5 partija)",IF(COUNTIF($L$32:$L$39,$L32)>2,"← Per daug žaidėjų poroje (5 partija)",""))))
B33: =IF(NOT(ProtokolasUzpildytas),"",IF(Protokolas!$B$36="","",Protokolas!$B$36)) | C33: =IF(NOT(ProtokolasUzpildytas),"",IF(Protokolas!$C$36="","",Protokolas!$C$36)) | N33: =IF(OR($B33="",COUNT($E33,$G33,$I33,$K33,$M33)=0),"",SUM($E33,$G33,$I33,$K33,$M33)+COUNT($E33,$G33,$I33,$K33,$M33)*N($C33)) | O33: =IF(OR($B33="",COUNT($E33,$G33,$I33,$K33,$M33)=0),"",AVERAGE($E33,$G33,$I33,$K33,$M33)) | Q33: =IF($R33<>"",$R33,IF($S33<>"",$S33,IF($T33<>"",$T33,IF($U33<>"",$U33,IF($V33<>"",$V33,""))))) | R33: =IF($B33="",IF(OR($D33<>"",$E33<>""),"← Eilutėje nėra žaidėjo (1 partija)",""),IF($D33="",IF($E33<>"","← Neįvesta pora ties rezultatu (1 partija)",""),IF(COUNTIF($D$32:$D$39,$D33)>2,"← Per daug žaidėjų poroje (1 partija)",""))) | S33: =IF($B33="",IF(OR($F33<>"",$G33<>""),"← Eilutėje nėra žaidėjo (2 partija)",""),IF($F33="",IF($G33<>"","← Neįvesta pora ties rezultatu (2 partija)",""),IF(AND($D33<>"",$F33<>"",LEFT($F33,1)<>LEFT($D33,1)),"← NELEGALUS keitimas (2 partija)",IF(COUNTIF($F$32:$F$39,$F33)>2,"← Per daug žaidėjų poroje (2 partija)","")))) | T33: =IF($B33="",IF(OR($H33<>"",$I33<>""),"← Eilutėje nėra žaidėjo (3 partija)",""),IF($H33="",IF($I33<>"","← Neįvesta pora ties rezultatu (3 partija)",""),IF(AND($F33<>"",$H33<>"",LEFT($H33,1)<>LEFT($F33,1)),"← NELEGALUS keitimas (3 partija)",IF(COUNTIF($H$32:$H$39,$H33)>2,"← Per daug žaidėjų poroje (3 partija)","")))) | U33: =IF($B33="",IF(OR($J33<>"",$K33<>""),"← Eilutėje nėra žaidėjo (4 partija)",""),IF($J33="",IF($K33<>"","← Neįvesta pora ties rezultatu (4 partija)",""),IF(COUNTIF($J$32:$J$39,$J33)>2,"← Per daug žaidėjų poroje (4 partija)",""))) | V33: =IF($B33="",IF(OR($L33<>"",$M33<>""),"← Eilutėje nėra žaidėjo (5 partija)",""),IF($L33="",IF($M33<>"","← Neįvesta pora ties rezultatu (5 partija)",""),IF(AND($J33<>"",$L33<>"",LEFT($L33,1)<>LEFT($J33,1)),"← NELEGALUS keitimas (5 partija)",IF(COUNTIF($L$32:$L$39,$L33)>2,"← Per daug žaidėjų poroje (5 partija)",""))))
B34: =IF(NOT(ProtokolasUzpildytas),"",IF(Protokolas!$B$37="","",Protokolas!$B$37)) | C34: =IF(NOT(ProtokolasUzpildytas),"",IF(Protokolas!$C$37="","",Protokolas!$C$37)) | N34: =IF(OR($B34="",COUNT($E34,$G34,$I34,$K34,$M34)=0),"",SUM($E34,$G34,$I34,$K34,$M34)+COUNT($E34,$G34,$I34,$K34,$M34)*N($C34)) | O34: =IF(OR($B34="",COUNT($E34,$G34,$I34,$K34,$M34)=0),"",AVERAGE($E34,$G34,$I34,$K34,$M34)) | Q34: =IF($R34<>"",$R34,IF($S34<>"",$S34,IF($T34<>"",$T34,IF($U34<>"",$U34,IF($V34<>"",$V34,""))))) | R34: =IF($B34="",IF(OR($D34<>"",$E34<>""),"← Eilutėje nėra žaidėjo (1 partija)",""),IF($D34="",IF($E34<>"","← Neįvesta pora ties rezultatu (1 partija)",""),IF(COUNTIF($D$32:$D$39,$D34)>2,"← Per daug žaidėjų poroje (1 partija)",""))) | S34: =IF($B34="",IF(OR($F34<>"",$G34<>""),"← Eilutėje nėra žaidėjo (2 partija)",""),IF($F34="",IF($G34<>"","← Neįvesta pora ties rezultatu (2 partija)",""),IF(AND($D34<>"",$F34<>"",LEFT($F34,1)<>LEFT($D34,1)),"← NELEGALUS keitimas (2 partija)",IF(COUNTIF($F$32:$F$39,$F34)>2,"← Per daug žaidėjų poroje (2 partija)","")))) | T34: =IF($B34="",IF(OR($H34<>"",$I34<>""),"← Eilutėje nėra žaidėjo (3 partija)",""),IF($H34="",IF($I34<>"","← Neįvesta pora ties rezultatu (3 partija)",""),IF(AND($F34<>"",$H34<>"",LEFT($H34,1)<>LEFT($F34,1)),"← NELEGALUS keitimas (3 partija)",IF(COUNTIF($H$32:$H$39,$H34)>2,"← Per daug žaidėjų poroje (3 partija)","")))) | U34: =IF($B34="",IF(OR($J34<>"",$K34<>""),"← Eilutėje nėra žaidėjo (4 partija)",""),IF($J34="",IF($K34<>"","← Neįvesta pora ties rezultatu (4 partija)",""),IF(COUNTIF($J$32:$J$39,$J34)>2,"← Per daug žaidėjų poroje (4 partija)",""))) | V34: =IF($B34="",IF(OR($L34<>"",$M34<>""),"← Eilutėje nėra žaidėjo (5 partija)",""),IF($L34="",IF($M34<>"","← Neįvesta pora ties rezultatu (5 partija)",""),IF(AND($J34<>"",$L34<>"",LEFT($L34,1)<>LEFT($J34,1)),"← NELEGALUS keitimas (5 partija)",IF(COUNTIF($L$32:$L$39,$L34)>2,"← Per daug žaidėjų poroje (5 partija)",""))))
B35: =IF(NOT(ProtokolasUzpildytas),"",IF(Protokolas!$B$38="","",Protokolas!$B$38)) | C35: =IF(NOT(ProtokolasUzpildytas),"",IF(Protokolas!$C$38="","",Protokolas!$C$38)) | N35: =IF(OR($B35="",COUNT($E35,$G35,$I35,$K35,$M35)=0),"",SUM($E35,$G35,$I35,$K35,$M35)+COUNT($E35,$G35,$I35,$K35,$M35)*N($C35)) | O35: =IF(OR($B35="",COUNT($E35,$G35,$I35,$K35,$M35)=0),"",AVERAGE($E35,$G35,$I35,$K35,$M35)) | Q35: =IF($R35<>"",$R35,IF($S35<>"",$S35,IF($T35<>"",$T35,IF($U35<>"",$U35,IF($V35<>"",$V35,""))))) | R35: =IF($B35="",IF(OR($D35<>"",$E35<>""),"← Eilutėje nėra žaidėjo (1 partija)",""),IF($D35="",IF($E35<>"","← Neįvesta pora ties rezultatu (1 partija)",""),IF(COUNTIF($D$32:$D$39,$D35)>2,"← Per daug žaidėjų poroje (1 partija)",""))) | S35: =IF($B35="",IF(OR($F35<>"",$G35<>""),"← Eilutėje nėra žaidėjo (2 partija)",""),IF($F35="",IF($G35<>"","← Neįvesta pora ties rezultatu (2 partija)",""),IF(AND($D35<>"",$F35<>"",LEFT($F35,1)<>LEFT($D35,1)),"← NELEGALUS keitimas (2 partija)",IF(COUNTIF($F$32:$F$39,$F35)>2,"← Per daug žaidėjų poroje (2 partija)","")))) | T35: =IF($B35="",IF(OR($H35<>"",$I35<>""),"← Eilutėje nėra žaidėjo (3 partija)",""),IF($H35="",IF($I35<>"","← Neįvesta pora ties rezultatu (3 partija)",""),IF(AND($F35<>"",$H35<>"",LEFT($H35,1)<>LEFT($F35,1)),"← NELEGALUS keitimas (3 partija)",IF(COUNTIF($H$32:$H$39,$H35)>2,"← Per daug žaidėjų poroje (3 partija)","")))) | U35: =IF($B35="",IF(OR($J35<>"",$K35<>""),"← Eilutėje nėra žaidėjo (4 partija)",""),IF($J35="",IF($K35<>"","← Neįvesta pora ties rezultatu (4 partija)",""),IF(COUNTIF($J$32:$J$39,$J35)>2,"← Per daug žaidėjų poroje (4 partija)",""))) | V35: =IF($B35="",IF(OR($L35<>"",$M35<>""),"← Eilutėje nėra žaidėjo (5 partija)",""),IF($L35="",IF($M35<>"","← Neįvesta pora ties rezultatu (5 partija)",""),IF(AND($J35<>"",$L35<>"",LEFT($L35,1)<>LEFT($J35,1)),"← NELEGALUS keitimas (5 partija)",IF(COUNTIF($L$32:$L$39,$L35)>2,"← Per daug žaidėjų poroje (5 partija)",""))))
B36: =IF(NOT(ProtokolasUzpildytas),"",IF(Protokolas!$B$39="","",Protokolas!$B$39)) | C36: =IF(NOT(ProtokolasUzpildytas),"",IF(Protokolas!$C$39="","",Protokolas!$C$39)) | N36: =IF(OR($B36="",COUNT($E36,$G36,$I36,$K36,$M36)=0),"",SUM($E36,$G36,$I36,$K36,$M36)+COUNT($E36,$G36,$I36,$K36,$M36)*N($C36)) | O36: =IF(OR($B36="",COUNT($E36,$G36,$I36,$K36,$M36)=0),"",AVERAGE($E36,$G36,$I36,$K36,$M36)) | Q36: =IF($R36<>"",$R36,IF($S36<>"",$S36,IF($T36<>"",$T36,IF($U36<>"",$U36,IF($V36<>"",$V36,""))))) | R36: =IF($B36="",IF(OR($D36<>"",$E36<>""),"← Eilutėje nėra žaidėjo (1 partija)",""),IF($D36="",IF($E36<>"","← Neįvesta pora ties rezultatu (1 partija)",""),IF(COUNTIF($D$32:$D$39,$D36)>2,"← Per daug žaidėjų poroje (1 partija)",""))) | S36: =IF($B36="",IF(OR($F36<>"",$G36<>""),"← Eilutėje nėra žaidėjo (2 partija)",""),IF($F36="",IF($G36<>"","← Neįvesta pora ties rezultatu (2 partija)",""),IF(AND($D36<>"",$F36<>"",LEFT($F36,1)<>LEFT($D36,1)),"← NELEGALUS keitimas (2 partija)",IF(COUNTIF($F$32:$F$39,$F36)>2,"← Per daug žaidėjų poroje (2 partija)","")))) | T36: =IF($B36="",IF(OR($H36<>"",$I36<>""),"← Eilutėje nėra žaidėjo (3 partija)",""),IF($H36="",IF($I36<>"","← Neįvesta pora ties rezultatu (3 partija)",""),IF(AND($F36<>"",$H36<>"",LEFT($H36,1)<>LEFT($F36,1)),"← NELEGALUS keitimas (3 partija)",IF(COUNTIF($H$32:$H$39,$H36)>2,"← Per daug žaidėjų poroje (3 partija)","")))) | U36: =IF($B36="",IF(OR($J36<>"",$K36<>""),"← Eilutėje nėra žaidėjo (4 partija)",""),IF($J36="",IF($K36<>"","← Neįvesta pora ties rezultatu (4 partija)",""),IF(COUNTIF($J$32:$J$39,$J36)>2,"← Per daug žaidėjų poroje (4 partija)",""))) | V36: =IF($B36="",IF(OR($L36<>"",$M36<>""),"← Eilutėje nėra žaidėjo (5 partija)",""),IF($L36="",IF($M36<>"","← Neįvesta pora ties rezultatu (5 partija)",""),IF(AND($J36<>"",$L36<>"",LEFT($L36,1)<>LEFT($J36,1)),"← NELEGALUS keitimas (5 partija)",IF(COUNTIF($L$32:$L$39,$L36)>2,"← Per daug žaidėjų poroje (5 partija)",""))))
B37: =IF(NOT(ProtokolasUzpildytas),"",IF(Protokolas!$B$40="","",Protokolas!$B$40)) | C37: =IF(NOT(ProtokolasUzpildytas),"",IF(Protokolas!$C$40="","",Protokolas!$C$40)) | N37: =IF(OR($B37="",COUNT($E37,$G37,$I37,$K37,$M37)=0),"",SUM($E37,$G37,$I37,$K37,$M37)+COUNT($E37,$G37,$I37,$K37,$M37)*N($C37)) | O37: =IF(OR($B37="",COUNT($E37,$G37,$I37,$K37,$M37)=0),"",AVERAGE($E37,$G37,$I37,$K37,$M37)) | Q37: =IF($R37<>"",$R37,IF($S37<>"",$S37,IF($T37<>"",$T37,IF($U37<>"",$U37,IF($V37<>"",$V37,""))))) | R37: =IF($B37="",IF(OR($D37<>"",$E37<>""),"← Eilutėje nėra žaidėjo (1 partija)",""),IF($D37="",IF($E37<>"","← Neįvesta pora ties rezultatu (1 partija)",""),IF(COUNTIF($D$32:$D$39,$D37)>2,"← Per daug žaidėjų poroje (1 partija)",""))) | S37: =IF($B37="",IF(OR($F37<>"",$G37<>""),"← Eilutėje nėra žaidėjo (2 partija)",""),IF($F37="",IF($G37<>"","← Neįvesta pora ties rezultatu (2 partija)",""),IF(AND($D37<>"",$F37<>"",LEFT($F37,1)<>LEFT($D37,1)),"← NELEGALUS keitimas (2 partija)",IF(COUNTIF($F$32:$F$39,$F37)>2,"← Per daug žaidėjų poroje (2 partija)","")))) | T37: =IF($B37="",IF(OR($H37<>"",$I37<>""),"← Eilutėje nėra žaidėjo (3 partija)",""),IF($H37="",IF($I37<>"","← Neįvesta pora ties rezultatu (3 partija)",""),IF(AND($F37<>"",$H37<>"",LEFT($H37,1)<>LEFT($F37,1)),"← NELEGALUS keitimas (3 partija)",IF(COUNTIF($H$32:$H$39,$H37)>2,"← Per daug žaidėjų poroje (3 partija)","")))) | U37: =IF($B37="",IF(OR($J37<>"",$K37<>""),"← Eilutėje nėra žaidėjo (4 partija)",""),IF($J37="",IF($K37<>"","← Neįvesta pora ties rezultatu (4 partija)",""),IF(COUNTIF($J$32:$J$39,$J37)>2,"← Per daug žaidėjų poroje (4 partija)",""))) | V37: =IF($B37="",IF(OR($L37<>"",$M37<>""),"← Eilutėje nėra žaidėjo (5 partija)",""),IF($L37="",IF($M37<>"","← Neįvesta pora ties rezultatu (5 partija)",""),IF(AND($J37<>"",$L37<>"",LEFT($L37,1)<>LEFT($J37,1)),"← NELEGALUS keitimas (5 partija)",IF(COUNTIF($L$32:$L$39,$L37)>2,"← Per daug žaidėjų poroje (5 partija)",""))))
B38: =IF(NOT(ProtokolasUzpildytas),"",IF(Protokolas!$B$41="","",Protokolas!$B$41)) | C38: =IF(NOT(ProtokolasUzpildytas),"",IF(Protokolas!$C$41="","",Protokolas!$C$41)) | N38: =IF(OR($B38="",COUNT($E38,$G38,$I38,$K38,$M38)=0),"",SUM($E38,$G38,$I38,$K38,$M38)+COUNT($E38,$G38,$I38,$K38,$M38)*N($C38)) | O38: =IF(OR($B38="",COUNT($E38,$G38,$I38,$K38,$M38)=0),"",AVERAGE($E38,$G38,$I38,$K38,$M38)) | Q38: =IF($R38<>"",$R38,IF($S38<>"",$S38,IF($T38<>"",$T38,IF($U38<>"",$U38,IF($V38<>"",$V38,""))))) | R38: =IF($B38="",IF(OR($D38<>"",$E38<>""),"← Eilutėje nėra žaidėjo (1 partija)",""),IF($D38="",IF($E38<>"","← Neįvesta pora ties rezultatu (1 partija)",""),IF(COUNTIF($D$32:$D$39,$D38)>2,"← Per daug žaidėjų poroje (1 partija)",""))) | S38: =IF($B38="",IF(OR($F38<>"",$G38<>""),"← Eilutėje nėra žaidėjo (2 partija)",""),IF($F38="",IF($G38<>"","← Neįvesta pora ties rezultatu (2 partija)",""),IF(AND($D38<>"",$F38<>"",LEFT($F38,1)<>LEFT($D38,1)),"← NELEGALUS keitimas (2 partija)",IF(COUNTIF($F$32:$F$39,$F38)>2,"← Per daug žaidėjų poroje (2 partija)","")))) | T38: =IF($B38="",IF(OR($H38<>"",$I38<>""),"← Eilutėje nėra žaidėjo (3 partija)",""),IF($H38="",IF($I38<>"","← Neįvesta pora ties rezultatu (3 partija)",""),IF(AND($F38<>"",$H38<>"",LEFT($H38,1)<>LEFT($F38,1)),"← NELEGALUS keitimas (3 partija)",IF(COUNTIF($H$32:$H$39,$H38)>2,"← Per daug žaidėjų poroje (3 partija)","")))) | U38: =IF($B38="",IF(OR($J38<>"",$K38<>""),"← Eilutėje nėra žaidėjo (4 partija)",""),IF($J38="",IF($K38<>"","← Neįvesta pora ties rezultatu (4 partija)",""),IF(COUNTIF($J$32:$J$39,$J38)>2,"← Per daug žaidėjų poroje (4 partija)",""))) | V38: =IF($B38="",IF(OR($L38<>"",$M38<>""),"← Eilutėje nėra žaidėjo (5 partija)",""),IF($L38="",IF($M38<>"","← Neįvesta pora ties rezultatu (5 partija)",""),IF(AND($J38<>"",$L38<>"",LEFT($L38,1)<>LEFT($J38,1)),"← NELEGALUS keitimas (5 partija)",IF(COUNTIF($L$32:$L$39,$L38)>2,"← Per daug žaidėjų poroje (5 partija)",""))))
B39: =IF(NOT(ProtokolasUzpildytas),"",IF(Protokolas!$B$42="","",Protokolas!$B$42)) | C39: =IF(NOT(ProtokolasUzpildytas),"",IF(Protokolas!$C$42="","",Protokolas!$C$42)) | N39: =IF(OR($B39="",COUNT($E39,$G39,$I39,$K39,$M39)=0),"",SUM($E39,$G39,$I39,$K39,$M39)+COUNT($E39,$G39,$I39,$K39,$M39)*N($C39)) | O39: =IF(OR($B39="",COUNT($E39,$G39,$I39,$K39,$M39)=0),"",AVERAGE($E39,$G39,$I39,$K39,$M39)) | Q39: =IF($R39<>"",$R39,IF($S39<>"",$S39,IF($T39<>"",$T39,IF($U39<>"",$U39,IF($V39<>"",$V39,""))))) | R39: =IF($B39="",IF(OR($D39<>"",$E39<>""),"← Eilutėje nėra žaidėjo (1 partija)",""),IF($D39="",IF($E39<>"","← Neįvesta pora ties rezultatu (1 partija)",""),IF(COUNTIF($D$32:$D$39,$D39)>2,"← Per daug žaidėjų poroje (1 partija)",""))) | S39: =IF($B39="",IF(OR($F39<>"",$G39<>""),"← Eilutėje nėra žaidėjo (2 partija)",""),IF($F39="",IF($G39<>"","← Neįvesta pora ties rezultatu (2 partija)",""),IF(AND($D39<>"",$F39<>"",LEFT($F39,1)<>LEFT($D39,1)),"← NELEGALUS keitimas (2 partija)",IF(COUNTIF($F$32:$F$39,$F39)>2,"← Per daug žaidėjų poroje (2 partija)","")))) | T39: =IF($B39="",IF(OR($H39<>"",$I39<>""),"← Eilutėje nėra žaidėjo (3 partija)",""),IF($H39="",IF($I39<>"","← Neįvesta pora ties rezultatu (3 partija)",""),IF(AND($F39<>"",$H39<>"",LEFT($H39,1)<>LEFT($F39,1)),"← NELEGALUS keitimas (3 partija)",IF(COUNTIF($H$32:$H$39,$H39)>2,"← Per daug žaidėjų poroje (3 partija)","")))) | U39: =IF($B39="",IF(OR($J39<>"",$K39<>""),"← Eilutėje nėra žaidėjo (4 partija)",""),IF($J39="",IF($K39<>"","← Neįvesta pora ties rezultatu (4 partija)",""),IF(COUNTIF($J$32:$J$39,$J39)>2,"← Per daug žaidėjų poroje (4 partija)",""))) | V39: =IF($B39="",IF(OR($L39<>"",$M39<>""),"← Eilutėje nėra žaidėjo (5 partija)",""),IF($L39="",IF($M39<>"","← Neįvesta pora ties rezultatu (5 partija)",""),IF(AND($J39<>"",$L39<>"",LEFT($L39,1)<>LEFT($J39,1)),"← NELEGALUS keitimas (5 partija)",IF(COUNTIF($L$32:$L$39,$L39)>2,"← Per daug žaidėjų poroje (5 partija)",""))))
B40: Pora Nr.1 | D40: =SUMIFS($E$32:$E$39,$D$32:$D$39,"1*")+SUMIFS($C$32:$C$39,$D$32:$D$39,"1*",$E$32:$E$39,">0") -> 0 | F40: =SUMIFS($G$32:$G$39,$F$32:$F$39,"1*")+SUMIFS($C$32:$C$39,$F$32:$F$39,"1*",$G$32:$G$39,">0") -> 0 | H40: =SUMIFS($I$32:$I$39,$H$32:$H$39,"1*")+SUMIFS($C$32:$C$39,$H$32:$H$39,"1*",$I$32:$I$39,">0") -> 0 | J40: =SUMIFS($K$32:$K$39,$J$32:$J$39,"1*")+SUMIFS($C$32:$C$39,$J$32:$J$39,"1*",$K$32:$K$39,">0") -> 0 | L40: =SUMIFS($M$32:$M$39,$L$32:$L$39,"1*")+SUMIFS($C$32:$C$39,$L$32:$L$39,"1*",$M$32:$M$39,">0") -> 0 | N40: =SUM($D$42:$M$42) -> 0 | O40: =IF(COUNT($E$32:$E$39,$G$32:$G$39,$I$32:$I$39,$K$32:$K$39,$M$32:$M$39)=0,"",AVERAGE($E$32:$E$39,$G$32:$G$39,$I$32:$I$39,$K$32:$K$39,$M$32:$M$39))
B41: Pora Nr.2 | D41: =SUMIFS($E$32:$E$39,$D$32:$D$39,"2*")+SUMIFS($C$32:$C$39,$D$32:$D$39,"2*",$E$32:$E$39,">0") -> 0 | F41: =SUMIFS($G$32:$G$39,$F$32:$F$39,"2*")+SUMIFS($C$32:$C$39,$F$32:$F$39,"2*",$G$32:$G$39,">0") -> 0 | H41: =SUMIFS($I$32:$I$39,$H$32:$H$39,"2*")+SUMIFS($C$32:$C$39,$H$32:$H$39,"2*",$I$32:$I$39,">0") -> 0 | J41: =SUMIFS($K$32:$K$39,$J$32:$J$39,"2*")+SUMIFS($C$32:$C$39,$J$32:$J$39,"2*",$K$32:$K$39,">0") -> 0 | L41: =SUMIFS($M$32:$M$39,$L$32:$L$39,"2*")+SUMIFS($C$32:$C$39,$L$32:$L$39,"2*",$M$32:$M$39,">0") -> 0
B42: Viso per partiją (bendras) | D42: =SUM(D40:E41) -> 0 | F42: =SUM(F40:G41) -> 0 | H42: =SUM(H40:I41) -> 0 | J42: =SUM(J40:K41) -> 0 | L42: =SUM(L40:M41) -> 0 | N42: su Hcp | O42: =IF(COUNT($E$32:$E$39,$G$32:$G$39,$I$32:$I$39,$K$32:$K$39,$M$32:$M$39)=0,"",$N$40/COUNT($E$32:$E$39,$G$32:$G$39,$I$32:$I$39,$K$32:$K$39,$M$32:$M$39))
B43: Skirtumas per partiją | D43: =D42-D22 -> 0 | F43: =F42-F22 -> 0 | H43: =H42-H22 -> 0 | J43: =J42-J22 -> 0 | L43: =L42-L22 -> 0 | N43: =$N$40-$N$20 -> 0
B44: Taškai Pora Nr.1 | D44: =IF(D40=0,0,IF(D40>D20,2,IF(D40=D20,1,0))) -> 0 | F44: =IF(F40=0,0,IF(F40>F21,2,IF(F40=F21,1,0))) -> 0 | H44: =IF(H40=0,0,IF(H40>H20,2,IF(H40=H20,1,0))) -> 0 | J44: =IF(J40=0,0,IF(J40>J20,2,IF(J40=J20,1,0))) -> 0 | L44: =IF(L40=0,0,IF(L40>L21,2,IF(L40=L21,1,0))) -> 0 | O44: =SUM($D$47:$N$47) -> 0
B45: Taškai Pora Nr.2 | D45: =IF(D41=0,0,IF(D41>D21,2,IF(D41=D21,1,0))) -> 0 | F45: =IF(F41=0,0,IF(F41>F20,2,IF(F41=F20,1,0))) -> 0 | H45: =IF(H41=0,0,IF(H41>H21,2,IF(H41=H21,1,0))) -> 0 | J45: =IF(J41=0,0,IF(J41>J21,2,IF(J41=J21,1,0))) -> 0 | L45: =IF(L41=0,0,IF(L41>L20,2,IF(L41=L20,1,0))) -> 0
B46: Taškai (bendras rezultatas) | D46: =IF(D42=0,0,IF(D42>D22,2,IF(D42=D22,1,0))) -> 0 | F46: =IF(F42=0,0,IF(F42>F22,2,IF(F42=F22,1,0))) -> 0 | H46: =IF(H42=0,0,IF(H42>H22,2,IF(H42=H22,1,0))) -> 0 | J46: =IF(J42=0,0,IF(J42>J22,2,IF(J42=J22,1,0))) -> 0 | L46: =IF(L42=0,0,IF(L42>L22,2,IF(L42=L22,1,0))) -> 0
B47: TAŠKAI | D47: =SUM(D44:E46) -> 0 | F47: =SUM(F44:G46) -> 0 | H47: =SUM(H44:I46) -> 0 | J47: =SUM(J44:K46) -> 0 | L47: =SUM(L44:M46) -> 0 | N47: =IF(SUM($D$27:$M$27)+SUM($D$47:$M$47)<30,0,IF($N$40>$N$20,6,IF($N$40=$N$20,3,0))) -> 0
C62: =Protokolas!$A$7 -> ← Pasirinkite lygą | L62: =IF(Lyga="","LYGA?",Lyga&" LYGA") -> LYGA?
L63: =IF(NOT(ISNUMBER(Protokolas!$D$9)),"",IF(MONTH(Protokolas!$D$9)>=9,YEAR(Protokolas!$D$9)&"/"&(YEAR(Protokolas!$D$9)+1),(YEAR(Protokolas!$D$9)-1)&"/"&YEAR(Protokolas!$D$9))&" m. sezonas")
A65: Vieta | C65: =IF(Protokolas!$D$11="","",Protokolas!$D$11) | H65: Data | I65: =IF(Protokolas!$D$9="","",Protokolas!$D$9) | K65: Teisėjas | L65: =IF(Protokolas!$D$13="","",Protokolas!$D$13)
B67: Namų komanda | D67: =IF(Protokolas!$A$19="","",Protokolas!$A$19) | I67: Suma | J67: =$N$20 -> 0 | L67: Taškai | M67: =SUM($D$27:$N$27) -> 0
B68: Svečių komanda | D68: =IF(Protokolas!$A$32="","",Protokolas!$A$32) | I68: Suma | J68: =$N$40 -> 0 | L68: Taškai | M68: =SUM($D$47:$N$47) -> 0
B70: VARDAS, PAVARDĖ | D70: PARTIJOS | F70: TAŠKAI | N70: SUMA | O70: VIDURKIS
F71: POROJE | H71: KOMANDOJ | J71: VISO | L71: VIDURKIS
A73: NAMŲ KOMANDA | C73: =IF(Protokolas!$A$19="","",Protokolas!$A$19)
B74: =$B12 | D74: =IF(OR($B74="",$N12=""),"",IF($E12<>"",1,0)+IF($G12<>"",1,0)+IF($I12<>"",1,0)+IF($K12<>"",1,0)+IF($M12<>"",1,0)) | F74: =IF(OR($B74="",$N12=""),"",IF(LEFT($D12,1)="1",$D$24,0)+IF(LEFT($D12,1)="2",$D$25,0)+IF(LEFT($F12,1)="1",$F$24,0)+IF(LEFT($F12,1)="2",$F$25,0)+IF(LEFT($H12,1)="1",$H$24,0)+IF(LEFT($H12,1)="2",$H$25,0)+IF(LEFT($J12,1)="1",$J$24,0)+IF(LEFT($J12,1)="2",$J$25,0)+IF(LEFT($L12,1)="1",$L$24,0)+IF(LEFT($L12,1)="2",$L$25,0)) | H74: =IF(OR($B74="",$N12=""),"",IF($E12<>"",$D$26,0)+IF($G12<>"",$F$26,0)+IF($I12<>"",$H$26,0)+IF($K12<>"",$J$26,0)+IF($M12<>"",$L$26,0)) | J74: =IF(OR($B74="",$N12=""),"",$F74+$H74) | L74: =IF(OR(OR($B74="",$N12=""),$D74=0),"",$J74/$D74) | N74: =$N12 | O74: =$O12
B75: =$B13 | D75: =IF(OR($B75="",$N13=""),"",IF($E13<>"",1,0)+IF($G13<>"",1,0)+IF($I13<>"",1,0)+IF($K13<>"",1,0)+IF($M13<>"",1,0)) | F75: =IF(OR($B75="",$N13=""),"",IF(LEFT($D13,1)="1",$D$24,0)+IF(LEFT($D13,1)="2",$D$25,0)+IF(LEFT($F13,1)="1",$F$24,0)+IF(LEFT($F13,1)="2",$F$25,0)+IF(LEFT($H13,1)="1",$H$24,0)+IF(LEFT($H13,1)="2",$H$25,0)+IF(LEFT($J13,1)="1",$J$24,0)+IF(LEFT($J13,1)="2",$J$25,0)+IF(LEFT($L13,1)="1",$L$24,0)+IF(LEFT($L13,1)="2",$L$25,0)) | H75: =IF(OR($B75="",$N13=""),"",IF($E13<>"",$D$26,0)+IF($G13<>"",$F$26,0)+IF($I13<>"",$H$26,0)+IF($K13<>"",$J$26,0)+IF($M13<>"",$L$26,0)) | J75: =IF(OR($B75="",$N13=""),"",$F75+$H75) | L75: =IF(OR(OR($B75="",$N13=""),$D75=0),"",$J75/$D75) | N75: =$N13 | O75: =$O13
B76: =$B14 | D76: =IF(OR($B76="",$N14=""),"",IF($E14<>"",1,0)+IF($G14<>"",1,0)+IF($I14<>"",1,0)+IF($K14<>"",1,0)+IF($M14<>"",1,0)) | F76: =IF(OR($B76="",$N14=""),"",IF(LEFT($D14,1)="1",$D$24,0)+IF(LEFT($D14,1)="2",$D$25,0)+IF(LEFT($F14,1)="1",$F$24,0)+IF(LEFT($F14,1)="2",$F$25,0)+IF(LEFT($H14,1)="1",$H$24,0)+IF(LEFT($H14,1)="2",$H$25,0)+IF(LEFT($J14,1)="1",$J$24,0)+IF(LEFT($J14,1)="2",$J$25,0)+IF(LEFT($L14,1)="1",$L$24,0)+IF(LEFT($L14,1)="2",$L$25,0)) | H76: =IF(OR($B76="",$N14=""),"",IF($E14<>"",$D$26,0)+IF($G14<>"",$F$26,0)+IF($I14<>"",$H$26,0)+IF($K14<>"",$J$26,0)+IF($M14<>"",$L$26,0)) | J76: =IF(OR($B76="",$N14=""),"",$F76+$H76) | L76: =IF(OR(OR($B76="",$N14=""),$D76=0),"",$J76/$D76) | N76: =$N14 | O76: =$O14
B77: =$B15 | D77: =IF(OR($B77="",$N15=""),"",IF($E15<>"",1,0)+IF($G15<>"",1,0)+IF($I15<>"",1,0)+IF($K15<>"",1,0)+IF($M15<>"",1,0)) | F77: =IF(OR($B77="",$N15=""),"",IF(LEFT($D15,1)="1",$D$24,0)+IF(LEFT($D15,1)="2",$D$25,0)+IF(LEFT($F15,1)="1",$F$24,0)+IF(LEFT($F15,1)="2",$F$25,0)+IF(LEFT($H15,1)="1",$H$24,0)+IF(LEFT($H15,1)="2",$H$25,0)+IF(LEFT($J15,1)="1",$J$24,0)+IF(LEFT($J15,1)="2",$J$25,0)+IF(LEFT($L15,1)="1",$L$24,0)+IF(LEFT($L15,1)="2",$L$25,0)) | H77: =IF(OR($B77="",$N15=""),"",IF($E15<>"",$D$26,0)+IF($G15<>"",$F$26,0)+IF($I15<>"",$H$26,0)+IF($K15<>"",$J$26,0)+IF($M15<>"",$L$26,0)) | J77: =IF(OR($B77="",$N15=""),"",$F77+$H77) | L77: =IF(OR(OR($B77="",$N15=""),$D77=0),"",$J77/$D77) | N77: =$N15 | O77: =$O15
B78: =$B16 | D78: =IF(OR($B78="",$N16=""),"",IF($E16<>"",1,0)+IF($G16<>"",1,0)+IF($I16<>"",1,0)+IF($K16<>"",1,0)+IF($M16<>"",1,0)) | F78: =IF(OR($B78="",$N16=""),"",IF(LEFT($D16,1)="1",$D$24,0)+IF(LEFT($D16,1)="2",$D$25,0)+IF(LEFT($F16,1)="1",$F$24,0)+IF(LEFT($F16,1)="2",$F$25,0)+IF(LEFT($H16,1)="1",$H$24,0)+IF(LEFT($H16,1)="2",$H$25,0)+IF(LEFT($J16,1)="1",$J$24,0)+IF(LEFT($J16,1)="2",$J$25,0)+IF(LEFT($L16,1)="1",$L$24,0)+IF(LEFT($L16,1)="2",$L$25,0)) | H78: =IF(OR($B78="",$N16=""),"",IF($E16<>"",$D$26,0)+IF($G16<>"",$F$26,0)+IF($I16<>"",$H$26,0)+IF($K16<>"",$J$26,0)+IF($M16<>"",$L$26,0)) | J78: =IF(OR($B78="",$N16=""),"",$F78+$H78) | L78: =IF(OR(OR($B78="",$N16=""),$D78=0),"",$J78/$D78) | N78: =$N16 | O78: =$O16
B79: =$B17 | D79: =IF(OR($B79="",$N17=""),"",IF($E17<>"",1,0)+IF($G17<>"",1,0)+IF($I17<>"",1,0)+IF($K17<>"",1,0)+IF($M17<>"",1,0)) | F79: =IF(OR($B79="",$N17=""),"",IF(LEFT($D17,1)="1",$D$24,0)+IF(LEFT($D17,1)="2",$D$25,0)+IF(LEFT($F17,1)="1",$F$24,0)+IF(LEFT($F17,1)="2",$F$25,0)+IF(LEFT($H17,1)="1",$H$24,0)+IF(LEFT($H17,1)="2",$H$25,0)+IF(LEFT($J17,1)="1",$J$24,0)+IF(LEFT($J17,1)="2",$J$25,0)+IF(LEFT($L17,1)="1",$L$24,0)+IF(LEFT($L17,1)="2",$L$25,0)) | H79: =IF(OR($B79="",$N17=""),"",IF($E17<>"",$D$26,0)+IF($G17<>"",$F$26,0)+IF($I17<>"",$H$26,0)+IF($K17<>"",$J$26,0)+IF($M17<>"",$L$26,0)) | J79: =IF(OR($B79="",$N17=""),"",$F79+$H79) | L79: =IF(OR(OR($B79="",$N17=""),$D79=0),"",$J79/$D79) | N79: =$N17 | O79: =$O17
B80: =$B18 | D80: =IF(OR($B80="",$N18=""),"",IF($E18<>"",1,0)+IF($G18<>"",1,0)+IF($I18<>"",1,0)+IF($K18<>"",1,0)+IF($M18<>"",1,0)) | F80: =IF(OR($B80="",$N18=""),"",IF(LEFT($D18,1)="1",$D$24,0)+IF(LEFT($D18,1)="2",$D$25,0)+IF(LEFT($F18,1)="1",$F$24,0)+IF(LEFT($F18,1)="2",$F$25,0)+IF(LEFT($H18,1)="1",$H$24,0)+IF(LEFT($H18,1)="2",$H$25,0)+IF(LEFT($J18,1)="1",$J$24,0)+IF(LEFT($J18,1)="2",$J$25,0)+IF(LEFT($L18,1)="1",$L$24,0)+IF(LEFT($L18,1)="2",$L$25,0)) | H80: =IF(OR($B80="",$N18=""),"",IF($E18<>"",$D$26,0)+IF($G18<>"",$F$26,0)+IF($I18<>"",$H$26,0)+IF($K18<>"",$J$26,0)+IF($M18<>"",$L$26,0)) | J80: =IF(OR($B80="",$N18=""),"",$F80+$H80) | L80: =IF(OR(OR($B80="",$N18=""),$D80=0),"",$J80/$D80) | N80: =$N18 | O80: =$O18
B81: =$B19 | D81: =IF(OR($B81="",$N19=""),"",IF($E19<>"",1,0)+IF($G19<>"",1,0)+IF($I19<>"",1,0)+IF($K19<>"",1,0)+IF($M19<>"",1,0)) | F81: =IF(OR($B81="",$N19=""),"",IF(LEFT($D19,1)="1",$D$24,0)+IF(LEFT($D19,1)="2",$D$25,0)+IF(LEFT($F19,1)="1",$F$24,0)+IF(LEFT($F19,1)="2",$F$25,0)+IF(LEFT($H19,1)="1",$H$24,0)+IF(LEFT($H19,1)="2",$H$25,0)+IF(LEFT($J19,1)="1",$J$24,0)+IF(LEFT($J19,1)="2",$J$25,0)+IF(LEFT($L19,1)="1",$L$24,0)+IF(LEFT($L19,1)="2",$L$25,0)) | H81: =IF(OR($B81="",$N19=""),"",IF($E19<>"",$D$26,0)+IF($G19<>"",$F$26,0)+IF($I19<>"",$H$26,0)+IF($K19<>"",$J$26,0)+IF($M19<>"",$L$26,0)) | J81: =IF(OR($B81="",$N19=""),"",$F81+$H81) | L81: =IF(OR(OR($B81="",$N19=""),$D81=0),"",$J81/$D81) | N81: =$N19 | O81: =$O19
A83: SVEČIŲ KOMANDA | C83: =IF(Protokolas!$A$32="","",Protokolas!$A$32)
B84: =$B32 | D84: =IF(OR($B84="",$N32=""),"",IF($E32<>"",1,0)+IF($G32<>"",1,0)+IF($I32<>"",1,0)+IF($K32<>"",1,0)+IF($M32<>"",1,0)) | F84: =IF(OR($B84="",$N32=""),"",IF(LEFT($D32,1)="1",$D$44,0)+IF(LEFT($D32,1)="2",$D$45,0)+IF(LEFT($F32,1)="1",$F$44,0)+IF(LEFT($F32,1)="2",$F$45,0)+IF(LEFT($H32,1)="1",$H$44,0)+IF(LEFT($H32,1)="2",$H$45,0)+IF(LEFT($J32,1)="1",$J$44,0)+IF(LEFT($J32,1)="2",$J$45,0)+IF(LEFT($L32,1)="1",$L$44,0)+IF(LEFT($L32,1)="2",$L$45,0)) | H84: =IF(OR($B84="",$N32=""),"",IF($E32<>"",$D$46,0)+IF($G32<>"",$F$46,0)+IF($I32<>"",$H$46,0)+IF($K32<>"",$J$46,0)+IF($M32<>"",$L$46,0)) | J84: =IF(OR($B84="",$N32=""),"",$F84+$H84) | L84: =IF(OR(OR($B84="",$N32=""),$D84=0),"",$J84/$D84) | N84: =$N32 | O84: =$O32
B85: =$B33 | D85: =IF(OR($B85="",$N33=""),"",IF($E33<>"",1,0)+IF($G33<>"",1,0)+IF($I33<>"",1,0)+IF($K33<>"",1,0)+IF($M33<>"",1,0)) | F85: =IF(OR($B85="",$N33=""),"",IF(LEFT($D33,1)="1",$D$44,0)+IF(LEFT($D33,1)="2",$D$45,0)+IF(LEFT($F33,1)="1",$F$44,0)+IF(LEFT($F33,1)="2",$F$45,0)+IF(LEFT($H33,1)="1",$H$44,0)+IF(LEFT($H33,1)="2",$H$45,0)+IF(LEFT($J33,1)="1",$J$44,0)+IF(LEFT($J33,1)="2",$J$45,0)+IF(LEFT($L33,1)="1",$L$44,0)+IF(LEFT($L33,1)="2",$L$45,0)) | H85: =IF(OR($B85="",$N33=""),"",IF($E33<>"",$D$46,0)+IF($G33<>"",$F$46,0)+IF($I33<>"",$H$46,0)+IF($K33<>"",$J$46,0)+IF($M33<>"",$L$46,0)) | J85: =IF(OR($B85="",$N33=""),"",$F85+$H85) | L85: =IF(OR(OR($B85="",$N33=""),$D85=0),"",$J85/$D85) | N85: =$N33 | O85: =$O33
B86: =$B34 | D86: =IF(OR($B86="",$N34=""),"",IF($E34<>"",1,0)+IF($G34<>"",1,0)+IF($I34<>"",1,0)+IF($K34<>"",1,0)+IF($M34<>"",1,0)) | F86: =IF(OR($B86="",$N34=""),"",IF(LEFT($D34,1)="1",$D$44,0)+IF(LEFT($D34,1)="2",$D$45,0)+IF(LEFT($F34,1)="1",$F$44,0)+IF(LEFT($F34,1)="2",$F$45,0)+IF(LEFT($H34,1)="1",$H$44,0)+IF(LEFT($H34,1)="2",$H$45,0)+IF(LEFT($J34,1)="1",$J$44,0)+IF(LEFT($J34,1)="2",$J$45,0)+IF(LEFT($L34,1)="1",$L$44,0)+IF(LEFT($L34,1)="2",$L$45,0)) | H86: =IF(OR($B86="",$N34=""),"",IF($E34<>"",$D$46,0)+IF($G34<>"",$F$46,0)+IF($I34<>"",$H$46,0)+IF($K34<>"",$J$46,0)+IF($M34<>"",$L$46,0)) | J86: =IF(OR($B86="",$N34=""),"",$F86+$H86) | L86: =IF(OR(OR($B86="",$N34=""),$D86=0),"",$J86/$D86) | N86: =$N34 | O86: =$O34
B87: =$B35 | D87: =IF(OR($B87="",$N35=""),"",IF($E35<>"",1,0)+IF($G35<>"",1,0)+IF($I35<>"",1,0)+IF($K35<>"",1,0)+IF($M35<>"",1,0)) | F87: =IF(OR($B87="",$N35=""),"",IF(LEFT($D35,1)="1",$D$44,0)+IF(LEFT($D35,1)="2",$D$45,0)+IF(LEFT($F35,1)="1",$F$44,0)+IF(LEFT($F35,1)="2",$F$45,0)+IF(LEFT($H35,1)="1",$H$44,0)+IF(LEFT($H35,1)="2",$H$45,0)+IF(LEFT($J35,1)="1",$J$44,0)+IF(LEFT($J35,1)="2",$J$45,0)+IF(LEFT($L35,1)="1",$L$44,0)+IF(LEFT($L35,1)="2",$L$45,0)) | H87: =IF(OR($B87="",$N35=""),"",IF($E35<>"",$D$46,0)+IF($G35<>"",$F$46,0)+IF($I35<>"",$H$46,0)+IF($K35<>"",$J$46,0)+IF($M35<>"",$L$46,0)) | J87: =IF(OR($B87="",$N35=""),"",$F87+$H87) | L87: =IF(OR(OR($B87="",$N35=""),$D87=0),"",$J87/$D87) | N87: =$N35 | O87: =$O35
B88: =$B36 | D88: =IF(OR($B88="",$N36=""),"",IF($E36<>"",1,0)+IF($G36<>"",1,0)+IF($I36<>"",1,0)+IF($K36<>"",1,0)+IF($M36<>"",1,0)) | F88: =IF(OR($B88="",$N36=""),"",IF(LEFT($D36,1)="1",$D$44,0)+IF(LEFT($D36,1)="2",$D$45,0)+IF(LEFT($F36,1)="1",$F$44,0)+IF(LEFT($F36,1)="2",$F$45,0)+IF(LEFT($H36,1)="1",$H$44,0)+IF(LEFT($H36,1)="2",$H$45,0)+IF(LEFT($J36,1)="1",$J$44,0)+IF(LEFT($J36,1)="2",$J$45,0)+IF(LEFT($L36,1)="1",$L$44,0)+IF(LEFT($L36,1)="2",$L$45,0)) | H88: =IF(OR($B88="",$N36=""),"",IF($E36<>"",$D$46,0)+IF($G36<>"",$F$46,0)+IF($I36<>"",$H$46,0)+IF($K36<>"",$J$46,0)+IF($M36<>"",$L$46,0)) | J88: =IF(OR($B88="",$N36=""),"",$F88+$H88) | L88: =IF(OR(OR($B88="",$N36=""),$D88=0),"",$J88/$D88) | N88: =$N36 | O88: =$O36
B89: =$B37 | D89: =IF(OR($B89="",$N37=""),"",IF($E37<>"",1,0)+IF($G37<>"",1,0)+IF($I37<>"",1,0)+IF($K37<>"",1,0)+IF($M37<>"",1,0)) | F89: =IF(OR($B89="",$N37=""),"",IF(LEFT($D37,1)="1",$D$44,0)+IF(LEFT($D37,1)="2",$D$45,0)+IF(LEFT($F37,1)="1",$F$44,0)+IF(LEFT($F37,1)="2",$F$45,0)+IF(LEFT($H37,1)="1",$H$44,0)+IF(LEFT($H37,1)="2",$H$45,0)+IF(LEFT($J37,1)="1",$J$44,0)+IF(LEFT($J37,1)="2",$J$45,0)+IF(LEFT($L37,1)="1",$L$44,0)+IF(LEFT($L37,1)="2",$L$45,0)) | H89: =IF(OR($B89="",$N37=""),"",IF($E37<>"",$D$46,0)+IF($G37<>"",$F$46,0)+IF($I37<>"",$H$46,0)+IF($K37<>"",$J$46,0)+IF($M37<>"",$L$46,0)) | J89: =IF(OR($B89="",$N37=""),"",$F89+$H89) | L89: =IF(OR(OR($B89="",$N37=""),$D89=0),"",$J89/$D89) | N89: =$N37 | O89: =$O37
B90: =$B38 | D90: =IF(OR($B90="",$N38=""),"",IF($E38<>"",1,0)+IF($G38<>"",1,0)+IF($I38<>"",1,0)+IF($K38<>"",1,0)+IF($M38<>"",1,0)) | F90: =IF(OR($B90="",$N38=""),"",IF(LEFT($D38,1)="1",$D$44,0)+IF(LEFT($D38,1)="2",$D$45,0)+IF(LEFT($F38,1)="1",$F$44,0)+IF(LEFT($F38,1)="2",$F$45,0)+IF(LEFT($H38,1)="1",$H$44,0)+IF(LEFT($H38,1)="2",$H$45,0)+IF(LEFT($J38,1)="1",$J$44,0)+IF(LEFT($J38,1)="2",$J$45,0)+IF(LEFT($L38,1)="1",$L$44,0)+IF(LEFT($L38,1)="2",$L$45,0)) | H90: =IF(OR($B90="",$N38=""),"",IF($E38<>"",$D$46,0)+IF($G38<>"",$F$46,0)+IF($I38<>"",$H$46,0)+IF($K38<>"",$J$46,0)+IF($M38<>"",$L$46,0)) | J90: =IF(OR($B90="",$N38=""),"",$F90+$H90) | L90: =IF(OR(OR($B90="",$N38=""),$D90=0),"",$J90/$D90) | N90: =$N38 | O90: =$O38
B91: =$B39 | D91: =IF(OR($B91="",$N39=""),"",IF($E39<>"",1,0)+IF($G39<>"",1,0)+IF($I39<>"",1,0)+IF($K39<>"",1,0)+IF($M39<>"",1,0)) | F91: =IF(OR($B91="",$N39=""),"",IF(LEFT($D39,1)="1",$D$44,0)+IF(LEFT($D39,1)="2",$D$45,0)+IF(LEFT($F39,1)="1",$F$44,0)+IF(LEFT($F39,1)="2",$F$45,0)+IF(LEFT($H39,1)="1",$H$44,0)+IF(LEFT($H39,1)="2",$H$45,0)+IF(LEFT($J39,1)="1",$J$44,0)+IF(LEFT($J39,1)="2",$J$45,0)+IF(LEFT($L39,1)="1",$L$44,0)+IF(LEFT($L39,1)="2",$L$45,0)) | H91: =IF(OR($B91="",$N39=""),"",IF($E39<>"",$D$46,0)+IF($G39<>"",$F$46,0)+IF($I39<>"",$H$46,0)+IF($K39<>"",$J$46,0)+IF($M39<>"",$L$46,0)) | J91: =IF(OR($B91="",$N39=""),"",$F91+$H91) | L91: =IF(OR(OR($B91="",$N39=""),$D91=0),"",$J91/$D91) | N91: =$N39 | O91: =$O39

Sheet Protokolas
C1: Lietuvos Boulingo Federacija | I1: =IF(COUNTIF($I$3:$I$55,"?*")>0,"PROTOKOLAS DAR NEUŽPILDYTAS – žr. raudonas žymas žemiau","") -> PROTOKOLAS DAR NEUŽPILDYTAS – žr. raudonas žymas žemiau | M1: =AND(OR($A$1="B",$A$1="C"),ISNUMBER(SEARCH("Kvalifikacijos",$C$5))) -> FALSE
C2: www.lbf-bowling.lt | M2: =IF($M$1,TRIM($G$5),"")
C3: LBL VARŽYBŲ PROTOKOLAS | M3: =COUNTIF($I$3:$I$55,"?*")=0 -> FALSE
A5: ETAPAS | F5: POGRUPIS | I5: =IF(TRIM(Etapas)="","← Pasirinkite varžybų etapą iš sąrašo",IF(AND(PogrupioReikia,TRIM($G$5)=""),"← Kvalifikacijos etape pasirinkite pogrupį (Rytai / Vakarai)",IF(AND(NOT(PogrupioReikia),TRIM($G$5)<>""),"← Šiam etapui/lygai pogrupio nereikia – ištrinkite lauką",""))) -> ← Pasirinkite varžybų etapą iš sąrašo
A7: =IF(Lyga="","← Pasirinkite lygą","Lietuvos boulingo "&Lyga&" lyga"&IF(Pogrupis="",""," ("&Pogrupis&")")&IF(TRIM(Etapas)="",""," – "&TRIM(Etapas))) -> ← Pasirinkite lygą
A9: RUNGTYNIŲ DATA | I9: =IF(NOT(ISNUMBER($D$9)),"← Įveskite rungtynių datą (yyyy-mm-dd)","") -> ← Įveskite rungtynių datą (yyyy-mm-dd)
A11: RUNGTYNIŲ VIETA | I11: =IF($D$11="","← Pasirinkite boulingo centrą iš sąrašo (neradus – įrašykite pavadinimą)","") -> ← Pasirinkite boulingo centrą iš sąrašo (neradus – įrašykite pavadinimą)
A13: RUNGTYNIŲ TEISĖJAS | I13: =IF(OR($D$13="",IFERROR(FIND(" ",TRIM($D$13)),0)=0),"← Įrašykite teisėjo vardą ir pavardę","") -> ← Įrašykite teisėjo vardą ir pavardę
D15: 1 takas | E15: 2 takas | F15: 3 takas | G15: 4 takas
A16: TAKELIAI (iš kairės į dešinę) | I16: =IF(COUNT($D$16:$G$16)<>4,"← Įrašykite visų 4 takelių numerius",IF(OR($D$16>=$E$16,$E$16>=$F$16,$F$16>=$G$16),"← Takelius surašykite didėjančia tvarka: nuo kairiausio iki dešiniausio","")) -> ← Įrašykite visų 4 takelių numerius
A18: ŠEIMININKAI (namų komanda)
I19: =IF($A$19="","← Pasirinkite komandą iš sąrašo",IF($A$19=$A$32,"← Šeimininkų ir svečių komanda negali būti ta pati",IF(COUNTIF(Komandos_Aktyvios,"?*")=0,"← Šiai lygai/pogrupiui komandų dar nėra – ADMIN_Duomenys lape komandoms nenurodytas pogrupis (Rytai / Vakarai)",IF(COUNTIF(Komandos_Aktyvios,$A$19)=0,"← Ši komanda nepriklauso pasirinktai lygai/pogrupiui – pasirinkite iš naujo","")))) -> ← Pasirinkite komandą iš sąrašo
A20: Nr. | B20: Vardas, Pavardė | C20: Hcp | D20: Pora ir takas (apibraukite): 1p = 1 pora, 3t = 3 takas
D21: Partija 1 | F21: Partija 4
A22: =IF($B22="","",1) | B22: =IFERROR(INDEX(Zaidejai_Vardas,MATCH(Lyga&"|"&$A$19&"|"&1,Zaidejai_Raktas,0)),"") | C22: =IFERROR(INDEX(Zaidejai_Hcp,MATCH(Lyga&"|"&$A$19&"|"&1,Zaidejai_Raktas,0)),"") | D22: =IF(OR($B22="",$D$16=""),"","1p "&$D$16&"t") | E22: =IF(OR($B22="",$F$16=""),"","2p "&$F$16&"t") | F22: =IF(OR($B22="",$E$16=""),"","1p "&$E$16&"t") | G22: =IF(OR($B22="",$G$16=""),"","2p "&$G$16&"t") | I22: =IF($B22<>"","",IF(COUNTIF($B$22:$B$29,"?*")=0,IF(1=1,"← Pasirinkite komandą – sudėtis užsipildys automatiškai",""),IF(AND(1=1,COUNTIF($B$22:$B$29,"?*")<3),"← Komandoje turi būti bent 3 žaidėjai (patikrinkite ADMIN_Duomenys lapą)",""))) -> ← Pasirinkite komandą – sudėtis užsipildys automatiškai
A23: =IF($B23="","",2) | B23: =IFERROR(INDEX(Zaidejai_Vardas,MATCH(Lyga&"|"&$A$19&"|"&2,Zaidejai_Raktas,0)),"") | C23: =IFERROR(INDEX(Zaidejai_Hcp,MATCH(Lyga&"|"&$A$19&"|"&2,Zaidejai_Raktas,0)),"") | D23: =IF(OR($B23="",$D$16=""),"","1p "&$D$16&"t") | E23: =IF(OR($B23="",$F$16=""),"","2p "&$F$16&"t") | F23: =IF(OR($B23="",$E$16=""),"","1p "&$E$16&"t") | G23: =IF(OR($B23="",$G$16=""),"","2p "&$G$16&"t") | I23: =IF($B23<>"","",IF(COUNTIF($B$22:$B$29,"?*")=0,IF(2=1,"← Pasirinkite komandą – sudėtis užsipildys automatiškai",""),IF(AND(2=1,COUNTIF($B$22:$B$29,"?*")<3),"← Komandoje turi būti bent 3 žaidėjai (patikrinkite ADMIN_Duomenys lapą)","")))
A24: =IF($B24="","",3) | B24: =IFERROR(INDEX(Zaidejai_Vardas,MATCH(Lyga&"|"&$A$19&"|"&3,Zaidejai_Raktas,0)),"") | C24: =IFERROR(INDEX(Zaidejai_Hcp,MATCH(Lyga&"|"&$A$19&"|"&3,Zaidejai_Raktas,0)),"") | D24: =IF(OR($B24="",$D$16=""),"","1p "&$D$16&"t") | E24: =IF(OR($B24="",$F$16=""),"","2p "&$F$16&"t") | F24: =IF(OR($B24="",$E$16=""),"","1p "&$E$16&"t") | G24: =IF(OR($B24="",$G$16=""),"","2p "&$G$16&"t") | I24: =IF($B24<>"","",IF(COUNTIF($B$22:$B$29,"?*")=0,IF(3=1,"← Pasirinkite komandą – sudėtis užsipildys automatiškai",""),IF(AND(3=1,COUNTIF($B$22:$B$29,"?*")<3),"← Komandoje turi būti bent 3 žaidėjai (patikrinkite ADMIN_Duomenys lapą)","")))
A25: =IF($B25="","",4) | B25: =IFERROR(INDEX(Zaidejai_Vardas,MATCH(Lyga&"|"&$A$19&"|"&4,Zaidejai_Raktas,0)),"") | C25: =IFERROR(INDEX(Zaidejai_Hcp,MATCH(Lyga&"|"&$A$19&"|"&4,Zaidejai_Raktas,0)),"") | D25: =IF(OR($B25="",$D$16=""),"","1p "&$D$16&"t") | E25: =IF(OR($B25="",$F$16=""),"","2p "&$F$16&"t") | F25: =IF(OR($B25="",$E$16=""),"","1p "&$E$16&"t") | G25: =IF(OR($B25="",$G$16=""),"","2p "&$G$16&"t") | I25: =IF($B25<>"","",IF(COUNTIF($B$22:$B$29,"?*")=0,IF(4=1,"← Pasirinkite komandą – sudėtis užsipildys automatiškai",""),IF(AND(4=1,COUNTIF($B$22:$B$29,"?*")<3),"← Komandoje turi būti bent 3 žaidėjai (patikrinkite ADMIN_Duomenys lapą)","")))
A26: =IF($B26="","",5) | B26: =IFERROR(INDEX(Zaidejai_Vardas,MATCH(Lyga&"|"&$A$19&"|"&5,Zaidejai_Raktas,0)),"") | C26: =IFERROR(INDEX(Zaidejai_Hcp,MATCH(Lyga&"|"&$A$19&"|"&5,Zaidejai_Raktas,0)),"") | D26: =IF(OR($B26="",$D$16=""),"","1p "&$D$16&"t") | E26: =IF(OR($B26="",$F$16=""),"","2p "&$F$16&"t") | F26: =IF(OR($B26="",$E$16=""),"","1p "&$E$16&"t") | G26: =IF(OR($B26="",$G$16=""),"","2p "&$G$16&"t") | I26: =IF($B26<>"","",IF(COUNTIF($B$22:$B$29,"?*")=0,IF(5=1,"← Pasirinkite komandą – sudėtis užsipildys automatiškai",""),IF(AND(5=1,COUNTIF($B$22:$B$29,"?*")<3),"← Komandoje turi būti bent 3 žaidėjai (patikrinkite ADMIN_Duomenys lapą)","")))
A27: =IF($B27="","",6) | B27: =IFERROR(INDEX(Zaidejai_Vardas,MATCH(Lyga&"|"&$A$19&"|"&6,Zaidejai_Raktas,0)),"") | C27: =IFERROR(INDEX(Zaidejai_Hcp,MATCH(Lyga&"|"&$A$19&"|"&6,Zaidejai_Raktas,0)),"") | D27: =IF(OR($B27="",$D$16=""),"","1p "&$D$16&"t") | E27: =IF(OR($B27="",$F$16=""),"","2p "&$F$16&"t") | F27: =IF(OR($B27="",$E$16=""),"","1p "&$E$16&"t") | G27: =IF(OR($B27="",$G$16=""),"","2p "&$G$16&"t") | I27: =IF($B27<>"","",IF(COUNTIF($B$22:$B$29,"?*")=0,IF(6=1,"← Pasirinkite komandą – sudėtis užsipildys automatiškai",""),IF(AND(6=1,COUNTIF($B$22:$B$29,"?*")<3),"← Komandoje turi būti bent 3 žaidėjai (patikrinkite ADMIN_Duomenys lapą)","")))
A28: =IF($B28="","",7) | B28: =IFERROR(INDEX(Zaidejai_Vardas,MATCH(Lyga&"|"&$A$19&"|"&7,Zaidejai_Raktas,0)),"") | C28: =IFERROR(INDEX(Zaidejai_Hcp,MATCH(Lyga&"|"&$A$19&"|"&7,Zaidejai_Raktas,0)),"") | D28: =IF(OR($B28="",$D$16=""),"","1p "&$D$16&"t") | E28: =IF(OR($B28="",$F$16=""),"","2p "&$F$16&"t") | F28: =IF(OR($B28="",$E$16=""),"","1p "&$E$16&"t") | G28: =IF(OR($B28="",$G$16=""),"","2p "&$G$16&"t") | I28: =IF($B28<>"","",IF(COUNTIF($B$22:$B$29,"?*")=0,IF(7=1,"← Pasirinkite komandą – sudėtis užsipildys automatiškai",""),IF(AND(7=1,COUNTIF($B$22:$B$29,"?*")<3),"← Komandoje turi būti bent 3 žaidėjai (patikrinkite ADMIN_Duomenys lapą)","")))
A29: =IF($B29="","",8) | B29: =IFERROR(INDEX(Zaidejai_Vardas,MATCH(Lyga&"|"&$A$19&"|"&8,Zaidejai_Raktas,0)),"") | C29: =IFERROR(INDEX(Zaidejai_Hcp,MATCH(Lyga&"|"&$A$19&"|"&8,Zaidejai_Raktas,0)),"") | D29: =IF(OR($B29="",$D$16=""),"","1p "&$D$16&"t") | E29: =IF(OR($B29="",$F$16=""),"","2p "&$F$16&"t") | F29: =IF(OR($B29="",$E$16=""),"","1p "&$E$16&"t") | G29: =IF(OR($B29="",$G$16=""),"","2p "&$G$16&"t") | I29: =IF($B29<>"","",IF(COUNTIF($B$22:$B$29,"?*")=0,IF(8=1,"← Pasirinkite komandą – sudėtis užsipildys automatiškai",""),IF(AND(8=1,COUNTIF($B$22:$B$29,"?*")<3),"← Komandoje turi būti bent 3 žaidėjai (patikrinkite ADMIN_Duomenys lapą)","")))
A31: SVEČIAI (svečių komanda)
I32: =IF($A$32="","← Pasirinkite komandą iš sąrašo",IF($A$32=$A$19,"← Šeimininkų ir svečių komanda negali būti ta pati",IF(COUNTIF(Komandos_Aktyvios,"?*")=0,"← Šiai lygai/pogrupiui komandų dar nėra – ADMIN_Duomenys lape komandoms nenurodytas pogrupis (Rytai / Vakarai)",IF(COUNTIF(Komandos_Aktyvios,$A$32)=0,"← Ši komanda nepriklauso pasirinktai lygai/pogrupiui – pasirinkite iš naujo","")))) -> ← Pasirinkite komandą iš sąrašo
A33: Nr. | B33: Vardas, Pavardė | C33: Hcp | D33: Pora ir takas (apibraukite): 1p = 1 pora, 3t = 3 takas
D34: Partija 1 | F34: Partija 4
A35: =IF($B35="","",1) | B35: =IFERROR(INDEX(Zaidejai_Vardas,MATCH(Lyga&"|"&$A$32&"|"&1,Zaidejai_Raktas,0)),"") | C35: =IFERROR(INDEX(Zaidejai_Hcp,MATCH(Lyga&"|"&$A$32&"|"&1,Zaidejai_Raktas,0)),"") | D35: =IF(OR($B35="",$E$16=""),"","1p "&$E$16&"t") | E35: =IF(OR($B35="",$G$16=""),"","2p "&$G$16&"t") | F35: =IF(OR($B35="",$D$16=""),"","1p "&$D$16&"t") | G35: =IF(OR($B35="",$F$16=""),"","2p "&$F$16&"t") | I35: =IF($B35<>"","",IF(COUNTIF($B$35:$B$42,"?*")=0,IF(1=1,"← Pasirinkite komandą – sudėtis užsipildys automatiškai",""),IF(AND(1=1,COUNTIF($B$35:$B$42,"?*")<3),"← Komandoje turi būti bent 3 žaidėjai (patikrinkite ADMIN_Duomenys lapą)",""))) -> ← Pasirinkite komandą – sudėtis užsipildys automatiškai
A36: =IF($B36="","",2) | B36: =IFERROR(INDEX(Zaidejai_Vardas,MATCH(Lyga&"|"&$A$32&"|"&2,Zaidejai_Raktas,0)),"") | C36: =IFERROR(INDEX(Zaidejai_Hcp,MATCH(Lyga&"|"&$A$32&"|"&2,Zaidejai_Raktas,0)),"") | D36: =IF(OR($B36="",$E$16=""),"","1p "&$E$16&"t") | E36: =IF(OR($B36="",$G$16=""),"","2p "&$G$16&"t") | F36: =IF(OR($B36="",$D$16=""),"","1p "&$D$16&"t") | G36: =IF(OR($B36="",$F$16=""),"","2p "&$F$16&"t") | I36: =IF($B36<>"","",IF(COUNTIF($B$35:$B$42,"?*")=0,IF(2=1,"← Pasirinkite komandą – sudėtis užsipildys automatiškai",""),IF(AND(2=1,COUNTIF($B$35:$B$42,"?*")<3),"← Komandoje turi būti bent 3 žaidėjai (patikrinkite ADMIN_Duomenys lapą)","")))
A37: =IF($B37="","",3) | B37: =IFERROR(INDEX(Zaidejai_Vardas,MATCH(Lyga&"|"&$A$32&"|"&3,Zaidejai_Raktas,0)),"") | C37: =IFERROR(INDEX(Zaidejai_Hcp,MATCH(Lyga&"|"&$A$32&"|"&3,Zaidejai_Raktas,0)),"") | D37: =IF(OR($B37="",$E$16=""),"","1p "&$E$16&"t") | E37: =IF(OR($B37="",$G$16=""),"","2p "&$G$16&"t") | F37: =IF(OR($B37="",$D$16=""),"","1p "&$D$16&"t") | G37: =IF(OR($B37="",$F$16=""),"","2p "&$F$16&"t") | I37: =IF($B37<>"","",IF(COUNTIF($B$35:$B$42,"?*")=0,IF(3=1,"← Pasirinkite komandą – sudėtis užsipildys automatiškai",""),IF(AND(3=1,COUNTIF($B$35:$B$42,"?*")<3),"← Komandoje turi būti bent 3 žaidėjai (patikrinkite ADMIN_Duomenys lapą)","")))
A38: =IF($B38="","",4) | B38: =IFERROR(INDEX(Zaidejai_Vardas,MATCH(Lyga&"|"&$A$32&"|"&4,Zaidejai_Raktas,0)),"") | C38: =IFERROR(INDEX(Zaidejai_Hcp,MATCH(Lyga&"|"&$A$32&"|"&4,Zaidejai_Raktas,0)),"") | D38: =IF(OR($B38="",$E$16=""),"","1p "&$E$16&"t") | E38: =IF(OR($B38="",$G$16=""),"","2p "&$G$16&"t") | F38: =IF(OR($B38="",$D$16=""),"","1p "&$D$16&"t") | G38: =IF(OR($B38="",$F$16=""),"","2p "&$F$16&"t") | I38: =IF($B38<>"","",IF(COUNTIF($B$35:$B$42,"?*")=0,IF(4=1,"← Pasirinkite komandą – sudėtis užsipildys automatiškai",""),IF(AND(4=1,COUNTIF($B$35:$B$42,"?*")<3),"← Komandoje turi būti bent 3 žaidėjai (patikrinkite ADMIN_Duomenys lapą)","")))
A39: =IF($B39="","",5) | B39: =IFERROR(INDEX(Zaidejai_Vardas,MATCH(Lyga&"|"&$A$32&"|"&5,Zaidejai_Raktas,0)),"") | C39: =IFERROR(INDEX(Zaidejai_Hcp,MATCH(Lyga&"|"&$A$32&"|"&5,Zaidejai_Raktas,0)),"") | D39: =IF(OR($B39="",$E$16=""),"","1p "&$E$16&"t") | E39: =IF(OR($B39="",$G$16=""),"","2p "&$G$16&"t") | F39: =IF(OR($B39="",$D$16=""),"","1p "&$D$16&"t") | G39: =IF(OR($B39="",$F$16=""),"","2p "&$F$16&"t") | I39: =IF($B39<>"","",IF(COUNTIF($B$35:$B$42,"?*")=0,IF(5=1,"← Pasirinkite komandą – sudėtis užsipildys automatiškai",""),IF(AND(5=1,COUNTIF($B$35:$B$42,"?*")<3),"← Komandoje turi būti bent 3 žaidėjai (patikrinkite ADMIN_Duomenys lapą)","")))
A40: =IF($B40="","",6) | B40: =IFERROR(INDEX(Zaidejai_Vardas,MATCH(Lyga&"|"&$A$32&"|"&6,Zaidejai_Raktas,0)),"") | C40: =IFERROR(INDEX(Zaidejai_Hcp,MATCH(Lyga&"|"&$A$32&"|"&6,Zaidejai_Raktas,0)),"") | D40: =IF(OR($B40="",$E$16=""),"","1p "&$E$16&"t") | E40: =IF(OR($B40="",$G$16=""),"","2p "&$G$16&"t") | F40: =IF(OR($B40="",$D$16=""),"","1p "&$D$16&"t") | G40: =IF(OR($B40="",$F$16=""),"","2p "&$F$16&"t") | I40: =IF($B40<>"","",IF(COUNTIF($B$35:$B$42,"?*")=0,IF(6=1,"← Pasirinkite komandą – sudėtis užsipildys automatiškai",""),IF(AND(6=1,COUNTIF($B$35:$B$42,"?*")<3),"← Komandoje turi būti bent 3 žaidėjai (patikrinkite ADMIN_Duomenys lapą)","")))
A41: =IF($B41="","",7) | B41: =IFERROR(INDEX(Zaidejai_Vardas,MATCH(Lyga&"|"&$A$32&"|"&7,Zaidejai_Raktas,0)),"") | C41: =IFERROR(INDEX(Zaidejai_Hcp,MATCH(Lyga&"|"&$A$32&"|"&7,Zaidejai_Raktas,0)),"") | D41: =IF(OR($B41="",$E$16=""),"","1p "&$E$16&"t") | E41: =IF(OR($B41="",$G$16=""),"","2p "&$G$16&"t") | F41: =IF(OR($B41="",$D$16=""),"","1p "&$D$16&"t") | G41: =IF(OR($B41="",$F$16=""),"","2p "&$F$16&"t") | I41: =IF($B41<>"","",IF(COUNTIF($B$35:$B$42,"?*")=0,IF(7=1,"← Pasirinkite komandą – sudėtis užsipildys automatiškai",""),IF(AND(7=1,COUNTIF($B$35:$B$42,"?*")<3),"← Komandoje turi būti bent 3 žaidėjai (patikrinkite ADMIN_Duomenys lapą)","")))
A42: =IF($B42="","",8) | B42: =IFERROR(INDEX(Zaidejai_Vardas,MATCH(Lyga&"|"&$A$32&"|"&8,Zaidejai_Raktas,0)),"") | C42: =IFERROR(INDEX(Zaidejai_Hcp,MATCH(Lyga&"|"&$A$32&"|"&8,Zaidejai_Raktas,0)),"") | D42: =IF(OR($B42="",$E$16=""),"","1p "&$E$16&"t") | E42: =IF(OR($B42="",$G$16=""),"","2p "&$G$16&"t") | F42: =IF(OR($B42="",$D$16=""),"","1p "&$D$16&"t") | G42: =IF(OR($B42="",$F$16=""),"","2p "&$F$16&"t") | I42: =IF($B42<>"","",IF(COUNTIF($B$35:$B$42,"?*")=0,IF(8=1,"← Pasirinkite komandą – sudėtis užsipildys automatiškai",""),IF(AND(8=1,COUNTIF($B$35:$B$42,"?*")<3),"← Komandoje turi būti bent 3 žaidėjai (patikrinkite ADMIN_Duomenys lapą)","")))
A44: KAPITONŲ PASTABOS (pildoma ranka varžybų metu)
A45: Šeimininkų kapitonas | D45: Svečių kapitonas
A50: Šeimininkų kapitonas | D50: Svečių kapitonas
C51: (parašas) | F51: (parašas)
A53: Rungtynių teisėjas
C54: (parašas)

Sheet Žaidimo schema
A1: LBL ŽAIDIMO SCHEMA (informacinis lapas)
A3: Legenda ir taisyklės
A4: • Žaidimo takai schemoje nurodyti eilės tvarka IŠ KAIRĖS Į DEŠINĘ ir gali neatitikti numeracijos boulingo centre. • Schemoje nurodyti takai, ant kurių komandų poros PRADEDA partiją. Vykstant žaidimui cross-line sistema namų komanda pirmą partiją pradeda ant neporinio tako, antrą – ant porinio ir t. t.; svečių komanda – atvirkščiai. • Žaidėjų keitimai atsarginiais žaidėjais galimi po apšilimo ir po kiekvienos partijos, jie nėra ribojami. Pakeistas žaidėjas prieš sekančią partiją laikomas atsarginiu ir gali būti priskirtas į bet kurią porą. • Protokolą pirmas užpildo NAMŲ komandos kapitonas (sudaro dvi poras ir priskiria takus), antras – SVEČIŲ komandos kapitonas.
A7: Partija | B7: Tarpusavio dvikova | E7: Tarpusavio dvikova | H7: Apšilimo takas / atsarginiai žaidėjai
B8: =IF(Protokolas!$D$16="","1 takas",Protokolas!$D$16&" takas") -> 1 takas | C8: =IF(Protokolas!$E$16="","2 takas",Protokolas!$E$16&" takas") -> 2 takas | E8: =IF(Protokolas!$F$16="","3 takas",Protokolas!$F$16&" takas") -> 3 takas | F8: =IF(Protokolas!$G$16="","4 takas",Protokolas!$G$16&" takas") -> 4 takas
A9: 1 | B9: Pora 1 | C9: Pora 1 | E9: Pora 2 | F9: Pora 2 | H9: Atsarginiai žaidėjai
B10: Namai 1 | C10: Svečiai 1 | E10: Namai 3 | F10: Svečiai 3
B11: Namai 2 | C11: Svečiai 2 | E11: Namai 4 | F11: Svečiai 4
A13: 2 | B13: Pora 1 | C13: Pora 2 | E13: Pora 2 | F13: Pora 1 | H13: Atsarginiai žaidėjai
B14: Svečiai 1 | C14: Namai 3 | E14: Svečiai 3 | F14: Namai 1
B15: Svečiai 2 | C15: Namai 4 | E15: Svečiai 4 | F15: Namai 2
A17: 3 | B17: Pora 2 | C17: Pora 2 | E17: Pora 1 | F17: Pora 1 | H17: Atsarginiai žaidėjai
B18: Namai 3 | C18: Svečiai 3 | E18: Namai 1 | F18: Svečiai 1
B19: Namai 4 | C19: Svečiai 4 | E19: Namai 2 | F19: Svečiai 2
A21: • Po trijų (3) partijų daroma 5 minučių pertrauka. • Pertraukos metu kapitonai sudaro NAUJAS poras panaudodami visus komandos žaidėjus ir gali visiškai neatsižvelgti į tai, kokios poros buvo iki ketvirtos partijos. • Prieš 4 partiją protokolą pirmas užpildo SVEČIŲ komandos kapitonas, antras – NAMŲ komandos kapitonas.
A22: 4 | B22: Pora 1 | C22: Pora 1 | E22: Pora 2 | F22: Pora 2 | H22: Atsarginiai žaidėjai
B23: Svečiai 1 | C23: Namai 1 | E23: Svečiai 3 | F23: Namai 3
B24: Svečiai 2 | C24: Namai 2 | E24: Svečiai 4 | F24: Namai 4
A26: 5 | B26: Pora 2 | C26: Pora 1 | E26: Pora 1 | F26: Pora 2 | H26: Atsarginiai žaidėjai
B27: Namai 3 | C27: Svečiai 1 | E27: Namai 1 | F27: Svečiai 3
B28: Namai 4 | C28: Svečiai 2 | E28: Namai 2 | F28: Svečiai 4
A32: Taškų skaičiavimas
A33: TAŠKŲ SKAIČIAVIMAS (5 partijos, iš viso 36 taškai): • Kiekvienoje partijoje: 2 tšk. už Poros Nr.1 dvikovą, 2 tšk. už Poros Nr.2 dvikovą, 2 tšk. už bendrą partijos rezultatą (lygiosios – po 1 tšk.) → 6 tšk. per partiją × 5 partijos = 30 tšk. • Papildomai 6 tšk. už didesnę visų 5 partijų bendrą sumą (lygiosios – po 3 tšk.). • Į poros ir komandos rezultatą įskaitomi žaidėjų Hcp taškai. • Komandoje gali būti registruoti iki 8 žaidėjai; kiekvieną partiją žaidžia 4 (dvi poros po 2).

Sheet ADMIN_Duomenys
A1: LBL – SEZONO DUOMENYS (administravimas)
A2: Sezonas: | B2: 2026-2027 | D2: ="▼ Naujus žaidėjus rašykite nuo eilutės "&IFERROR(LOOKUP(2,1/($C$5:$C$604<>""),ROW($C$5:$C$604))+1,5)&" (Ctrl+G → įrašykite A"&IFERROR(LOOKUP(2,1/($C$5:$C$604<>""),ROW($C$5:$C$604))+1,5)&" → Enter)" -> ▼ Naujus žaidėjus rašykite nuo eilutės 226 (Ctrl+G → įrašykite A226 → Enter)
A3: Užpildoma VIENĄ KARTĄ prieš sezoną. GELTONI langeliai – pildomi, PILKI – formulės (nekeisti). Vesti galima bet kokia tvarka – surikiuojama automatiškai. NAUJA KOMANDA: eilutėje pasirinkite Lygą, tada Komandą. Jei jos sąraše dar nėra – įrašykite; nuo tada ji matoma ir kitose eilutėse. RIKIAVIMAS: tik per filtro rodykles antraštėje. | W3: RIKIAVIMAS PAGAL ABĖCĖLĘ (sisteminis – nekeisti) | AG3: Pora ir takas
A4: Lyga | B4: Komanda | C4: Vardas | D4: Pavardė | E4: Hcp | F4: Pogrupis (B ir C lygos) | G4: Administratoriaus pastabos (laisvai) | H4: Nr. | I4: Pilnas vardas | J4: Raktas | K4: Klaidos (ištaisyti) | L4: Informacija | N4: pirmas | O4: kom. vieta | P4: akt. vieta | R4: Boulingo centras | S4: Miestas | T4: Rodoma protokole | U4: Varžybų etapai (eigos tvarka) | W4: A lyga (surikiuota) | Y4: B lyga (surikiuota) | AA4: C lyga (surikiuota) | AB4: vieta | AC4: Centrai (surikiuota) | AE4: Pasirinktos lygos/pogrupio komandos | AG4: List1 | AH4: List2 | AI4: List3 | AJ4: List4 | AN4: Pogrupiai (kai reikia)
A5: A | B5: ACTION! | C5: Nerijus | D5: AKOCKAS | E5: 0 | H5: =IF(OR($A5="",$B5="",$I5=""),"",SUMPRODUCT(($A$5:$A$604=$A5)*($B$5:$B$604=$B5)*($I$5:$I$604<>"")*($I$5:$I$604<$I5))+SUMPRODUCT(($A$5:$A$604=$A5)*($B$5:$B$604=$B5)*($I$5:$I$604=$I5)*(ROW($I$5:$I$604)<=ROW($I5)))) -> 4 | I5: =IF(TRIM($C5&$D5)="","",PROPER(TRIM($C5))&" "&UPPER(TRIM($D5))) -> Nerijus AKOCKAS | J5: =IF(OR($A5="",$B5="",$H5=""),"",$A5&"|"&$B5&"|"&$H5) -> A|ACTION!|4 | K5: =IF(COUNTA($A5:$E5)=0,"",IF($A5="","← Nurodykite lygą (A / B / C)",IF($B5="","← Nurodykite komandą",IF(TRIM($C5)="","← Nurodykite vardą",IF(TRIM($D5)="","← Nurodykite pavardę",IF(NOT(ISNUMBER($E5)),"← Nurodykite Hcp (jei neturi – 0)",IF(AND(OR($A5="B",$A5="C"),NOT(OR($F5="Rytai",$F5="Vakarai"))),"← Nurodykite pogrupį (Rytai / Vakarai)",IF(AND($A5="A",OR($F5="Rytai",$F5="Vakarai")),"← A lygos komandos į pogrupius neskirstomos",IF(COUNTIFS($A$5:$A$604,$A5,$B$5:$B$604,$B5,$F$5:$F$604,"<>"&$F5)>0,"← Šios komandos pogrupis nurodytas nevienodai",IF($H5>8,"← Šioje komandoje jau daugiau nei 8 žaidėjai","")))))))))) | L5: =IF($I5="","",IF(COUNTIF($I$5:$I$604,$I5)>1,"ℹ tokių pačių vardų sąraše: "&COUNTIF($I$5:$I$604,$I5),IF(AND($B5<>"",COUNTIFS($A$5:$A$604,$A5,$B$5:$B$604,$B5)<3),"ℹ šioje komandoje tik "&COUNTIFS($A$5:$A$604,$A5,$B$5:$B$604,$B5)&" žaid. – ar ne rašybos klaida?",""))) | N5: =IF(OR($A5="",$B5=""),0,IF(COUNTIFS($A$5:$A5,$A5,$B$5:$B5,$B5)=1,1,0)) -> 1 | O5: =IF($N5<>1,"",1+SUMPRODUCT(($A$5:$A$604=$A5)*($B$5:$B$604<$B5)*($N$5:$N$604=1))) -> 1 | P5: =IF(OR($N5<>1,$A5<>Lyga,AND(Pogrupis<>"",$F5<>Pogrupis)),"",1+SUMPRODUCT(($A$5:$A$604=Lyga)*($N$5:$N$604=1)*($B$5:$B$604<$B5)*((($F$5:$F$604=Pogrupis)+(Pogrupis=""))>0))) | R5: Amerigo | S5: Vilnius | T5: =IF($R5="","",IF($S5="",$R5,$R5&", "&$S5)) -> Amerigo, Vilnius | U5: I Kvalifikacijos Etapas | W5: =IFERROR(INDEX($B$5:$B$604,SUMPRODUCT(MATCH(1,($A$5:$A$604="A")*($N$5:$N$604=1)*($O$5:$O$604=1),0))),"") -> ACTION! | Y5: =IFERROR(INDEX($B$5:$B$604,SUMPRODUCT(MATCH(1,($A$5:$A$604="B")*($N$5:$N$604=1)*($O$5:$O$604=1),0))),"") -> 7&10 | AA5: =IFERROR(INDEX($B$5:$B$604,SUMPRODUCT(MATCH(1,($A$5:$A$604="C")*($N$5:$N$604=1)*($O$5:$O$604=1),0))),"") -> AMBER STRIKE | AB5: =IF($T5="","",COUNTIFS($T$5:$T$44,"<"&$T5,$T$5:$T$44,"?*")+COUNTIF($T$5:$T5,$T5)) -> 1 | AC5: =IFERROR(INDEX($T$5:$T$44,MATCH(ROW()-4,$AB$5:$AB$44,0)),"") -> Amerigo, Vilnius | AE5: =IFERROR(INDEX($B$5:$B$604,MATCH(1,$P$5:$P$604,0)),"") | AG5: ="1p "&Protokolas!$D$16&"t" -> 1p t | AH5: ="1p "&Protokolas!$G$16&"t" -> 1p t | AI5: ="1p "&Protokolas!$F$16&"t" -> 1p t | AJ5: ="1p "&Protokolas!$E$16&"t" -> 1p t | AL5: =IF(NOT(OR($A5="A",$A5="B",$A5="C")),"","ADMIN_Duomenys!$"&IF($A5="A","W",IF($A5="B","Y","AA"))&"$5:$"&IF($A5="A","W",IF($A5="B","Y","AA"))&"$"&(4+MAX(1,COUNTIF(INDIRECT("ADMIN_Duomenys!$"&IF($A5="A","W",IF($A5="B","Y","AA"))&"$5:$"&IF($A5="A","W",IF($A5="B","Y","AA"))&"$44"),"?*")))) -> ADMIN_Duomenys!$W$5:$W$12 | AN5: =IF(PogrupioReikia,"Rytai","")
A6: A | B6: ACTION! | C6: Laimontas | D6: DINIUS | E6: 5 | H6: =IF(OR($A6="",$B6="",$I6=""),"",SUMPRODUCT(($A$5:$A$604=$A6)*($B$5:$B$604=$B6)*($I$5:$I$604<>"")*($I$5:$I$604<$I6))+SUMPRODUCT(($A$5:$A$604=$A6)*($B$5:$B$604=$B6)*($I$5:$I$604=$I6)*(ROW($I$5:$I$604)<=ROW($I6)))) -> 2 | I6: =IF(TRIM($C6&$D6)="","",PROPER(TRIM($C6))&" "&UPPER(TRIM($D6))) -> Laimontas DINIUS | J6: =IF(OR($A6="",$B6="",$H6=""),"",$A6&"|"&$B6&"|"&$H6) -> A|ACTION!|2 | K6: =IF(COUNTA($A6:$E6)=0,"",IF($A6="","← Nurodykite lygą (A / B / C)",IF($B6="","← Nurodykite komandą",IF(TRIM($C6)="","← Nurodykite vardą",IF(TRIM($D6)="","← Nurodykite pavardę",IF(NOT(ISNUMBER($E6)),"← Nurodykite Hcp (jei neturi – 0)",IF(AND(OR($A6="B",$A6="C"),NOT(OR($F6="Rytai",$F6="Vakarai"))),"← Nurodykite pogrupį (Rytai / Vakarai)",IF(AND($A6="A",OR($F6="Rytai",$F6="Vakarai")),"← A lygos komandos į pogrupius neskirstomos",IF(COUNTIFS($A$5:$A$604,$A6,$B$5:$B$604,$B6,$F$5:$F$604,"<>"&$F6)>0,"← Šios komandos pogrupis nurodytas nevienodai",IF($H6>8,"← Šioje komandoje jau daugiau nei 8 žaidėjai","")))))))))) | L6: =IF($I6="","",IF(COUNTIF($I$5:$I$604,$I6)>1,"ℹ tokių pačių vardų sąraše: "&COUNTIF($I$5:$I$604,$I6),IF(AND($B6<>"",COUNTIFS($A$5:$A$604,$A6,$B$5:$B$604,$B6)<3),"ℹ šioje komandoje tik "&COUNTIFS($A$5:$A$604,$A6,$B$5:$B$604,$B6)&" žaid. – ar ne rašybos klaida?",""))) | N6: =IF(OR($A6="",$B6=""),0,IF(COUNTIFS($A$5:$A6,$A6,$B$5:$B6,$B6)=1,1,0)) -> 0 | O6: =IF($N6<>1,"",1+SUMPRODUCT(($A$5:$A$604=$A6)*($B$5:$B$604<$B6)*($N$5:$N$604=1))) | P6: =IF(OR($N6<>1,$A6<>Lyga,AND(Pogrupis<>"",$F6<>Pogrupis)),"",1+SUMPRODUCT(($A$5:$A$604=Lyga)*($N$5:$N$604=1)*($B$5:$B$604<$B6)*((($F$5:$F$604=Pogrupis)+(Pogrupis=""))>0))) | R6: Apollo | S6: Klaipėda | T6: =IF($R6="","",IF($S6="",$R6,$R6&", "&$S6)) -> Apollo, Klaipėda | U6: II Kvalifikacijos Etapas | W6: =IFERROR(INDEX($B$5:$B$604,SUMPRODUCT(MATCH(1,($A$5:$A$604="A")*($N$5:$N$604=1)*($O$5:$O$604=2),0))),"") -> ANDOPAS | Y6: =IFERROR(INDEX($B$5:$B$604,SUMPRODUCT(MATCH(1,($A$5:$A$604="B")*($N$5:$N$604=1)*($O$5:$O$604=2),0))),"") -> IŠ KARJERO.LT | AA6: =IFERROR(INDEX($B$5:$B$604,SUMPRODUCT(MATCH(1,($A$5:$A$604="C")*($N$5:$N$604=1)*($O$5:$O$604=2),0))),"") -> BOWLING STONES | AB6: =IF($T6="","",COUNTIFS($T$5:$T$44,"<"&$T6,$T$5:$T$44,"?*")+COUNTIF($T$5:$T6,$T6)) -> 2 | AC6: =IFERROR(INDEX($T$5:$T$44,MATCH(ROW()-4,$AB$5:$AB$44,0)),"") -> Apollo, Klaipėda | AE6: =IFERROR(INDEX($B$5:$B$604,MATCH(2,$P$5:$P$604,0)),"") | AG6: ="2p "&Protokolas!$F$16&"t" -> 2p t | AH6: ="2p "&Protokolas!$E$16&"t" -> 2p t | AI6: ="2p "&Protokolas!$D$16&"t" -> 2p t | AJ6: ="2p "&Protokolas!$G$16&"t" -> 2p t | AL6: =IF(NOT(OR($A6="A",$A6="B",$A6="C")),"","ADMIN_Duomenys!$"&IF($A6="A","W",IF($A6="B","Y","AA"))&"$5:$"&IF($A6="A","W",IF($A6="B","Y","AA"))&"$"&(4+MAX(1,COUNTIF(INDIRECT("ADMIN_Duomenys!$"&IF($A6="A","W",IF($A6="B","Y","AA"))&"$5:$"&IF($A6="A","W",IF($A6="B","Y","AA"))&"$44"),"?*")))) -> ADMIN_Duomenys!$W$5:$W$12 | AN6: =IF(PogrupioReikia,"Vakarai","")
A7: A | B7: ACTION! | C7: Ugnius | D7: PETKEVIČIUS | E7: 0 | H7: =IF(OR($A7="",$B7="",$I7=""),"",SUMPRODUCT(($A$5:$A$604=$A7)*($B$5:$B$604=$B7)*($I$5:$I$604<>"")*($I$5:$I$604<$I7))+SUMPRODUCT(($A$5:$A$604=$A7)*($B$5:$B$604=$B7)*($I$5:$I$604=$I7)*(ROW($I$5:$I$604)<=ROW($I7)))) -> 5 | I7: =IF(TRIM($C7&$D7)="","",PROPER(TRIM($C7))&" "&UPPER(TRIM($D7))) -> Ugnius PETKEVIČIUS | J7: =IF(OR($A7="",$B7="",$H7=""),"",$A7&"|"&$B7&"|"&$H7) -> A|ACTION!|5 | K7: =IF(COUNTA($A7:$E7)=0,"",IF($A7="","← Nurodykite lygą (A / B / C)",IF($B7="","← Nurodykite komandą",IF(TRIM($C7)="","← Nurodykite vardą",IF(TRIM($D7)="","← Nurodykite pavardę",IF(NOT(ISNUMBER($E7)),"← Nurodykite Hcp (jei neturi – 0)",IF(AND(OR($A7="B",$A7="C"),NOT(OR($F7="Rytai",$F7="Vakarai"))),"← Nurodykite pogrupį (Rytai / Vakarai)",IF(AND($A7="A",OR($F7="Rytai",$F7="Vakarai")),"← A lygos komandos į pogrupius neskirstomos",IF(COUNTIFS($A$5:$A$604,$A7,$B$5:$B$604,$B7,$F$5:$F$604,"<>"&$F7)>0,"← Šios komandos pogrupis nurodytas nevienodai",IF($H7>8,"← Šioje komandoje jau daugiau nei 8 žaidėjai","")))))))))) | L7: =IF($I7="","",IF(COUNTIF($I$5:$I$604,$I7)>1,"ℹ tokių pačių vardų sąraše: "&COUNTIF($I$5:$I$604,$I7),IF(AND($B7<>"",COUNTIFS($A$5:$A$604,$A7,$B$5:$B$604,$B7)<3),"ℹ šioje komandoje tik "&COUNTIFS($A$5:$A$604,$A7,$B$5:$B$604,$B7)&" žaid. – ar ne rašybos klaida?",""))) | N7: =IF(OR($A7="",$B7=""),0,IF(COUNTIFS($A$5:$A7,$A7,$B$5:$B7,$B7)=1,1,0)) -> 0 | O7: =IF($N7<>1,"",1+SUMPRODUCT(($A$5:$A$604=$A7)*($B$5:$B$604<$B7)*($N$5:$N$604=1))) | P7: =IF(OR($N7<>1,$A7<>Lyga,AND(Pogrupis<>"",$F7<>Pogrupis)),"",1+SUMPRODUCT(($A$5:$A$604=Lyga)*($N$5:$N$604=1)*($B$5:$B$604<$B7)*((($F$5:$F$604=Pogrupis)+(Pogrupis=""))>0))) | R7: Apollo | S7: Šiauliai | T7: =IF($R7="","",IF($S7="",$R7,$R7&", "&$S7)) -> Apollo, Šiauliai | U7: Atkrintamosios | W7: =IFERROR(INDEX($B$5:$B$604,SUMPRODUCT(MATCH(1,($A$5:$A$604="A")*($N$5:$N$604=1)*($O$5:$O$604=3),0))),"") -> BOWLY | Y7: =IFERROR(INDEX($B$5:$B$604,SUMPRODUCT(MATCH(1,($A$5:$A$604="B")*($N$5:$N$604=1)*($O$5:$O$604=3),0))),"") -> KLAIPĖDOS BŪRYS | AA7: =IFERROR(INDEX($B$5:$B$604,SUMPRODUCT(MATCH(1,($A$5:$A$604="C")*($N$5:$N$604=1)*($O$5:$O$604=3),0))),"") -> E.L.A.D.A. | AB7: =IF($T7="","",COUNTIFS($T$5:$T$44,"<"&$T7,$T$5:$T$44,"?*")+COUNTIF($T$5:$T7,$T7)) -> 3 | AC7: =IFERROR(INDEX($T$5:$T$44,MATCH(ROW()-4,$AB$5:$AB$44,0)),"") -> Apollo, Šiauliai | AE7: =IFERROR(INDEX($B$5:$B$604,MATCH(3,$P$5:$P$604,0)),"") | AL7: =IF(NOT(OR($A7="A",$A7="B",$A7="C")),"","ADMIN_Duomenys!$"&IF($A7="A","W",IF($A7="B","Y","AA"))&"$5:$"&IF($A7="A","W",IF($A7="B","Y","AA"))&"$"&(4+MAX(1,COUNTIF(INDIRECT("ADMIN_Duomenys!$"&IF($A7="A","W",IF($A7="B","Y","AA"))&"$5:$"&IF($A7="A","W",IF($A7="B","Y","AA"))&"$44"),"?*")))) -> ADMIN_Duomenys!$W$5:$W$12
A8: A | B8: ACTION! | C8: Artūras | D8: SMILGYS | E8: 0 | H8: =IF(OR($A8="",$B8="",$I8=""),"",SUMPRODUCT(($A$5:$A$604=$A8)*($B$5:$B$604=$B8)*($I$5:$I$604<>"")*($I$5:$I$604<$I8))+SUMPRODUCT(($A$5:$A$604=$A8)*($B$5:$B$604=$B8)*($I$5:$I$604=$I8)*(ROW($I$5:$I$604)<=ROW($I8)))) -> 1 | I8: =IF(TRIM($C8&$D8)="","",PROPER(TRIM($C8))&" "&UPPER(TRIM($D8))) -> Artūras SMILGYS | J8: =IF(OR($A8="",$B8="",$H8=""),"",$A8&"|"&$B8&"|"&$H8) -> A|ACTION!|1 | K8: =IF(COUNTA($A8:$E8)=0,"",IF($A8="","← Nurodykite lygą (A / B / C)",IF($B8="","← Nurodykite komandą",IF(TRIM($C8)="","← Nurodykite vardą",IF(TRIM($D8)="","← Nurodykite pavardę",IF(NOT(ISNUMBER($E8)),"← Nurodykite Hcp (jei neturi – 0)",IF(AND(OR($A8="B",$A8="C"),NOT(OR($F8="Rytai",$F8="Vakarai"))),"← Nurodykite pogrupį (Rytai / Vakarai)",IF(AND($A8="A",OR($F8="Rytai",$F8="Vakarai")),"← A lygos komandos į pogrupius neskirstomos",IF(COUNTIFS($A$5:$A$604,$A8,$B$5:$B$604,$B8,$F$5:$F$604,"<>"&$F8)>0,"← Šios komandos pogrupis nurodytas nevienodai",IF($H8>8,"← Šioje komandoje jau daugiau nei 8 žaidėjai","")))))))))) | L8: =IF($I8="","",IF(COUNTIF($I$5:$I$604,$I8)>1,"ℹ tokių pačių vardų sąraše: "&COUNTIF($I$5:$I$604,$I8),IF(AND($B8<>"",COUNTIFS($A$5:$A$604,$A8,$B$5:$B$604,$B8)<3),"ℹ šioje komandoje tik "&COUNTIFS($A$5:$A$604,$A8,$B$5:$B$604,$B8)&" žaid. – ar ne rašybos klaida?",""))) | N8: =IF(OR($A8="",$B8=""),0,IF(COUNTIFS($A$5:$A8,$A8,$B$5:$B8,$B8)=1,1,0)) -> 0 | O8: =IF($N8<>1,"",1+SUMPRODUCT(($A$5:$A$604=$A8)*($B$5:$B$604<$B8)*($N$5:$N$604=1))) | P8: =IF(OR($N8<>1,$A8<>Lyga,AND(Pogrupis<>"",$F8<>Pogrupis)),"",1+SUMPRODUCT(($A$5:$A$604=Lyga)*($N$5:$N$604=1)*($B$5:$B$604<$B8)*((($F$5:$F$604=Pogrupis)+(Pogrupis=""))>0))) | R8: Kišenė | S8: Trakai | T8: =IF($R8="","",IF($S8="",$R8,$R8&", "&$S8)) -> Kišenė, Trakai | U8: Pereinamosios | W8: =IFERROR(INDEX($B$5:$B$604,SUMPRODUCT(MATCH(1,($A$5:$A$604="A")*($N$5:$N$604=1)*($O$5:$O$604=4),0))),"") -> IMAGAMIS | Y8: =IFERROR(INDEX($B$5:$B$604,SUMPRODUCT(MATCH(1,($A$5:$A$604="B")*($N$5:$N$604=1)*($O$5:$O$604=4),0))),"") -> KOPTRANSA | AA8: =IFERROR(INDEX($B$5:$B$604,SUMPRODUCT(MATCH(1,($A$5:$A$604="C")*($N$5:$N$604=1)*($O$5:$O$604=4),0))),"") -> EKIPA | AB8: =IF($T8="","",COUNTIFS($T$5:$T$44,"<"&$T8,$T$5:$T$44,"?*")+COUNTIF($T$5:$T8,$T8)) -> 4 | AC8: =IFERROR(INDEX($T$5:$T$44,MATCH(ROW()-4,$AB$5:$AB$44,0)),"") -> Kišenė, Trakai | AE8: =IFERROR(INDEX($B$5:$B$604,MATCH(4,$P$5:$P$604,0)),"") | AL8: =IF(NOT(OR($A8="A",$A8="B",$A8="C")),"","ADMIN_Duomenys!$"&IF($A8="A","W",IF($A8="B","Y","AA"))&"$5:$"&IF($A8="A","W",IF($A8="B","Y","AA"))&"$"&(4+MAX(1,COUNTIF(INDIRECT("ADMIN_Duomenys!$"&IF($A8="A","W",IF($A8="B","Y","AA"))&"$5:$"&IF($A8="A","W",IF($A8="B","Y","AA"))&"$44"),"?*")))) -> ADMIN_Duomenys!$W$5:$W$12
A9: A | B9: ACTION! | C9: Marius | D9: ŠIAUDKULIS | E9: 0 | H9: =IF(OR($A9="",$B9="",$I9=""),"",SUMPRODUCT(($A$5:$A$604=$A9)*($B$5:$B$604=$B9)*($I$5:$I$604<>"")*($I$5:$I$604<$I9))+SUMPRODUCT(($A$5:$A$604=$A9)*($B$5:$B$604=$B9)*($I$5:$I$604=$I9)*(ROW($I$5:$I$604)<=ROW($I9)))) -> 3 | I9: =IF(TRIM($C9&$D9)="","",PROPER(TRIM($C9))&" "&UPPER(TRIM($D9))) -> Marius ŠIAUDKULIS | J9: =IF(OR($A9="",$B9="",$H9=""),"",$A9&"|"&$B9&"|"&$H9) -> A|ACTION!|3 | K9: =IF(COUNTA($A9:$E9)=0,"",IF($A9="","← Nurodykite lygą (A / B / C)",IF($B9="","← Nurodykite komandą",IF(TRIM($C9)="","← Nurodykite vardą",IF(TRIM($D9)="","← Nurodykite pavardę",IF(NOT(ISNUMBER($E9)),"← Nurodykite Hcp (jei neturi – 0)",IF(AND(OR($A9="B",$A9="C"),NOT(OR($F9="Rytai",$F9="Vakarai"))),"← Nurodykite pogrupį (Rytai / Vakarai)",IF(AND($A9="A",OR($F9="Rytai",$F9="Vakarai")),"← A lygos komandos į pogrupius neskirstomos",IF(COUNTIFS($A$5:$A$604,$A9,$B$5:$B$604,$B9,$F$5:$F$604,"<>"&$F9)>0,"← Šios komandos pogrupis nurodytas nevienodai",IF($H9>8,"← Šioje komandoje jau daugiau nei 8 žaidėjai","")))))))))) | L9: =IF($I9="","",IF(COUNTIF($I$5:$I$604,$I9)>1,"ℹ tokių pačių vardų sąraše: "&COUNTIF($I$5:$I$604,$I9),IF(AND($B9<>"",COUNTIFS($A$5:$A$604,$A9,$B$5:$B$604,$B9)<3),"ℹ šioje komandoje tik "&COUNTIFS($A$5:$A$604,$A9,$B$5:$B$604,$B9)&" žaid. – ar ne rašybos klaida?",""))) | N9: =IF(OR($A9="",$B9=""),0,IF(COUNTIFS($A$5:$A9,$A9,$B$5:$B9,$B9)=1,1,0)) -> 0 | O9: =IF($N9<>1,"",1+SUMPRODUCT(($A$5:$A$604=$A9)*($B$5:$B$604<$B9)*($N$5:$N$604=1))) | P9: =IF(OR($N9<>1,$A9<>Lyga,AND(Pogrupis<>"",$F9<>Pogrupis)),"",1+SUMPRODUCT(($A$5:$A$604=Lyga)*($N$5:$N$604=1)*($B$5:$B$604<$B9)*((($F$5:$F$604=Pogrupis)+(Pogrupis=""))>0))) | R9: Palangos boulingas | S9: Palanga | T9: =IF($R9="","",IF($S9="",$R9,$R9&", "&$S9)) -> Palangos boulingas, Palanga | U9: Pusfinalis | W9: =IFERROR(INDEX($B$5:$B$604,SUMPRODUCT(MATCH(1,($A$5:$A$604="A")*($N$5:$N$604=1)*($O$5:$O$604=5),0))),"") -> KAUNO GRŪDAI | Y9: =IFERROR(INDEX($B$5:$B$604,SUMPRODUCT(MATCH(1,($A$5:$A$604="B")*($N$5:$N$604=1)*($O$5:$O$604=5),0))),"") -> LUCKY STRIKE | AA9: =IFERROR(INDEX($B$5:$B$604,SUMPRODUCT(MATCH(1,($A$5:$A$604="C")*($N$5:$N$604=1)*($O$5:$O$604=5),0))),"") -> KKK | AB9: =IF($T9="","",COUNTIFS($T$5:$T$44,"<"&$T9,$T$5:$T$44,"?*")+COUNTIF($T$5:$T9,$T9)) -> 7 | AC9: =IFERROR(INDEX($T$5:$T$44,MATCH(ROW()-4,$AB$5:$AB$44,0)),"") -> O‘Learys, Vilnius | AE9: =IFERROR(INDEX($B$5:$B$604,MATCH(5,$P$5:$P$604,0)),"") | AL9: =IF(NOT(OR($A9="A",$A9="B",$A9="C")),"","ADMIN_Duomenys!$"&IF($A9="A","W",IF($A9="B","Y","AA"))&"$5:$"&IF($A9="A","W",IF($A9="B","Y","AA"))&"$"&(4+MAX(1,COUNTIF(INDIRECT("ADMIN_Duomenys!$"&IF($A9="A","W",IF($A9="B","Y","AA"))&"$5:$"&IF($A9="A","W",IF($A9="B","Y","AA"))&"$44"),"?*")))) -> ADMIN_Duomenys!$W$5:$W$12
A10: A | B10: ANDOPAS | C10: Sigitas | D10: BAUŽYS | E10: 0 | H10: =IF(OR($A10="",$B10="",$I10=""),"",SUMPRODUCT(($A$5:$A$604=$A10)*($B$5:$B$604=$B10)*($I$5:$I$604<>"")*($I$5:$I$604<$I10))+SUMPRODUCT(($A$5:$A$604=$A10)*($B$5:$B$604=$B10)*($I$5:$I$604=$I10)*(ROW($I$5:$I$604)<=ROW($I10)))) -> 7 | I10: =IF(TRIM($C10&$D10)="","",PROPER(TRIM($C10))&" "&UPPER(TRIM($D10))) -> Sigitas BAUŽYS | J10: =IF(OR($A10="",$B10="",$H10=""),"",$A10&"|"&$B10&"|"&$H10) -> A|ANDOPAS|7 | K10: =IF(COUNTA($A10:$E10)=0,"",IF($A10="","← Nurodykite lygą (A / B / C)",IF($B10="","← Nurodykite komandą",IF(TRIM($C10)="","← Nurodykite vardą",IF(TRIM($D10)="","← Nurodykite pavardę",IF(NOT(ISNUMBER($E10)),"← Nurodykite Hcp (jei neturi – 0)",IF(AND(OR($A10="B",$A10="C"),NOT(OR($F10="Rytai",$F10="Vakarai"))),"← Nurodykite pogrupį (Rytai / Vakarai)",IF(AND($A10="A",OR($F10="Rytai",$F10="Vakarai")),"← A lygos komandos į pogrupius neskirstomos",IF(COUNTIFS($A$5:$A$604,$A10,$B$5:$B$604,$B10,$F$5:$F$604,"<>"&$F10)>0,"← Šios komandos pogrupis nurodytas nevienodai",IF($H10>8,"← Šioje komandoje jau daugiau nei 8 žaidėjai","")))))))))) | L10: =IF($I10="","",IF(COUNTIF($I$5:$I$604,$I10)>1,"ℹ tokių pačių vardų sąraše: "&COUNTIF($I$5:$I$604,$I10),IF(AND($B10<>"",COUNTIFS($A$5:$A$604,$A10,$B$5:$B$604,$B10)<3),"ℹ šioje komandoje tik "&COUNTIFS($A$5:$A$604,$A10,$B$5:$B$604,$B10)&" žaid. – ar ne rašybos klaida?",""))) | N10: =IF(OR($A10="",$B10=""),0,IF(COUNTIFS($A$5:$A10,$A10,$B$5:$B10,$B10)=1,1,0)) -> 1 | O10: =IF($N10<>1,"",1+SUMPRODUCT(($A$5:$A$604=$A10)*($B$5:$B$604<$B10)*($N$5:$N$604=1))) -> 2 | P10: =IF(OR($N10<>1,$A10<>Lyga,AND(Pogrupis<>"",$F10<>Pogrupis)),"",1+SUMPRODUCT(($A$5:$A$604=Lyga)*($N$5:$N$604=1)*($B$5:$B$604<$B10)*((($F$5:$F$604=Pogrupis)+(Pogrupis=""))>0))) | R10: O‘Learys | S10: Vilnius | T10: =IF($R10="","",IF($S10="",$R10,$R10&", "&$S10)) -> O‘Learys, Vilnius | U10: Finalas | W10: =IFERROR(INDEX($B$5:$B$604,SUMPRODUCT(MATCH(1,($A$5:$A$604="A")*($N$5:$N$604=1)*($O$5:$O$604=6),0))),"") -> PROMETĖJAS | Y10: =IFERROR(INDEX($B$5:$B$604,SUMPRODUCT(MATCH(1,($A$5:$A$604="B")*($N$5:$N$604=1)*($O$5:$O$604=6),0))),"") -> ONIKSAS | AA10: =IFERROR(INDEX($B$5:$B$604,SUMPRODUCT(MATCH(1,($A$5:$A$604="C")*($N$5:$N$604=1)*($O$5:$O$604=6),0))),"") -> KKK-2 | AB10: =IF($T10="","",COUNTIFS($T$5:$T$44,"<"&$T10,$T$5:$T$44,"?*")+COUNTIF($T$5:$T10,$T10)) -> 5 | AC10: =IFERROR(INDEX($T$5:$T$44,MATCH(ROW()-4,$AB$5:$AB$44,0)),"") -> Oazė, Kaunas | AE10: =IFERROR(INDEX($B$5:$B$604,MATCH(6,$P$5:$P$604,0)),"") | AL10: =IF(NOT(OR($A10="A",$A10="B",$A10="C")),"","ADMIN_Duomenys!$"&IF($A10="A","W",IF($A10="B","Y","AA"))&"$5:$"&IF($A10="A","W",IF($A10="B","Y","AA"))&"$"&(4+MAX(1,COUNTIF(INDIRECT("ADMIN_Duomenys!$"&IF($A10="A","W",IF($A10="B","Y","AA"))&"$5:$"&IF($A10="A","W",IF($A10="B","Y","AA"))&"$44"),"?*")))) -> ADMIN_Duomenys!$W$5:$W$12
A11: A | B11: ANDOPAS | C11: Artemijs | D11: HUDJAKOVS | E11: 0 | H11: =IF(OR($A11="",$B11="",$I11=""),"",SUMPRODUCT(($A$5:$A$604=$A11)*($B$5:$B$604=$B11)*($I$5:$I$604<>"")*($I$5:$I$604<$I11))+SUMPRODUCT(($A$5:$A$604=$A11)*($B$5:$B$604=$B11)*($I$5:$I$604=$I11)*(ROW($I$5:$I$604)<=ROW($I11)))) -> 3 | I11: =IF(TRIM($C11&$D11)="","",PROPER(TRIM($C11))&" "&UPPER(TRIM($D11))) -> Artemijs HUDJAKOVS | J11: =IF(OR($A11="",$B11="",$H11=""),"",$A11&"|"&$B11&"|"&$H11) -> A|ANDOPAS|3 | K11: =IF(COUNTA($A11:$E11)=0,"",IF($A11="","← Nurodykite lygą (A / B / C)",IF($B11="","← Nurodykite komandą",IF(TRIM($C11)="","← Nurodykite vardą",IF(TRIM($D11)="","← Nurodykite pavardę",IF(NOT(ISNUMBER($E11)),"← Nurodykite Hcp (jei neturi – 0)",IF(AND(OR($A11="B",$A11="C"),NOT(OR($F11="Rytai",$F11="Vakarai"))),"← Nurodykite pogrupį (Rytai / Vakarai)",IF(AND($A11="A",OR($F11="Rytai",$F11="Vakarai")),"← A lygos komandos į pogrupius neskirstomos",IF(COUNTIFS($A$5:$A$604,$A11,$B$5:$B$604,$B11,$F$5:$F$604,"<>"&$F11)>0,"← Šios komandos pogrupis nurodytas nevienodai",IF($H11>8,"← Šioje komandoje jau daugiau nei 8 žaidėjai","")))))))))) | L11: =IF($I11="","",IF(COUNTIF($I$5:$I$604,$I11)>1,"ℹ tokių pačių vardų sąraše: "&COUNTIF($I$5:$I$604,$I11),IF(AND($B11<>"",COUNTIFS($A$5:$A$604,$A11,$B$5:$B$604,$B11)<3),"ℹ šioje komandoje tik "&COUNTIFS($A$5:$A$604,$A11,$B$5:$B$604,$B11)&" žaid. – ar ne rašybos klaida?",""))) | N11: =IF(OR($A11="",$B11=""),0,IF(COUNTIFS($A$5:$A11,$A11,$B$5:$B11,$B11)=1,1,0)) -> 0 | O11: =IF($N11<>1,"",1+SUMPRODUCT(($A$5:$A$604=$A11)*($B$5:$B$604<$B11)*($N$5:$N$604=1))) | P11: =IF(OR($N11<>1,$A11<>Lyga,AND(Pogrupis<>"",$F11<>Pogrupis)),"",1+SUMPRODUCT(($A$5:$A$604=Lyga)*($N$5:$N$604=1)*($B$5:$B$604<$B11)*((($F$5:$F$604=Pogrupis)+(Pogrupis=""))>0))) | R11: Oazė | S11: Kaunas | T11: =IF($R11="","",IF($S11="",$R11,$R11&", "&$S11)) -> Oazė, Kaunas | W11: =IFERROR(INDEX($B$5:$B$604,SUMPRODUCT(MATCH(1,($A$5:$A$604="A")*($N$5:$N$604=1)*($O$5:$O$604=7),0))),"") -> STRIKE HOUSE & D.M PROPERTIES | Y11: =IFERROR(INDEX($B$5:$B$604,SUMPRODUCT(MATCH(1,($A$5:$A$604="B")*($N$5:$N$604=1)*($O$5:$O$604=7),0))),"") -> SENI ŠERNAI | AA11: =IFERROR(INDEX($B$5:$B$604,SUMPRODUCT(MATCH(1,($A$5:$A$604="C")*($N$5:$N$604=1)*($O$5:$O$604=7),0))),"") -> MAJAMIS | AB11: =IF($T11="","",COUNTIFS($T$5:$T$44,"<"&$T11,$T$5:$T$44,"?*")+COUNTIF($T$5:$T11,$T11)) -> 6 | AC11: =IFERROR(INDEX($T$5:$T$44,MATCH(ROW()-4,$AB$5:$AB$44,0)),"") -> Palangos boulingas, Palanga | AE11: =IFERROR(INDEX($B$5:$B$604,MATCH(7,$P$5:$P$604,0)),"") | AL11: =IF(NOT(OR($A11="A",$A11="B",$A11="C")),"","ADMIN_Duomenys!$"&IF($A11="A","W",IF($A11="B","Y","AA"))&"$5:$"&IF($A11="A","W",IF($A11="B","Y","AA"))&"$"&(4+MAX(1,COUNTIF(INDIRECT("ADMIN_Duomenys!$"&IF($A11="A","W",IF($A11="B","Y","AA"))&"$5:$"&IF($A11="A","W",IF($A11="B","Y","AA"))&"$44"),"?*")))) -> ADMIN_Duomenys!$W$5:$W$12
A12: A | B12: ANDOPAS | C12: Gasparas | D12: KAZLAUSKAS | E12: 0 | H12: =IF(OR($A12="",$B12="",$I12=""),"",SUMPRODUCT(($A$5:$A$604=$A12)*($B$5:$B$604=$B12)*($I$5:$I$604<>"")*($I$5:$I$604<$I12))+SUMPRODUCT(($A$5:$A$604=$A12)*($B$5:$B$604=$B12)*($I$5:$I$604=$I12)*(ROW($I$5:$I$604)<=ROW($I12)))) -> 5 | I12: =IF(TRIM($C12&$D12)="","",PROPER(TRIM($C12))&" "&UPPER(TRIM($D12))) -> Gasparas KAZLAUSKAS | J12: =IF(OR($A12="",$B12="",$H12=""),"",$A12&"|"&$B12&"|"&$H12) -> A|ANDOPAS|5 | K12: =IF(COUNTA($A12:$E12)=0,"",IF($A12="","← Nurodykite lygą (A / B / C)",IF($B12="","← Nurodykite komandą",IF(TRIM($C12)="","← Nurodykite vardą",IF(TRIM($D12)="","← Nurodykite pavardę",IF(NOT(ISNUMBER($E12)),"← Nurodykite Hcp (jei neturi – 0)",IF(AND(OR($A12="B",$A12="C"),NOT(OR($F12="Rytai",$F12="Vakarai"))),"← Nurodykite pogrupį (Rytai / Vakarai)",IF(AND($A12="A",OR($F12="Rytai",$F12="Vakarai")),"← A lygos komandos į pogrupius neskirstomos",IF(COUNTIFS($A$5:$A$604,$A12,$B$5:$B$604,$B12,$F$5:$F$604,"<>"&$F12)>0,"← Šios komandos pogrupis nurodytas nevienodai",IF($H12>8,"← Šioje komandoje jau daugiau nei 8 žaidėjai","")))))))))) | L12: =IF($I12="","",IF(COUNTIF($I$5:$I$604,$I12)>1,"ℹ tokių pačių vardų sąraše: "&COUNTIF($I$5:$I$604,$I12),IF(AND($B12<>"",COUNTIFS($A$5:$A$604,$A12,$B$5:$B$604,$B12)<3),"ℹ šioje komandoje tik "&COUNTIFS($A$5:$A$604,$A12,$B$5:$B$604,$B12)&" žaid. – ar ne rašybos klaida?",""))) | N12: =IF(OR($A12="",$B12=""),0,IF(COUNTIFS($A$5:$A12,$A12,$B$5:$B12,$B12)=1,1,0)) -> 0 | O12: =IF($N12<>1,"",1+SUMPRODUCT(($A$5:$A$604=$A12)*($B$5:$B$604<$B12)*($N$5:$N$604=1))) | P12: =IF(OR($N12<>1,$A12<>Lyga,AND(Pogrupis<>"",$F12<>Pogrupis)),"",1+SUMPRODUCT(($A$5:$A$604=Lyga)*($N$5:$N$604=1)*($B$5:$B$604<$B12)*((($F$5:$F$604=Pogrupis)+(Pogrupis=""))>0))) | R12: Porto | S12: Plungė | T12: =IF($R12="","",IF($S12="",$R12,$R12&", "&$S12)) -> Porto, Plungė | W12: =IFERROR(INDEX($B$5:$B$604,SUMPRODUCT(MATCH(1,($A$5:$A$604="A")*($N$5:$N$604=1)*($O$5:$O$604=8),0))),"") -> WITSEE MELGA | Y12: =IFERROR(INDEX($B$5:$B$604,SUMPRODUCT(MATCH(1,($A$5:$A$604="B")*($N$5:$N$604=1)*($O$5:$O$604=8),0))),"") -> SOUNDSGOOD LT | AA12: =IFERROR(INDEX($B$5:$B$604,SUMPRODUCT(MATCH(1,($A$5:$A$604="C")*($N$5:$N$604=1)*($O$5:$O$604=8),0))),"") -> PINUS MARIS | AB12: =IF($T12="","",COUNTIFS($T$5:$T$44,"<"&$T12,$T$5:$T$44,"?*")+COUNTIF($T$5:$T12,$T12)) -> 8 | AC12: =IFERROR(INDEX($T$5:$T$44,MATCH(ROW()-4,$AB$5:$AB$44,0)),"") -> Porto, Plungė | AE12: =IFERROR(INDEX($B$5:$B$604,MATCH(8,$P$5:$P$604,0)),"") | AL12: =IF(NOT(OR($A12="A",$A12="B",$A12="C")),"","ADMIN_Duomenys!$"&IF($A12="A","W",IF($A12="B","Y","AA"))&"$5:$"&IF($A12="A","W",IF($A12="B","Y","AA"))&"$"&(4+MAX(1,COUNTIF(INDIRECT("ADMIN_Duomenys!$"&IF($A12="A","W",IF($A12="B","Y","AA"))&"$5:$"&IF($A12="A","W",IF($A12="B","Y","AA"))&"$44"),"?*")))) -> ADMIN_Duomenys!$W$5:$W$12
A13: A | B13: ANDOPAS | C13: Andrius | D13: PELAKAUSKAS | E13: 0 | H13: =IF(OR($A13="",$B13="",$I13=""),"",SUMPRODUCT(($A$5:$A$604=$A13)*($B$5:$B$604=$B13)*($I$5:$I$604<>"")*($I$5:$I$604<$I13))+SUMPRODUCT(($A$5:$A$604=$A13)*($B$5:$B$604=$B13)*($I$5:$I$604=$I13)*(ROW($I$5:$I$604)<=ROW($I13)))) -> 1 | I13: =IF(TRIM($C13&$D13)="","",PROPER(TRIM($C13))&" "&UPPER(TRIM($D13))) -> Andrius PELAKAUSKAS | J13: =IF(OR($A13="",$B13="",$H13=""),"",$A13&"|"&$B13&"|"&$H13) -> A|ANDOPAS|1 | K13: =IF(COUNTA($A13:$E13)=0,"",IF($A13="","← Nurodykite lygą (A / B / C)",IF($B13="","← Nurodykite komandą",IF(TRIM($C13)="","← Nurodykite vardą",IF(TRIM($D13)="","← Nurodykite pavardę",IF(NOT(ISNUMBER($E13)),"← Nurodykite Hcp (jei neturi – 0)",IF(AND(OR($A13="B",$A13="C"),NOT(OR($F13="Rytai",$F13="Vakarai"))),"← Nurodykite pogrupį (Rytai / Vakarai)",IF(AND($A13="A",OR($F13="Rytai",$F13="Vakarai")),"← A lygos komandos į pogrupius neskirstomos",IF(COUNTIFS($A$5:$A$604,$A13,$B$5:$B$604,$B13,$F$5:$F$604,"<>"&$F13)>0,"← Šios komandos pogrupis nurodytas nevienodai",IF($H13>8,"← Šioje komandoje jau daugiau nei 8 žaidėjai","")))))))))) | L13: =IF($I13="","",IF(COUNTIF($I$5:$I$604,$I13)>1,"ℹ tokių pačių vardų sąraše: "&COUNTIF($I$5:$I$604,$I13),IF(AND($B13<>"",COUNTIFS($A$5:$A$604,$A13,$B$5:$B$604,$B13)<3),"ℹ šioje komandoje tik "&COUNTIFS($A$5:$A$604,$A13,$B$5:$B$604,$B13)&" žaid. – ar ne rašybos klaida?",""))) | N13: =IF(OR($A13="",$B13=""),0,IF(COUNTIFS($A$5:$A13,$A13,$B$5:$B13,$B13)=1,1,0)) -> 0 | O13: =IF($N13<>1,"",1+SUMPRODUCT(($A$5:$A$604=$A13)*($B$5:$B$604<$B13)*($N$5:$N$604=1))) | P13: =IF(OR($N13<>1,$A13<>Lyga,AND(Pogrupis<>"",$F13<>Pogrupis)),"",1+SUMPRODUCT(($A$5:$A$604=Lyga)*($N$5:$N$604=1)*($B$5:$B$604<$B13)*((($F$5:$F$604=Pogrupis)+(Pogrupis=""))>0))) | R13: SPA Vilnius | S13: Druskininkai | T13: =IF($R13="","",IF($S13="",$R13,$R13&", "&$S13)) -> SPA Vilnius, Druskininkai | W13: =IFERROR(INDEX($B$5:$B$604,SUMPRODUCT(MATCH(1,($A$5:$A$604="A")*($N$5:$N$604=1)*($O$5:$O$604=9),0))),"") | Y13: =IFERROR(INDEX($B$5:$B$604,SUMPRODUCT(MATCH(1,($A$5:$A$604="B")*($N$5:$N$604=1)*($O$5:$O$604=9),0))),"") -> SPA VILNIUS 2 | AA13: =IFERROR(INDEX($B$5:$B$604,SUMPRODUCT(MATCH(1,($A$5:$A$604="C")*($N$5:$N$604=1)*($O$5:$O$604=9),0))),"") -> SPLIT HAPPENS | AB13: =IF($T13="","",COUNTIFS($T$5:$T$44,"<"&$T13,$T$5:$T$44,"?*")+COUNTIF($T$5:$T13,$T13)) -> 9 | AC13: =IFERROR(INDEX($T$5:$T$44,MATCH(ROW()-4,$AB$5:$AB$44,0)),"") -> SPA Vilnius, Druskininkai | AE13: =IFERROR(INDEX($B$5:$B$604,MATCH(9,$P$5:$P$604,0)),"") | AL13: =IF(NOT(OR($A13="A",$A13="B",$A13="C")),"","ADMIN_Duomenys!$"&IF($A13="A","W",IF($A13="B","Y","AA"))&"$5:$"&IF($A13="A","W",IF($A13="B","Y","AA"))&"$"&(4+MAX(1,COUNTIF(INDIRECT("ADMIN_Duomenys!$"&IF($A13="A","W",IF($A13="B","Y","AA"))&"$5:$"&IF($A13="A","W",IF($A13="B","Y","AA"))&"$44"),"?*")))) -> ADMIN_Duomenys!$W$5:$W$12
A14: A | B14: ANDOPAS | C14: Žilvinas | D14: PERMINAS | E14: 0 | H14: =IF(OR($A14="",$B14="",$I14=""),"",SUMPRODUCT(($A$5:$A$604=$A14)*($B$5:$B$604=$B14)*($I$5:$I$604<>"")*($I$5:$I$604<$I14))+SUMPRODUCT(($A$5:$A$604=$A14)*($B$5:$B$604=$B14)*($I$5:$I$604=$I14)*(ROW($I$5:$I$604)<=ROW($I14)))) -> 8 | I14: =IF(TRIM($C14&$D14)="","",PROPER(TRIM($C14))&" "&UPPER(TRIM($D14))) -> Žilvinas PERMINAS | J14: =IF(OR($A14="",$B14="",$H14=""),"",$A14&"|"&$B14&"|"&$H14) -> A|ANDOPAS|8 | K14: =IF(COUNTA($A14:$E14)=0,"",IF($A14="","← Nurodykite lygą (A / B / C)",IF($B14="","← Nurodykite komandą",IF(TRIM($C14)="","← Nurodykite vardą",IF(TRIM($D14)="","← Nurodykite pavardę",IF(NOT(ISNUMBER($E14)),"← Nurodykite Hcp (jei neturi – 0)",IF(AND(OR($A14="B",$A14="C"),NOT(OR($F14="Rytai",$F14="Vakarai"))),"← Nurodykite pogrupį (Rytai / Vakarai)",IF(AND($A14="A",OR($F14="Rytai",$F14="Vakarai")),"← A lygos komandos į pogrupius neskirstomos",IF(COUNTIFS($A$5:$A$604,$A14,$B$5:$B$604,$B14,$F$5:$F$604,"<>"&$F14)>0,"← Šios komandos pogrupis nurodytas nevienodai",IF($H14>8,"← Šioje komandoje jau daugiau nei 8 žaidėjai","")))))))))) | L14: =IF($I14="","",IF(COUNTIF($I$5:$I$604,$I14)>1,"ℹ tokių pačių vardų sąraše: "&COUNTIF($I$5:$I$604,$I14),IF(AND($B14<>"",COUNTIFS($A$5:$A$604,$A14,$B$5:$B$604,$B14)<3),"ℹ šioje komandoje tik "&COUNTIFS($A$5:$A$604,$A14,$B$5:$B$604,$B14)&" žaid. – ar ne rašybos klaida?",""))) | N14: =IF(OR($A14="",$B14=""),0,IF(COUNTIFS($A$5:$A14,$A14,$B$5:$B14,$B14)=1,1,0)) -> 0 | O14: =IF($N14<>1,"",1+SUMPRODUCT(($A$5:$A$604=$A14)*($B$5:$B$604<$B14)*($N$5:$N$604=1))) | P14: =IF(OR($N14<>1,$A14<>Lyga,AND(Pogrupis<>"",$F14<>Pogrupis)),"",1+SUMPRODUCT(($A$5:$A$604=Lyga)*($N$5:$N$604=1)*($B$5:$B$604<$B14)*((($F$5:$F$604=Pogrupis)+(Pogrupis=""))>0))) | R14: Strike House | S14: Kaunas | T14: =IF($R14="","",IF($S14="",$R14,$R14&", "&$S14)) -> Strike House, Kaunas | W14: =IFERROR(INDEX($B$5:$B$604,SUMPRODUCT(MATCH(1,($A$5:$A$604="A")*($N$5:$N$604=1)*($O$5:$O$604=10),0))),"") | Y14: =IFERROR(INDEX($B$5:$B$604,SUMPRODUCT(MATCH(1,($A$5:$A$604="B")*($N$5:$N$604=1)*($O$5:$O$604=10),0))),"") -> SVEIKATOS LANGAS | AA14: =IFERROR(INDEX($B$5:$B$604,SUMPRODUCT(MATCH(1,($A$5:$A$604="C")*($N$5:$N$604=1)*($O$5:$O$604=10),0))),"") -> STRAIKAS+ | AB14: =IF($T14="","",COUNTIFS($T$5:$T$44,"<"&$T14,$T$5:$T$44,"?*")+COUNTIF($T$5:$T14,$T14)) -> 10 | AC14: =IFERROR(INDEX($T$5:$T$44,MATCH(ROW()-4,$AB$5:$AB$44,0)),"") -> Strike House, Kaunas | AE14: =IFERROR(INDEX($B$5:$B$604,MATCH(10,$P$5:$P$604,0)),"") | AL14: =IF(NOT(OR($A14="A",$A14="B",$A14="C")),"","ADMIN_Duomenys!$"&IF($A14="A","W",IF($A14="B","Y","AA"))&"$5:$"&IF($A14="A","W",IF($A14="B","Y","AA"))&"$"&(4+MAX(1,COUNTIF(INDIRECT("ADMIN_Duomenys!$"&IF($A14="A","W",IF($A14="B","Y","AA"))&"$5:$"&IF($A14="A","W",IF($A14="B","Y","AA"))&"$44"),"?*")))) -> ADMIN_Duomenys!$W$5:$W$12
A15: A | B15: ANDOPAS | C15: Daiva | D15: PERMINIENĖ | E15: 8 | H15: =IF(OR($A15="",$B15="",$I15=""),"",SUMPRODUCT(($A$5:$A$604=$A15)*($B$5:$B$604=$B15)*($I$5:$I$604<>"")*($I$5:$I$604<$I15))+SUMPRODUCT(($A$5:$A$604=$A15)*($B$5:$B$604=$B15)*($I$5:$I$604=$I15)*(ROW($I$5:$I$604)<=ROW($I15)))) -> 4 | I15: =IF(TRIM($C15&$D15)="","",PROPER(TRIM($C15))&" "&UPPER(TRIM($D15))) -> Daiva PERMINIENĖ | J15: =IF(OR($A15="",$B15="",$H15=""),"",$A15&"|"&$B15&"|"&$H15) -> A|ANDOPAS|4 | K15: =IF(COUNTA($A15:$E15)=0,"",IF($A15="","← Nurodykite lygą (A / B / C)",IF($B15="","← Nurodykite komandą",IF(TRIM($C15)="","← Nurodykite vardą",IF(TRIM($D15)="","← Nurodykite pavardę",IF(NOT(ISNUMBER($E15)),"← Nurodykite Hcp (jei neturi – 0)",IF(AND(OR($A15="B",$A15="C"),NOT(OR($F15="Rytai",$F15="Vakarai"))),"← Nurodykite pogrupį (Rytai / Vakarai)",IF(AND($A15="A",OR($F15="Rytai",$F15="Vakarai")),"← A lygos komandos į pogrupius neskirstomos",IF(COUNTIFS($A$5:$A$604,$A15,$B$5:$B$604,$B15,$F$5:$F$604,"<>"&$F15)>0,"← Šios komandos pogrupis nurodytas nevienodai",IF($H15>8,"← Šioje komandoje jau daugiau nei 8 žaidėjai","")))))))))) | L15: =IF($I15="","",IF(COUNTIF($I$5:$I$604,$I15)>1,"ℹ tokių pačių vardų sąraše: "&COUNTIF($I$5:$I$604,$I15),IF(AND($B15<>"",COUNTIFS($A$5:$A$604,$A15,$B$5:$B$604,$B15)<3),"ℹ šioje komandoje tik "&COUNTIFS($A$5:$A$604,$A15,$B$5:$B$604,$B15)&" žaid. – ar ne rašybos klaida?",""))) | N15: =IF(OR($A15="",$B15=""),0,IF(COUNTIFS($A$5:$A15,$A15,$B$5:$B15,$B15)=1,1,0)) -> 0 | O15: =IF($N15<>1,"",1+SUMPRODUCT(($A$5:$A$604=$A15)*($B$5:$B$604<$B15)*($N$5:$N$604=1))) | P15: =IF(OR($N15<>1,$A15<>Lyga,AND(Pogrupis<>"",$F15<>Pogrupis)),"",1+SUMPRODUCT(($A$5:$A$604=Lyga)*($N$5:$N$604=1)*($B$5:$B$604<$B15)*((($F$5:$F$604=Pogrupis)+(Pogrupis=""))>0))) | R15: Žirmūnai | S15: Vilnius | T15: =IF($R15="","",IF($S15="",$R15,$R15&", "&$S15)) -> Žirmūnai, Vilnius | W15: =IFERROR(INDEX($B$5:$B$604,SUMPRODUCT(MATCH(1,($A$5:$A$604="A")*($N$5:$N$604=1)*($O$5:$O$604=11),0))),"") | Y15: =IFERROR(INDEX($B$5:$B$604,SUMPRODUCT(MATCH(1,($A$5:$A$604="B")*($N$5:$N$604=1)*($O$5:$O$604=11),0))),"") -> TOYOTA | AA15: =IFERROR(INDEX($B$5:$B$604,SUMPRODUCT(MATCH(1,($A$5:$A$604="C")*($N$5:$N$604=1)*($O$5:$O$604=11),0))),"") -> SŪDUVIAI | AB15: =IF($T15="","",COUNTIFS($T$5:$T$44,"<"&$T15,$T$5:$T$44,"?*")+COUNTIF($T$5:$T15,$T15)) -> 11 | AC15: =IFERROR(INDEX($T$5:$T$44,MATCH(ROW()-4,$AB$5:$AB$44,0)),"") -> Žirmūnai, Vilnius | AE15: =IFERROR(INDEX($B$5:$B$604,MATCH(11,$P$5:$P$604,0)),"") | AL15: =IF(NOT(OR($A15="A",$A15="B",$A15="C")),"","ADMIN_Duomenys!$"&IF($A15="A","W",IF($A15="B","Y","AA"))&"$5:$"&IF($A15="A","W",IF($A15="B","Y","AA"))&"$"&(4+MAX(1,COUNTIF(INDIRECT("ADMIN_Duomenys!$"&IF($A15="A","W",IF($A15="B","Y","AA"))&"$5:$"&IF($A15="A","W",IF($A15="B","Y","AA"))&"$44"),"?*")))) -> ADMIN_Duomenys!$W$5:$W$12
A16: A | B16: ANDOPAS | C16: Andrius | D16: POCIUS | E16: 0 | H16: =IF(OR($A16="",$B16="",$I16=""),"",SUMPRODUCT(($A$5:$A$604=$A16)*($B$5:$B$604=$B16)*($I$5:$I$604<>"")*($I$5:$I$604<$I16))+SUMPRODUCT(($A$5:$A$604=$A16)*($B$5:$B$604=$B16)*($I$5:$I$604=$I16)*(ROW($I$5:$I$604)<=ROW($I16)))) -> 2 | I16: =IF(TRIM($C16&$D16)="","",PROPER(TRIM($C16))&" "&UPPER(TRIM($D16))) -> Andrius POCIUS | J16: =IF(OR($A16="",$B16="",$H16=""),"",$A16&"|"&$B16&"|"&$H16) -> A|ANDOPAS|2 | K16: =IF(COUNTA($A16:$E16)=0,"",IF($A16="","← Nurodykite lygą (A / B / C)",IF($B16="","← Nurodykite komandą",IF(TRIM($C16)="","← Nurodykite vardą",IF(TRIM($D16)="","← Nurodykite pavardę",IF(NOT(ISNUMBER($E16)),"← Nurodykite Hcp (jei neturi – 0)",IF(AND(OR($A16="B",$A16="C"),NOT(OR($F16="Rytai",$F16="Vakarai"))),"← Nurodykite pogrupį (Rytai / Vakarai)",IF(AND($A16="A",OR($F16="Rytai",$F16="Vakarai")),"← A lygos komandos į pogrupius neskirstomos",IF(COUNTIFS($A$5:$A$604,$A16,$B$5:$B$604,$B16,$F$5:$F$604,"<>"&$F16)>0,"← Šios komandos pogrupis nurodytas nevienodai",IF($H16>8,"← Šioje komandoje jau daugiau nei 8 žaidėjai","")))))))))) | L16: =IF($I16="","",IF(COUNTIF($I$5:$I$604,$I16)>1,"ℹ tokių pačių vardų sąraše: "&COUNTIF($I$5:$I$604,$I16),IF(AND($B16<>"",COUNTIFS($A$5:$A$604,$A16,$B$5:$B$604,$B16)<3),"ℹ šioje komandoje tik "&COUNTIFS($A$5:$A$604,$A16,$B$5:$B$604,$B16)&" žaid. – ar ne rašybos klaida?",""))) | N16: =IF(OR($A16="",$B16=""),0,IF(COUNTIFS($A$5:$A16,$A16,$B$5:$B16,$B16)=1,1,0)) -> 0 | O16: =IF($N16<>1,"",1+SUMPRODUCT(($A$5:$A$604=$A16)*($B$5:$B$604<$B16)*($N$5:$N$604=1))) | P16: =IF(OR($N16<>1,$A16<>Lyga,AND(Pogrupis<>"",$F16<>Pogrupis)),"",1+SUMPRODUCT(($A$5:$A$604=Lyga)*($N$5:$N$604=1)*($B$5:$B$604<$B16)*((($F$5:$F$604=Pogrupis)+(Pogrupis=""))>0))) | T16: =IF($R16="","",IF($S16="",$R16,$R16&", "&$S16)) | W16: =IFERROR(INDEX($B$5:$B$604,SUMPRODUCT(MATCH(1,($A$5:$A$604="A")*($N$5:$N$604=1)*($O$5:$O$604=12),0))),"") | Y16: =IFERROR(INDEX($B$5:$B$604,SUMPRODUCT(MATCH(1,($A$5:$A$604="B")*($N$5:$N$604=1)*($O$5:$O$604=12),0))),"") -> WITSEE | AA16: =IFERROR(INDEX($B$5:$B$604,SUMPRODUCT(MATCH(1,($A$5:$A$604="C")*($N$5:$N$604=1)*($O$5:$O$604=12),0))),"") -> TAIKLIEJI | AB16: =IF($T16="","",COUNTIFS($T$5:$T$44,"<"&$T16,$T$5:$T$44,"?*")+COUNTIF($T$5:$T16,$T16)) | AC16: =IFERROR(INDEX($T$5:$T$44,MATCH(ROW()-4,$AB$5:$AB$44,0)),"") | AE16: =IFERROR(INDEX($B$5:$B$604,MATCH(12,$P$5:$P$604,0)),"") | AL16: =IF(NOT(OR($A16="A",$A16="B",$A16="C")),"","ADMIN_Duomenys!$"&IF($A16="A","W",IF($A16="B","Y","AA"))&"$5:$"&IF($A16="A","W",IF($A16="B","Y","AA"))&"$"&(4+MAX(1,COUNTIF(INDIRECT("ADMIN_Duomenys!$"&IF($A16="A","W",IF($A16="B","Y","AA"))&"$5:$"&IF($A16="A","W",IF($A16="B","Y","AA"))&"$44"),"?*")))) -> ADMIN_Duomenys!$W$5:$W$12
A17: A | B17: ANDOPAS | C17: Mantas | D17: TRAKIMAVIČIUS | E17: 0 | H17: =IF(OR($A17="",$B17="",$I17=""),"",SUMPRODUCT(($A$5:$A$604=$A17)*($B$5:$B$604=$B17)*($I$5:$I$604<>"")*($I$5:$I$604<$I17))+SUMPRODUCT(($A$5:$A$604=$A17)*($B$5:$B$604=$B17)*($I$5:$I$604=$I17)*(ROW($I$5:$I$604)<=ROW($I17)))) -> 6 | I17: =IF(TRIM($C17&$D17)="","",PROPER(TRIM($C17))&" "&UPPER(TRIM($D17))) -> Mantas TRAKIMAVIČIUS | J17: =IF(OR($A17="",$B17="",$H17=""),"",$A17&"|"&$B17&"|"&$H17) -> A|ANDOPAS|6 | K17: =IF(COUNTA($A17:$E17)=0,"",IF($A17="","← Nurodykite lygą (A / B / C)",IF($B17="","← Nurodykite komandą",IF(TRIM($C17)="","← Nurodykite vardą",IF(TRIM($D17)="","← Nurodykite pavardę",IF(NOT(ISNUMBER($E17)),"← Nurodykite Hcp (jei neturi – 0)",IF(AND(OR($A17="B",$A17="C"),NOT(OR($F17="Rytai",$F17="Vakarai"))),"← Nurodykite pogrupį (Rytai / Vakarai)",IF(AND($A17="A",OR($F17="Rytai",$F17="Vakarai")),"← A lygos komandos į pogrupius neskirstomos",IF(COUNTIFS($A$5:$A$604,$A17,$B$5:$B$604,$B17,$F$5:$F$604,"<>"&$F17)>0,"← Šios komandos pogrupis nurodytas nevienodai",IF($H17>8,"← Šioje komandoje jau daugiau nei 8 žaidėjai","")))))))))) | L17: =IF($I17="","",IF(COUNTIF($I$5:$I$604,$I17)>1,"ℹ tokių pačių vardų sąraše: "&COUNTIF($I$5:$I$604,$I17),IF(AND($B17<>"",COUNTIFS($A$5:$A$604,$A17,$B$5:$B$604,$B17)<3),"ℹ šioje komandoje tik "&COUNTIFS($A$5:$A$604,$A17,$B$5:$B$604,$B17)&" žaid. – ar ne rašybos klaida?",""))) | N17: =IF(OR($A17="",$B17=""),0,IF(COUNTIFS($A$5:$A17,$A17,$B$5:$B17,$B17)=1,1,0)) -> 0 | O17: =IF($N17<>1,"",1+SUMPRODUCT(($A$5:$A$604=$A17)*($B$5:$B$604<$B17)*($N$5:$N$604=1))) | P17: =IF(OR($N17<>1,$A17<>Lyga,AND(Pogrupis<>"",$F17<>Pogrupis)),"",1+SUMPRODUCT(($A$5:$A$604=Lyga)*($N$5:$N$604=1)*($B$5:$B$604<$B17)*((($F$5:$F$604=Pogrupis)+(Pogrupis=""))>0))) | T17: =IF($R17="","",IF($S17="",$R17,$R17&", "&$S17)) | W17: =IFERROR(INDEX($B$5:$B$604,SUMPRODUCT(MATCH(1,($A$5:$A$604="A")*($N$5:$N$604=1)*($O$5:$O$604=13),0))),"") | Y17: =IFERROR(INDEX($B$5:$B$604,SUMPRODUCT(MATCH(1,($A$5:$A$604="B")*($N$5:$N$604=1)*($O$5:$O$604=13),0))),"") -> X12 | AA17: =IFERROR(INDEX($B$5:$B$604,SUMPRODUCT(MATCH(1,($A$5:$A$604="C")*($N$5:$N$604=1)*($O$5:$O$604=13),0))),"") | AB17: =IF($T17="","",COUNTIFS($T$5:$T$44,"<"&$T17,$T$5:$T$44,"?*")+COUNTIF($T$5:$T17,$T17)) | AC17: =IFERROR(INDEX($T$5:$T$44,MATCH(ROW()-4,$AB$5:$AB$44,0)),"") | AE17: =IFERROR(INDEX($B$5:$B$604,MATCH(13,$P$5:$P$604,0)),"") | AL17: =IF(NOT(OR($A17="A",$A17="B",$A17="C")),"","ADMIN_Duomenys!$"&IF($A17="A","W",IF($A17="B","Y","AA"))&"$5:$"&IF($A17="A","W",IF($A17="B","Y","AA"))&"$"&(4+MAX(1,COUNTIF(INDIRECT("ADMIN_Duomenys!$"&IF($A17="A","W",IF($A17="B","Y","AA"))&"$5:$"&IF($A17="A","W",IF($A17="B","Y","AA"))&"$44"),"?*")))) -> ADMIN_Duomenys!$W$5:$W$12
A18: A | B18: BOWLY | C18: Dovydas | D18: DUSEVIČIUS | E18: 0 | H18: =IF(OR($A18="",$B18="",$I18=""),"",SUMPRODUCT(($A$5:$A$604=$A18)*($B$5:$B$604=$B18)*($I$5:$I$604<>"")*($I$5:$I$604<$I18))+SUMPRODUCT(($A$5:$A$604=$A18)*($B$5:$B$604=$B18)*($I$5:$I$604=$I18)*(ROW($I$5:$I$604)<=ROW($I18)))) -> 3 | I18: =IF(TRIM($C18&$D18)="","",PROPER(TRIM($C18))&" "&UPPER(TRIM($D18))) -> Dovydas DUSEVIČIUS | J18: =IF(OR($A18="",$B18="",$H18=""),"",$A18&"|"&$B18&"|"&$H18) -> A|BOWLY|3 | K18: =IF(COUNTA($A18:$E18)=0,"",IF($A18="","← Nurodykite lygą (A / B / C)",IF($B18="","← Nurodykite komandą",IF(TRIM($C18)="","← Nurodykite vardą",IF(TRIM($D18)="","← Nurodykite pavardę",IF(NOT(ISNUMBER($E18)),"← Nurodykite Hcp (jei neturi – 0)",IF(AND(OR($A18="B",$A18="C"),NOT(OR($F18="Rytai",$F18="Vakarai"))),"← Nurodykite pogrupį (Rytai / Vakarai)",IF(AND($A18="A",OR($F18="Rytai",$F18="Vakarai")),"← A lygos komandos į pogrupius neskirstomos",IF(COUNTIFS($A$5:$A$604,$A18,$B$5:$B$604,$B18,$F$5:$F$604,"<>"&$F18)>0,"← Šios komandos pogrupis nurodytas nevienodai",IF($H18>8,"← Šioje komandoje jau daugiau nei 8 žaidėjai","")))))))))) | L18: =IF($I18="","",IF(COUNTIF($I$5:$I$604,$I18)>1,"ℹ tokių pačių vardų sąraše: "&COUNTIF($I$5:$I$604,$I18),IF(AND($B18<>"",COUNTIFS($A$5:$A$604,$A18,$B$5:$B$604,$B18)<3),"ℹ šioje komandoje tik "&COUNTIFS($A$5:$A$604,$A18,$B$5:$B$604,$B18)&" žaid. – ar ne rašybos klaida?",""))) | N18: =IF(OR($A18="",$B18=""),0,IF(COUNTIFS($A$5:$A18,$A18,$B$5:$B18,$B18)=1,1,0)) -> 1 | O18: =IF($N18<>1,"",1+SUMPRODUCT(($A$5:$A$604=$A18)*($B$5:$B$604<$B18)*($N$5:$N$604=1))) -> 3 | P18: =IF(OR($N18<>1,$A18<>Lyga,AND(Pogrupis<>"",$F18<>Pogrupis)),"",1+SUMPRODUCT(($A$5:$A$604=Lyga)*($N$5:$N$604=1)*($B$5:$B$604<$B18)*((($F$5:$F$604=Pogrupis)+(Pogrupis=""))>0))) | T18: =IF($R18="","",IF($S18="",$R18,$R18&", "&$S18)) | W18: =IFERROR(INDEX($B$5:$B$604,SUMPRODUCT(MATCH(1,($A$5:$A$604="A")*($N$5:$N$604=1)*($O$5:$O$604=14),0))),"") | Y18: =IFERROR(INDEX($B$5:$B$604,SUMPRODUCT(MATCH(1,($A$5:$A$604="B")*($N$5:$N$604=1)*($O$5:$O$604=14),0))),"") -> YIT LIETUVA | AA18: =IFERROR(INDEX($B$5:$B$604,SUMPRODUCT(MATCH(1,($A$5:$A$604="C")*($N$5:$N$604=1)*($O$5:$O$604=14),0))),"") | AB18: =IF($T18="","",COUNTIFS($T$5:$T$44,"<"&$T18,$T$5:$T$44,"?*")+COUNTIF($T$5:$T18,$T18)) | AC18: =IFERROR(INDEX($T$5:$T$44,MATCH(ROW()-4,$AB$5:$AB$44,0)),"") | AE18: =IFERROR(INDEX($B$5:$B$604,MATCH(14,$P$5:$P$604,0)),"") | AL18: =IF(NOT(OR($A18="A",$A18="B",$A18="C")),"","ADMIN_Duomenys!$"&IF($A18="A","W",IF($A18="B","Y","AA"))&"$5:$"&IF($A18="A","W",IF($A18="B","Y","AA"))&"$"&(4+MAX(1,COUNTIF(INDIRECT("ADMIN_Duomenys!$"&IF($A18="A","W",IF($A18="B","Y","AA"))&"$5:$"&IF($A18="A","W",IF($A18="B","Y","AA"))&"$44"),"?*")))) -> ADMIN_Duomenys!$W$5:$W$12
A19: A | B19: BOWLY | C19: Artūras | D19: FIODOROVAS | E19: 0 | H19: =IF(OR($A19="",$B19="",$I19=""),"",SUMPRODUCT(($A$5:$A$604=$A19)*($B$5:$B$604=$B19)*($I$5:$I$604<>"")*($I$5:$I$604<$I19))+SUMPRODUCT(($A$5:$A$604=$A19)*($B$5:$B$604=$B19)*($I$5:$I$604=$I19)*(ROW($I$5:$I$604)<=ROW($I19)))) -> 2 | I19: =IF(TRIM($C19&$D19)="","",PROPER(TRIM($C19))&" "&UPPER(TRIM($D19))) -> Artūras FIODOROVAS | J19: =IF(OR($A19="",$B19="",$H19=""),"",$A19&"|"&$B19&"|"&$H19) -> A|BOWLY|2 | K19: =IF(COUNTA($A19:$E19)=0,"",IF($A19="","← Nurodykite lygą (A / B / C)",IF($B19="","← Nurodykite komandą",IF(TRIM($C19)="","← Nurodykite vardą",IF(TRIM($D19)="","← Nurodykite pavardę",IF(NOT(ISNUMBER($E19)),"← Nurodykite Hcp (jei neturi – 0)",IF(AND(OR($A19="B",$A19="C"),NOT(OR($F19="Rytai",$F19="Vakarai"))),"← Nurodykite pogrupį (Rytai / Vakarai)",IF(AND($A19="A",OR($F19="Rytai",$F19="Vakarai")),"← A lygos komandos į pogrupius neskirstomos",IF(COUNTIFS($A$5:$A$604,$A19,$B$5:$B$604,$B19,$F$5:$F$604,"<>"&$F19)>0,"← Šios komandos pogrupis nurodytas nevienodai",IF($H19>8,"← Šioje komandoje jau daugiau nei 8 žaidėjai","")))))))))) | L19: =IF($I19="","",IF(COUNTIF($I$5:$I$604,$I19)>1,"ℹ tokių pačių vardų sąraše: "&COUNTIF($I$5:$I$604,$I19),IF(AND($B19<>"",COUNTIFS($A$5:$A$604,$A19,$B$5:$B$604,$B19)<3),"ℹ šioje komandoje tik "&COUNTIFS($A$5:$A$604,$A19,$B$5:$B$604,$B19)&" žaid. – ar ne rašybos klaida?",""))) | N19: =IF(OR($A19="",$B19=""),0,IF(COUNTIFS($A$5:$A19,$A19,$B$5:$B19,$B19)=1,1,0)) -> 0 | O19: =IF($N19<>1,"",1+SUMPRODUCT(($A$5:$A$604=$A19)*($B$5:$B$604<$B19)*($N$5:$N$604=1))) | P19: =IF(OR($N19<>1,$A19<>Lyga,AND(Pogrupis<>"",$F19<>Pogrupis)),"",1+SUMPRODUCT(($A$5:$A$604=Lyga)*($N$5:$N$604=1)*($B$5:$B$604<$B19)*((($F$5:$F$604=Pogrupis)+(Pogrupis=""))>0))) | T19: =IF($R19="","",IF($S19="",$R19,$R19&", "&$S19)) | W19: =IFERROR(INDEX($B$5:$B$604,SUMPRODUCT(MATCH(1,($A$5:$A$604="A")*($N$5:$N$604=1)*($O$5:$O$604=15),0))),"") | Y19: =IFERROR(INDEX($B$5:$B$604,SUMPRODUCT(MATCH(1,($A$5:$A$604="B")*($N$5:$N$604=1)*($O$5:$O$604=15),0))),"") | AA19: =IFERROR(INDEX($B$5:$B$604,SUMPRODUCT(MATCH(1,($A$5:$A$604="C")*($N$5:$N$604=1)*($O$5:$O$604=15),0))),"") | AB19: =IF($T19="","",COUNTIFS($T$5:$T$44,"<"&$T19,$T$5:$T$44,"?*")+COUNTIF($T$5:$T19,$T19)) | AC19: =IFERROR(INDEX($T$5:$T$44,MATCH(ROW()-4,$AB$5:$AB$44,0)),"") | AE19: =IFERROR(INDEX($B$5:$B$604,MATCH(15,$P$5:$P$604,0)),"") | AL19: =IF(NOT(OR($A19="A",$A19="B",$A19="C")),"","ADMIN_Duomenys!$"&IF($A19="A","W",IF($A19="B","Y","AA"))&"$5:$"&IF($A19="A","W",IF($A19="B","Y","AA"))&"$"&(4+MAX(1,COUNTIF(INDIRECT("ADMIN_Duomenys!$"&IF($A19="A","W",IF($A19="B","Y","AA"))&"$5:$"&IF($A19="A","W",IF($A19="B","Y","AA"))&"$44"),"?*")))) -> ADMIN_Duomenys!$W$5:$W$12
A20: A | B20: BOWLY | C20: Alex | D20: JOKI | E20: 0 | H20: =IF(OR($A20="",$B20="",$I20=""),"",SUMPRODUCT(($A$5:$A$604=$A20)*($B$5:$B$604=$B20)*($I$5:$I$604<>"")*($I$5:$I$604<$I20))+SUMPRODUCT(($A$5:$A$604=$A20)*($B$5:$B$604=$B20)*($I$5:$I$604=$I20)*(ROW($I$5:$I$604)<=ROW($I20)))) -> 1 | I20: =IF(TRIM($C20&$D20)="","",PROPER(TRIM($C20))&" "&UPPER(TRIM($D20))) -> Alex JOKI | J20: =IF(OR($A20="",$B20="",$H20=""),"",$A20&"|"&$B20&"|"&$H20) -> A|BOWLY|1 | K20: =IF(COUNTA($A20:$E20)=0,"",IF($A20="","← Nurodykite lygą (A / B / C)",IF($B20="","← Nurodykite komandą",IF(TRIM($C20)="","← Nurodykite vardą",IF(TRIM($D20)="","← Nurodykite pavardę",IF(NOT(ISNUMBER($E20)),"← Nurodykite Hcp (jei neturi – 0)",IF(AND(OR($A20="B",$A20="C"),NOT(OR($F20="Rytai",$F20="Vakarai"))),"← Nurodykite pogrupį (Rytai / Vakarai)",IF(AND($A20="A",OR($F20="Rytai",$F20="Vakarai")),"← A lygos komandos į pogrupius neskirstomos",IF(COUNTIFS($A$5:$A$604,$A20,$B$5:$B$604,$B20,$F$5:$F$604,"<>"&$F20)>0,"← Šios komandos pogrupis nurodytas nevienodai",IF($H20>8,"← Šioje komandoje jau daugiau nei 8 žaidėjai","")))))))))) | L20: =IF($I20="","",IF(COUNTIF($I$5:$I$604,$I20)>1,"ℹ tokių pačių vardų sąraše: "&COUNTIF($I$5:$I$604,$I20),IF(AND($B20<>"",COUNTIFS($A$5:$A$604,$A20,$B$5:$B$604,$B20)<3),"ℹ šioje komandoje tik "&COUNTIFS($A$5:$A$604,$A20,$B$5:$B$604,$B20)&" žaid. – ar ne rašybos klaida?",""))) | N20: =IF(OR($A20="",$B20=""),0,IF(COUNTIFS($A$5:$A20,$A20,$B$5:$B20,$B20)=1,1,0)) -> 0 | O20: =IF($N20<>1,"",1+SUMPRODUCT(($A$5:$A$604=$A20)*($B$5:$B$604<$B20)*($N$5:$N$604=1))) | P20: =IF(OR($N20<>1,$A20<>Lyga,AND(Pogrupis<>"",$F20<>Pogrupis)),"",1+SUMPRODUCT(($A$5:$A$604=Lyga)*($N$5:$N$604=1)*($B$5:$B$604<$B20)*((($F$5:$F$604=Pogrupis)+(Pogrupis=""))>0))) | T20: =IF($R20="","",IF($S20="",$R20,$R20&", "&$S20)) | W20: =IFERROR(INDEX($B$5:$B$604,SUMPRODUCT(MATCH(1,($A$5:$A$604="A")*($N$5:$N$604=1)*($O$5:$O$604=16),0))),"") | Y20: =IFERROR(INDEX($B$5:$B$604,SUMPRODUCT(MATCH(1,($A$5:$A$604="B")*($N$5:$N$604=1)*($O$5:$O$604=16),0))),"") | AA20: =IFERROR(INDEX($B$5:$B$604,SUMPRODUCT(MATCH(1,($A$5:$A$604="C")*($N$5:$N$604=1)*($O$5:$O$604=16),0))),"") | AB20: =IF($T20="","",COUNTIFS($T$5:$T$44,"<"&$T20,$T$5:$T$44,"?*")+COUNTIF($T$5:$T20,$T20)) | AC20: =IFERROR(INDEX($T$5:$T$44,MATCH(ROW()-4,$AB$5:$AB$44,0)),"") | AE20: =IFERROR(INDEX($B$5:$B$604,MATCH(16,$P$5:$P$604,0)),"") | AL20: =IF(NOT(OR($A20="A",$A20="B",$A20="C")),"","ADMIN_Duomenys!$"&IF($A20="A","W",IF($A20="B","Y","AA"))&"$5:$"&IF($A20="A","W",IF($A20="B","Y","AA"))&"$"&(4+MAX(1,COUNTIF(INDIRECT("ADMIN_Duomenys!$"&IF($A20="A","W",IF($A20="B","Y","AA"))&"$5:$"&IF($A20="A","W",IF($A20="B","Y","AA"))&"$44"),"?*")))) -> ADMIN_Duomenys!$W$5:$W$12
A21: A | B21: BOWLY | C21: Tomas | D21: JONAITIS | E21: 0 | H21: =IF(OR($A21="",$B21="",$I21=""),"",SUMPRODUCT(($A$5:$A$604=$A21)*($B$5:$B$604=$B21)*($I$5:$I$604<>"")*($I$5:$I$604<$I21))+SUMPRODUCT(($A$5:$A$604=$A21)*($B$5:$B$604=$B21)*($I$5:$I$604=$I21)*(ROW($I$5:$I$604)<=ROW($I21)))) -> 7 | I21: =IF(TRIM($C21&$D21)="","",PROPER(TRIM($C21))&" "&UPPER(TRIM($D21))) -> Tomas JONAITIS | J21: =IF(OR($A21="",$B21="",$H21=""),"",$A21&"|"&$B21&"|"&$H21) -> A|BOWLY|7 | K21: =IF(COUNTA($A21:$E21)=0,"",IF($A21="","← Nurodykite lygą (A / B / C)",IF($B21="","← Nurodykite komandą",IF(TRIM($C21)="","← Nurodykite vardą",IF(TRIM($D21)="","← Nurodykite pavardę",IF(NOT(ISNUMBER($E21)),"← Nurodykite Hcp (jei neturi – 0)",IF(AND(OR($A21="B",$A21="C"),NOT(OR($F21="Rytai",$F21="Vakarai"))),"← Nurodykite pogrupį (Rytai / Vakarai)",IF(AND($A21="A",OR($F21="Rytai",$F21="Vakarai")),"← A lygos komandos į pogrupius neskirstomos",IF(COUNTIFS($A$5:$A$604,$A21,$B$5:$B$604,$B21,$F$5:$F$604,"<>"&$F21)>0,"← Šios komandos pogrupis nurodytas nevienodai",IF($H21>8,"← Šioje komandoje jau daugiau nei 8 žaidėjai","")))))))))) | L21: =IF($I21="","",IF(COUNTIF($I$5:$I$604,$I21)>1,"ℹ tokių pačių vardų sąraše: "&COUNTIF($I$5:$I$604,$I21),IF(AND($B21<>"",COUNTIFS($A$5:$A$604,$A21,$B$5:$B$604,$B21)<3),"ℹ šioje komandoje tik "&COUNTIFS($A$5:$A$604,$A21,$B$5:$B$604,$B21)&" žaid. – ar ne rašybos klaida?",""))) | N21: =IF(OR($A21="",$B21=""),0,IF(COUNTIFS($A$5:$A21,$A21,$B$5:$B21,$B21)=1,1,0)) -> 0 | O21: =IF($N21<>1,"",1+SUMPRODUCT(($A$5:$A$604=$A21)*($B$5:$B$604<$B21)*($N$5:$N$604=1))) | P21: =IF(OR($N21<>1,$A21<>Lyga,AND(Pogrupis<>"",$F21<>Pogrupis)),"",1+SUMPRODUCT(($A$5:$A$604=Lyga)*($N$5:$N$604=1)*($B$5:$B$604<$B21)*((($F$5:$F$604=Pogrupis)+(Pogrupis=""))>0))) | T21: =IF($R21="","",IF($S21="",$R21,$R21&", "&$S21)) | W21: =IFERROR(INDEX($B$5:$B$604,SUMPRODUCT(MATCH(1,($A$5:$A$604="A")*($N$5:$N$604=1)*($O$5:$O$604=17),0))),"") | Y21: =IFERROR(INDEX($B$5:$B$604,SUMPRODUCT(MATCH(1,($A$5:$A$604="B")*($N$5:$N$604=1)*($O$5:$O$604=17),0))),"") | AA21: =IFERROR(INDEX($B$5:$B$604,SUMPRODUCT(MATCH(1,($A$5:$A$604="C")*($N$5:$N$604=1)*($O$5:$O$604=17),0))),"") | AB21: =IF($T21="","",COUNTIFS($T$5:$T$44,"<"&$T21,$T$5:$T$44,"?*")+COUNTIF($T$5:$T21,$T21)) | AC21: =IFERROR(INDEX($T$5:$T$44,MATCH(ROW()-4,$AB$5:$AB$44,0)),"") | AE21: =IFERROR(INDEX($B$5:$B$604,MATCH(17,$P$5:$P$604,0)),"") | AL21: =IF(NOT(OR($A21="A",$A21="B",$A21="C")),"","ADMIN_Duomenys!$"&IF($A21="A","W",IF($A21="B","Y","AA"))&"$5:$"&IF($A21="A","W",IF($A21="B","Y","AA"))&"$"&(4+MAX(1,COUNTIF(INDIRECT("ADMIN_Duomenys!$"&IF($A21="A","W",IF($A21="B","Y","AA"))&"$5:$"&IF($A21="A","W",IF($A21="B","Y","AA"))&"$44"),"?*")))) -> ADMIN_Duomenys!$W$5:$W$12
A22: A | B22: BOWLY | C22: Justas | D22: LISAUSKAS | E22: 0 | H22: =IF(OR($A22="",$B22="",$I22=""),"",SUMPRODUCT(($A$5:$A$604=$A22)*($B$5:$B$604=$B22)*($I$5:$I$604<>"")*($I$5:$I$604<$I22))+SUMPRODUCT(($A$5:$A$604=$A22)*($B$5:$B$604=$B22)*($I$5:$I$604=$I22)*(ROW($I$5:$I$604)<=ROW($I22)))) -> 4 | I22: =IF(TRIM($C22&$D22)="","",PROPER(TRIM($C22))&" "&UPPER(TRIM($D22))) -> Justas LISAUSKAS | J22: =IF(OR($A22="",$B22="",$H22=""),"",$A22&"|"&$B22&"|"&$H22) -> A|BOWLY|4 | K22: =IF(COUNTA($A22:$E22)=0,"",IF($A22="","← Nurodykite lygą (A / B / C)",IF($B22="","← Nurodykite komandą",IF(TRIM($C22)="","← Nurodykite vardą",IF(TRIM($D22)="","← Nurodykite pavardę",IF(NOT(ISNUMBER($E22)),"← Nurodykite Hcp (jei neturi – 0)",IF(AND(OR($A22="B",$A22="C"),NOT(OR($F22="Rytai",$F22="Vakarai"))),"← Nurodykite pogrupį (Rytai / Vakarai)",IF(AND($A22="A",OR($F22="Rytai",$F22="Vakarai")),"← A lygos komandos į pogrupius neskirstomos",IF(COUNTIFS($A$5:$A$604,$A22,$B$5:$B$604,$B22,$F$5:$F$604,"<>"&$F22)>0,"← Šios komandos pogrupis nurodytas nevienodai",IF($H22>8,"← Šioje komandoje jau daugiau nei 8 žaidėjai","")))))))))) | L22: =IF($I22="","",IF(COUNTIF($I$5:$I$604,$I22)>1,"ℹ tokių pačių vardų sąraše: "&COUNTIF($I$5:$I$604,$I22),IF(AND($B22<>"",COUNTIFS($A$5:$A$604,$A22,$B$5:$B$604,$B22)<3),"ℹ šioje komandoje tik "&COUNTIFS($A$5:$A$604,$A22,$B$5:$B$604,$B22)&" žaid. – ar ne rašybos klaida?",""))) | N22: =IF(OR($A22="",$B22=""),0,IF(COUNTIFS($A$5:$A22,$A22,$B$5:$B22,$B22)=1,1,0)) -> 0 | O22: =IF($N22<>1,"",1+SUMPRODUCT(($A$5:$A$604=$A22)*($B$5:$B$604<$B22)*($N$5:$N$604=1))) | P22: =IF(OR($N22<>1,$A22<>Lyga,AND(Pogrupis<>"",$F22<>Pogrupis)),"",1+SUMPRODUCT(($A$5:$A$604=Lyga)*($N$5:$N$604=1)*($B$5:$B$604<$B22)*((($F$5:$F$604=Pogrupis)+(Pogrupis=""))>0))) | T22: =IF($R22="","",IF($S22="",$R22,$R22&", "&$S22)) | W22: =IFERROR(INDEX($B$5:$B$604,SUMPRODUCT(MATCH(1,($A$5:$A$604="A")*($N$5:$N$604=1)*($O$5:$O$604=18),0))),"") | Y22: =IFERROR(INDEX($B$5:$B$604,SUMPRODUCT(MATCH(1,($A$5:$A$604="B")*($N$5:$N$604=1)*($O$5:$O$604=18),0))),"") | AA22: =IFERROR(INDEX($B$5:$B$604,SUMPRODUCT(MATCH(1,($A$5:$A$604="C")*($N$5:$N$604=1)*($O$5:$O$604=18),0))),"") | AB22: =IF($T22="","",COUNTIFS($T$5:$T$44,"<"&$T22,$T$5:$T$44,"?*")+COUNTIF($T$5:$T22,$T22)) | AC22: =IFERROR(INDEX($T$5:$T$44,MATCH(ROW()-4,$AB$5:$AB$44,0)),"") | AE22: =IFERROR(INDEX($B$5:$B$604,MATCH(18,$P$5:$P$604,0)),"") | AL22: =IF(NOT(OR($A22="A",$A22="B",$A22="C")),"","ADMIN_Duomenys!$"&IF($A22="A","W",IF($A22="B","Y","AA"))&"$5:$"&IF($A22="A","W",IF($A22="B","Y","AA"))&"$"&(4+MAX(1,COUNTIF(INDIRECT("ADMIN_Duomenys!$"&IF($A22="A","W",IF($A22="B","Y","AA"))&"$5:$"&IF($A22="A","W",IF($A22="B","Y","AA"))&"$44"),"?*")))) -> ADMIN_Duomenys!$W$5:$W$12
A23: A | B23: BOWLY | C23: Lukas | D23: SEVELIN | E23: 0 | H23: =IF(OR($A23="",$B23="",$I23=""),"",SUMPRODUCT(($A$5:$A$604=$A23)*($B$5:$B$604=$B23)*($I$5:$I$604<>"")*($I$5:$I$604<$I23))+SUMPRODUCT(($A$5:$A$604=$A23)*($B$5:$B$604=$B23)*($I$5:$I$604=$I23)*(ROW($I$5:$I$604)<=ROW($I23)))) -> 5 | I23: =IF(TRIM($C23&$D23)="","",PROPER(TRIM($C23))&" "&UPPER(TRIM($D23))) -> Lukas SEVELIN | J23: =IF(OR($A23="",$B23="",$H23=""),"",$A23&"|"&$B23&"|"&$H23) -> A|BOWLY|5 | K23: =IF(COUNTA($A23:$E23)=0,"",IF($A23="","← Nurodykite lygą (A / B / C)",IF($B23="","← Nurodykite komandą",IF(TRIM($C23)="","← Nurodykite vardą",IF(TRIM($D23)="","← Nurodykite pavardę",IF(NOT(ISNUMBER($E23)),"← Nurodykite Hcp (jei neturi – 0)",IF(AND(OR($A23="B",$A23="C"),NOT(OR($F23="Rytai",$F23="Vakarai"))),"← Nurodykite pogrupį (Rytai / Vakarai)",IF(AND($A23="A",OR($F23="Rytai",$F23="Vakarai")),"← A lygos komandos į pogrupius neskirstomos",IF(COUNTIFS($A$5:$A$604,$A23,$B$5:$B$604,$B23,$F$5:$F$604,"<>"&$F23)>0,"← Šios komandos pogrupis nurodytas nevienodai",IF($H23>8,"← Šioje komandoje jau daugiau nei 8 žaidėjai","")))))))))) | L23: =IF($I23="","",IF(COUNTIF($I$5:$I$604,$I23)>1,"ℹ tokių pačių vardų sąraše: "&COUNTIF($I$5:$I$604,$I23),IF(AND($B23<>"",COUNTIFS($A$5:$A$604,$A23,$B$5:$B$604,$B23)<3),"ℹ šioje komandoje tik "&COUNTIFS($A$5:$A$604,$A23,$B$5:$B$604,$B23)&" žaid. – ar ne rašybos klaida?",""))) | N23: =IF(OR($A23="",$B23=""),0,IF(COUNTIFS($A$5:$A23,$A23,$B$5:$B23,$B23)=1,1,0)) -> 0 | O23: =IF($N23<>1,"",1+SUMPRODUCT(($A$5:$A$604=$A23)*($B$5:$B$604<$B23)*($N$5:$N$604=1))) | P23: =IF(OR($N23<>1,$A23<>Lyga,AND(Pogrupis<>"",$F23<>Pogrupis)),"",1+SUMPRODUCT(($A$5:$A$604=Lyga)*($N$5:$N$604=1)*($B$5:$B$604<$B23)*((($F$5:$F$604=Pogrupis)+(Pogrupis=""))>0))) | T23: =IF($R23="","",IF($S23="",$R23,$R23&", "&$S23)) | W23: =IFERROR(INDEX($B$5:$B$604,SUMPRODUCT(MATCH(1,($A$5:$A$604="A")*($N$5:$N$604=1)*($O$5:$O$604=19),0))),"") | Y23: =IFERROR(INDEX($B$5:$B$604,SUMPRODUCT(MATCH(1,($A$5:$A$604="B")*($N$5:$N$604=1)*($O$5:$O$604=19),0))),"") | AA23: =IFERROR(INDEX($B$5:$B$604,SUMPRODUCT(MATCH(1,($A$5:$A$604="C")*($N$5:$N$604=1)*($O$5:$O$604=19),0))),"") | AB23: =IF($T23="","",COUNTIFS($T$5:$T$44,"<"&$T23,$T$5:$T$44,"?*")+COUNTIF($T$5:$T23,$T23)) | AC23: =IFERROR(INDEX($T$5:$T$44,MATCH(ROW()-4,$AB$5:$AB$44,0)),"") | AE23: =IFERROR(INDEX($B$5:$B$604,MATCH(19,$P$5:$P$604,0)),"") | AL23: =IF(NOT(OR($A23="A",$A23="B",$A23="C")),"","ADMIN_Duomenys!$"&IF($A23="A","W",IF($A23="B","Y","AA"))&"$5:$"&IF($A23="A","W",IF($A23="B","Y","AA"))&"$"&(4+MAX(1,COUNTIF(INDIRECT("ADMIN_Duomenys!$"&IF($A23="A","W",IF($A23="B","Y","AA"))&"$5:$"&IF($A23="A","W",IF($A23="B","Y","AA"))&"$44"),"?*")))) -> ADMIN_Duomenys!$W$5:$W$12
A24: A | B24: BOWLY | C24: Marius | D24: STEPONAVIČIUS | E24: 0 | H24: =IF(OR($A24="",$B24="",$I24=""),"",SUMPRODUCT(($A$5:$A$604=$A24)*($B$5:$B$604=$B24)*($I$5:$I$604<>"")*($I$5:$I$604<$I24))+SUMPRODUCT(($A$5:$A$604=$A24)*($B$5:$B$604=$B24)*($I$5:$I$604=$I24)*(ROW($I$5:$I$604)<=ROW($I24)))) -> 6 | I24: =IF(TRIM($C24&$D24)="","",PROPER(TRIM($C24))&" "&UPPER(TRIM($D24))) -> Marius STEPONAVIČIUS | J24: =IF(OR($A24="",$B24="",$H24=""),"",$A24&"|"&$B24&"|"&$H24) -> A|BOWLY|6 | K24: =IF(COUNTA($A24:$E24)=0,"",IF($A24="","← Nurodykite lygą (A / B / C)",IF($B24="","← Nurodykite komandą",IF(TRIM($C24)="","← Nurodykite vardą",IF(TRIM($D24)="","← Nurodykite pavardę",IF(NOT(ISNUMBER($E24)),"← Nurodykite Hcp (jei neturi – 0)",IF(AND(OR($A24="B",$A24="C"),NOT(OR($F24="Rytai",$F24="Vakarai"))),"← Nurodykite pogrupį (Rytai / Vakarai)",IF(AND($A24="A",OR($F24="Rytai",$F24="Vakarai")),"← A lygos komandos į pogrupius neskirstomos",IF(COUNTIFS($A$5:$A$604,$A24,$B$5:$B$604,$B24,$F$5:$F$604,"<>"&$F24)>0,"← Šios komandos pogrupis nurodytas nevienodai",IF($H24>8,"← Šioje komandoje jau daugiau nei 8 žaidėjai","")))))))))) | L24: =IF($I24="","",IF(COUNTIF($I$5:$I$604,$I24)>1,"ℹ tokių pačių vardų sąraše: "&COUNTIF($I$5:$I$604,$I24),IF(AND($B24<>"",COUNTIFS($A$5:$A$604,$A24,$B$5:$B$604,$B24)<3),"ℹ šioje komandoje tik "&COUNTIFS($A$5:$A$604,$A24,$B$5:$B$604,$B24)&" žaid. – ar ne rašybos klaida?",""))) | N24: =IF(OR($A24="",$B24=""),0,IF(COUNTIFS($A$5:$A24,$A24,$B$5:$B24,$B24)=1,1,0)) -> 0 | O24: =IF($N24<>1,"",1+SUMPRODUCT(($A$5:$A$604=$A24)*($B$5:$B$604<$B24)*($N$5:$N$604=1))) | P24: =IF(OR($N24<>1,$A24<>Lyga,AND(Pogrupis<>"",$F24<>Pogrupis)),"",1+SUMPRODUCT(($A$5:$A$604=Lyga)*($N$5:$N$604=1)*($B$5:$B$604<$B24)*((($F$5:$F$604=Pogrupis)+(Pogrupis=""))>0))) | T24: =IF($R24="","",IF($S24="",$R24,$R24&", "&$S24)) | W24: =IFERROR(INDEX($B$5:$B$604,SUMPRODUCT(MATCH(1,($A$5:$A$604="A")*($N$5:$N$604=1)*($O$5:$O$604=20),0))),"") | Y24: =IFERROR(INDEX($B$5:$B$604,SUMPRODUCT(MATCH(1,($A$5:$A$604="B")*($N$5:$N$604=1)*($O$5:$O$604=20),0))),"") | AA24: =IFERROR(INDEX($B$5:$B$604,SUMPRODUCT(MATCH(1,($A$5:$A$604="C")*($N$5:$N$604=1)*($O$5:$O$604=20),0))),"") | AB24: =IF($T24="","",COUNTIFS($T$5:$T$44,"<"&$T24,$T$5:$T$44,"?*")+COUNTIF($T$5:$T24,$T24)) | AC24: =IFERROR(INDEX($T$5:$T$44,MATCH(ROW()-4,$AB$5:$AB$44,0)),"") | AE24: =IFERROR(INDEX($B$5:$B$604,MATCH(20,$P$5:$P$604,0)),"") | AL24: =IF(NOT(OR($A24="A",$A24="B",$A24="C")),"","ADMIN_Duomenys!$"&IF($A24="A","W",IF($A24="B","Y","AA"))&"$5:$"&IF($A24="A","W",IF($A24="B","Y","AA"))&"$"&(4+MAX(1,COUNTIF(INDIRECT("ADMIN_Duomenys!$"&IF($A24="A","W",IF($A24="B","Y","AA"))&"$5:$"&IF($A24="A","W",IF($A24="B","Y","AA"))&"$44"),"?*")))) -> ADMIN_Duomenys!$W$5:$W$12
A25: A | B25: IMAGAMIS | C25: Rolandas | D25: ČEBATORIŪNAS | E25: 0 | H25: =IF(OR($A25="",$B25="",$I25=""),"",SUMPRODUCT(($A$5:$A$604=$A25)*($B$5:$B$604=$B25)*($I$5:$I$604<>"")*($I$5:$I$604<$I25))+SUMPRODUCT(($A$5:$A$604=$A25)*($B$5:$B$604=$B25)*($I$5:$I$604=$I25)*(ROW($I$5:$I$604)<=ROW($I25)))) -> 4 | I25: =IF(TRIM($C25&$D25)="","",PROPER(TRIM($C25))&" "&UPPER(TRIM($D25))) -> Rolandas ČEBATORIŪNAS | J25: =IF(OR($A25="",$B25="",$H25=""),"",$A25&"|"&$B25&"|"&$H25) -> A|IMAGAMIS|4 | K25: =IF(COUNTA($A25:$E25)=0,"",IF($A25="","← Nurodykite lygą (A / B / C)",IF($B25="","← Nurodykite komandą",IF(TRIM($C25)="","← Nurodykite vardą",IF(TRIM($D25)="","← Nurodykite pavardę",IF(NOT(ISNUMBER($E25)),"← Nurodykite Hcp (jei neturi – 0)",IF(AND(OR($A25="B",$A25="C"),NOT(OR($F25="Rytai",$F25="Vakarai"))),"← Nurodykite pogrupį (Rytai / Vakarai)",IF(AND($A25="A",OR($F25="Rytai",$F25="Vakarai")),"← A lygos komandos į pogrupius neskirstomos",IF(COUNTIFS($A$5:$A$604,$A25,$B$5:$B$604,$B25,$F$5:$F$604,"<>"&$F25)>0,"← Šios komandos pogrupis nurodytas nevienodai",IF($H25>8,"← Šioje komandoje jau daugiau nei 8 žaidėjai","")))))))))) | L25: =IF($I25="","",IF(COUNTIF($I$5:$I$604,$I25)>1,"ℹ tokių pačių vardų sąraše: "&COUNTIF($I$5:$I$604,$I25),IF(AND($B25<>"",COUNTIFS($A$5:$A$604,$A25,$B$5:$B$604,$B25)<3),"ℹ šioje komandoje tik "&COUNTIFS($A$5:$A$604,$A25,$B$5:$B$604,$B25)&" žaid. – ar ne rašybos klaida?",""))) | N25: =IF(OR($A25="",$B25=""),0,IF(COUNTIFS($A$5:$A25,$A25,$B$5:$B25,$B25)=1,1,0)) -> 1 | O25: =IF($N25<>1,"",1+SUMPRODUCT(($A$5:$A$604=$A25)*($B$5:$B$604<$B25)*($N$5:$N$604=1))) -> 4 | P25: =IF(OR($N25<>1,$A25<>Lyga,AND(Pogrupis<>"",$F25<>Pogrupis)),"",1+SUMPRODUCT(($A$5:$A$604=Lyga)*($N$5:$N$604=1)*($B$5:$B$604<$B25)*((($F$5:$F$604=Pogrupis)+(Pogrupis=""))>0))) | T25: =IF($R25="","",IF($S25="",$R25,$R25&", "&$S25)) | W25: =IFERROR(INDEX($B$5:$B$604,SUMPRODUCT(MATCH(1,($A$5:$A$604="A")*($N$5:$N$604=1)*($O$5:$O$604=21),0))),"") | Y25: =IFERROR(INDEX($B$5:$B$604,SUMPRODUCT(MATCH(1,($A$5:$A$604="B")*($N$5:$N$604=1)*($O$5:$O$604=21),0))),"") | AA25: =IFERROR(INDEX($B$5:$B$604,SUMPRODUCT(MATCH(1,($A$5:$A$604="C")*($N$5:$N$604=1)*($O$5:$O$604=21),0))),"") | AB25: =IF($T25="","",COUNTIFS($T$5:$T$44,"<"&$T25,$T$5:$T$44,"?*")+COUNTIF($T$5:$T25,$T25)) | AC25: =IFERROR(INDEX($T$5:$T$44,MATCH(ROW()-4,$AB$5:$AB$44,0)),"") | AE25: =IFERROR(INDEX($B$5:$B$604,MATCH(21,$P$5:$P$604,0)),"") | AL25: =IF(NOT(OR($A25="A",$A25="B",$A25="C")),"","ADMIN_Duomenys!$"&IF($A25="A","W",IF($A25="B","Y","AA"))&"$5:$"&IF($A25="A","W",IF($A25="B","Y","AA"))&"$"&(4+MAX(1,COUNTIF(INDIRECT("ADMIN_Duomenys!$"&IF($A25="A","W",IF($A25="B","Y","AA"))&"$5:$"&IF($A25="A","W",IF($A25="B","Y","AA"))&"$44"),"?*")))) -> ADMIN_Duomenys!$W$5:$W$12
A26: A | B26: IMAGAMIS | C26: Algirdas | D26: JAGNIEŠKUS | E26: 0 | H26: =IF(OR($A26="",$B26="",$I26=""),"",SUMPRODUCT(($A$5:$A$604=$A26)*($B$5:$B$604=$B26)*($I$5:$I$604<>"")*($I$5:$I$604<$I26))+SUMPRODUCT(($A$5:$A$604=$A26)*($B$5:$B$604=$B26)*($I$5:$I$604=$I26)*(ROW($I$5:$I$604)<=ROW($I26)))) -> 1 | I26: =IF(TRIM($C26&$D26)="","",PROPER(TRIM($C26))&" "&UPPER(TRIM($D26))) -> Algirdas JAGNIEŠKUS | J26: =IF(OR($A26="",$B26="",$H26=""),"",$A26&"|"&$B26&"|"&$H26) -> A|IMAGAMIS|1 | K26: =IF(COUNTA($A26:$E26)=0,"",IF($A26="","← Nurodykite lygą (A / B / C)",IF($B26="","← Nurodykite komandą",IF(TRIM($C26)="","← Nurodykite vardą",IF(TRIM($D26)="","← Nurodykite pavardę",IF(NOT(ISNUMBER($E26)),"← Nurodykite Hcp (jei neturi – 0)",IF(AND(OR($A26="B",$A26="C"),NOT(OR($F26="Rytai",$F26="Vakarai"))),"← Nurodykite pogrupį (Rytai / Vakarai)",IF(AND($A26="A",OR($F26="Rytai",$F26="Vakarai")),"← A lygos komandos į pogrupius neskirstomos",IF(COUNTIFS($A$5:$A$604,$A26,$B$5:$B$604,$B26,$F$5:$F$604,"<>"&$F26)>0,"← Šios komandos pogrupis nurodytas nevienodai",IF($H26>8,"← Šioje komandoje jau daugiau nei 8 žaidėjai","")))))))))) | L26: =IF($I26="","",IF(COUNTIF($I$5:$I$604,$I26)>1,"ℹ tokių pačių vardų sąraše: "&COUNTIF($I$5:$I$604,$I26),IF(AND($B26<>"",COUNTIFS($A$5:$A$604,$A26,$B$5:$B$604,$B26)<3),"ℹ šioje komandoje tik "&COUNTIFS($A$5:$A$604,$A26,$B$5:$B$604,$B26)&" žaid. – ar ne rašybos klaida?",""))) | N26: =IF(OR($A26="",$B26=""),0,IF(COUNTIFS($A$5:$A26,$A26,$B$5:$B26,$B26)=1,1,0)) -> 0 | O26: =IF($N26<>1,"",1+SUMPRODUCT(($A$5:$A$604=$A26)*($B$5:$B$604<$B26)*($N$5:$N$604=1))) | P26: =IF(OR($N26<>1,$A26<>Lyga,AND(Pogrupis<>"",$F26<>Pogrupis)),"",1+SUMPRODUCT(($A$5:$A$604=Lyga)*($N$5:$N$604=1)*($B$5:$B$604<$B26)*((($F$5:$F$604=Pogrupis)+(Pogrupis=""))>0))) | T26: =IF($R26="","",IF($S26="",$R26,$R26&", "&$S26)) | W26: =IFERROR(INDEX($B$5:$B$604,SUMPRODUCT(MATCH(1,($A$5:$A$604="A")*($N$5:$N$604=1)*($O$5:$O$604=22),0))),"") | Y26: =IFERROR(INDEX($B$5:$B$604,SUMPRODUCT(MATCH(1,($A$5:$A$604="B")*($N$5:$N$604=1)*($O$5:$O$604=22),0))),"") | AA26: =IFERROR(INDEX($B$5:$B$604,SUMPRODUCT(MATCH(1,($A$5:$A$604="C")*($N$5:$N$604=1)*($O$5:$O$604=22),0))),"") | AB26: =IF($T26="","",COUNTIFS($T$5:$T$44,"<"&$T26,$T$5:$T$44,"?*")+COUNTIF($T$5:$T26,$T26)) | AC26: =IFERROR(INDEX($T$5:$T$44,MATCH(ROW()-4,$AB$5:$AB$44,0)),"") | AE26: =IFERROR(INDEX($B$5:$B$604,MATCH(22,$P$5:$P$604,0)),"") | AL26: =IF(NOT(OR($A26="A",$A26="B",$A26="C")),"","ADMIN_Duomenys!$"&IF($A26="A","W",IF($A26="B","Y","AA"))&"$5:$"&IF($A26="A","W",IF($A26="B","Y","AA"))&"$"&(4+MAX(1,COUNTIF(INDIRECT("ADMIN_Duomenys!$"&IF($A26="A","W",IF($A26="B","Y","AA"))&"$5:$"&IF($A26="A","W",IF($A26="B","Y","AA"))&"$44"),"?*")))) -> ADMIN_Duomenys!$W$5:$W$12
A27: A | B27: IMAGAMIS | C27: Skaimilė | D27: JAGNIEŠKUTĖ | E27: 15 | H27: =IF(OR($A27="",$B27="",$I27=""),"",SUMPRODUCT(($A$5:$A$604=$A27)*($B$5:$B$604=$B27)*($I$5:$I$604<>"")*($I$5:$I$604<$I27))+SUMPRODUCT(($A$5:$A$604=$A27)*($B$5:$B$604=$B27)*($I$5:$I$604=$I27)*(ROW($I$5:$I$604)<=ROW($I27)))) -> 5 | I27: =IF(TRIM($C27&$D27)="","",PROPER(TRIM($C27))&" "&UPPER(TRIM($D27))) -> Skaimilė JAGNIEŠKUTĖ | J27: =IF(OR($A27="",$B27="",$H27=""),"",$A27&"|"&$B27&"|"&$H27) -> A|IMAGAMIS|5 | K27: =IF(COUNTA($A27:$E27)=0,"",IF($A27="","← Nurodykite lygą (A / B / C)",IF($B27="","← Nurodykite komandą",IF(TRIM($C27)="","← Nurodykite vardą",IF(TRIM($D27)="","← Nurodykite pavardę",IF(NOT(ISNUMBER($E27)),"← Nurodykite Hcp (jei neturi – 0)",IF(AND(OR($A27="B",$A27="C"),NOT(OR($F27="Rytai",$F27="Vakarai"))),"← Nurodykite pogrupį (Rytai / Vakarai)",IF(AND($A27="A",OR($F27="Rytai",$F27="Vakarai")),"← A lygos komandos į pogrupius neskirstomos",IF(COUNTIFS($A$5:$A$604,$A27,$B$5:$B$604,$B27,$F$5:$F$604,"<>"&$F27)>0,"← Šios komandos pogrupis nurodytas nevienodai",IF($H27>8,"← Šioje komandoje jau daugiau nei 8 žaidėjai","")))))))))) | L27: =IF($I27="","",IF(COUNTIF($I$5:$I$604,$I27)>1,"ℹ tokių pačių vardų sąraše: "&COUNTIF($I$5:$I$604,$I27),IF(AND($B27<>"",COUNTIFS($A$5:$A$604,$A27,$B$5:$B$604,$B27)<3),"ℹ šioje komandoje tik "&COUNTIFS($A$5:$A$604,$A27,$B$5:$B$604,$B27)&" žaid. – ar ne rašybos klaida?",""))) | N27: =IF(OR($A27="",$B27=""),0,IF(COUNTIFS($A$5:$A27,$A27,$B$5:$B27,$B27)=1,1,0)) -> 0 | O27: =IF($N27<>1,"",1+SUMPRODUCT(($A$5:$A$604=$A27)*($B$5:$B$604<$B27)*($N$5:$N$604=1))) | P27: =IF(OR($N27<>1,$A27<>Lyga,AND(Pogrupis<>"",$F27<>Pogrupis)),"",1+SUMPRODUCT(($A$5:$A$604=Lyga)*($N$5:$N$604=1)*($B$5:$B$604<$B27)*((($F$5:$F$604=Pogrupis)+(Pogrupis=""))>0))) | T27: =IF($R27="","",IF($S27="",$R27,$R27&", "&$S27)) | W27: =IFERROR(INDEX($B$5:$B$604,SUMPRODUCT(MATCH(1,($A$5:$A$604="A")*($N$5:$N$604=1)*($O$5:$O$604=23),0))),"") | Y27: =IFERROR(INDEX($B$5:$B$604,SUMPRODUCT(MATCH(1,($A$5:$A$604="B")*($N$5:$N$604=1)*($O$5:$O$604=23),0))),"") | AA27: =IFERROR(INDEX($B$5:$B$604,SUMPRODUCT(MATCH(1,($A$5:$A$604="C")*($N$5:$N$604=1)*($O$5:$O$604=23),0))),"") | AB27: =IF($T27="","",COUNTIFS($T$5:$T$44,"<"&$T27,$T$5:$T$44,"?*")+COUNTIF($T$5:$T27,$T27)) | AC27: =IFERROR(INDEX($T$5:$T$44,MATCH(ROW()-4,$AB$5:$AB$44,0)),"") | AE27: =IFERROR(INDEX($B$5:$B$604,MATCH(23,$P$5:$P$604,0)),"") | AL27: =IF(NOT(OR($A27="A",$A27="B",$A27="C")),"","ADMIN_Duomenys!$"&IF($A27="A","W",IF($A27="B","Y","AA"))&"$5:$"&IF($A27="A","W",IF($A27="B","Y","AA"))&"$"&(4+MAX(1,COUNTIF(INDIRECT("ADMIN_Duomenys!$"&IF($A27="A","W",IF($A27="B","Y","AA"))&"$5:$"&IF($A27="A","W",IF($A27="B","Y","AA"))&"$44"),"?*")))) -> ADMIN_Duomenys!$W$5:$W$12
A28: A | B28: IMAGAMIS | C28: Vadim | D28: JUKOVIČ | E28: 0 | H28: =IF(OR($A28="",$B28="",$I28=""),"",SUMPRODUCT(($A$5:$A$604=$A28)*($B$5:$B$604=$B28)*($I$5:$I$604<>"")*($I$5:$I$604<$I28))+SUMPRODUCT(($A$5:$A$604=$A28)*($B$5:$B$604=$B28)*($I$5:$I$604=$I28)*(ROW($I$5:$I$604)<=ROW($I28)))) -> 6 | I28: =IF(TRIM($C28&$D28)="","",PROPER(TRIM($C28))&" "&UPPER(TRIM($D28))) -> Vadim JUKOVIČ | J28: =IF(OR($A28="",$B28="",$H28=""),"",$A28&"|"&$B28&"|"&$H28) -> A|IMAGAMIS|6 | K28: =IF(COUNTA($A28:$E28)=0,"",IF($A28="","← Nurodykite lygą (A / B / C)",IF($B28="","← Nurodykite komandą",IF(TRIM($C28)="","← Nurodykite vardą",IF(TRIM($D28)="","← Nurodykite pavardę",IF(NOT(ISNUMBER($E28)),"← Nurodykite Hcp (jei neturi – 0)",IF(AND(OR($A28="B",$A28="C"),NOT(OR($F28="Rytai",$F28="Vakarai"))),"← Nurodykite pogrupį (Rytai / Vakarai)",IF(AND($A28="A",OR($F28="Rytai",$F28="Vakarai")),"← A lygos komandos į pogrupius neskirstomos",IF(COUNTIFS($A$5:$A$604,$A28,$B$5:$B$604,$B28,$F$5:$F$604,"<>"&$F28)>0,"← Šios komandos pogrupis nurodytas nevienodai",IF($H28>8,"← Šioje komandoje jau daugiau nei 8 žaidėjai","")))))))))) | L28: =IF($I28="","",IF(COUNTIF($I$5:$I$604,$I28)>1,"ℹ tokių pačių vardų sąraše: "&COUNTIF($I$5:$I$604,$I28),IF(AND($B28<>"",COUNTIFS($A$5:$A$604,$A28,$B$5:$B$604,$B28)<3),"ℹ šioje komandoje tik "&COUNTIFS($A$5:$A$604,$A28,$B$5:$B$604,$B28)&" žaid. – ar ne rašybos klaida?",""))) | N28: =IF(OR($A28="",$B28=""),0,IF(COUNTIFS($A$5:$A28,$A28,$B$5:$B28,$B28)=1,1,0)) -> 0 | O28: =IF($N28<>1,"",1+SUMPRODUCT(($A$5:$A$604=$A28)*($B$5:$B$604<$B28)*($N$5:$N$604=1))) | P28: =IF(OR($N28<>1,$A28<>Lyga,AND(Pogrupis<>"",$F28<>Pogrupis)),"",1+SUMPRODUCT(($A$5:$A$604=Lyga)*($N$5:$N$604=1)*($B$5:$B$604<$B28)*((($F$5:$F$604=Pogrupis)+(Pogrupis=""))>0))) | T28: =IF($R28="","",IF($S28="",$R28,$R28&", "&$S28)) | W28: =IFERROR(INDEX($B$5:$B$604,SUMPRODUCT(MATCH(1,($A$5:$A$604="A")*($N$5:$N$604=1)*($O$5:$O$604=24),0))),"") | Y28: =IFERROR(INDEX($B$5:$B$604,SUMPRODUCT(MATCH(1,($A$5:$A$604="B")*($N$5:$N$604=1)*($O$5:$O$604=24),0))),"") | AA28: =IFERROR(INDEX($B$5:$B$604,SUMPRODUCT(MATCH(1,($A$5:$A$604="C")*($N$5:$N$604=1)*($O$5:$O$604=24),0))),"") | AB28: =IF($T28="","",COUNTIFS($T$5:$T$44,"<"&$T28,$T$5:$T$44,"?*")+COUNTIF($T$5:$T28,$T28)) | AC28: =IFERROR(INDEX($T$5:$T$44,MATCH(ROW()-4,$AB$5:$AB$44,0)),"") | AE28: =IFERROR(INDEX($B$5:$B$604,MATCH(24,$P$5:$P$604,0)),"") | AL28: =IF(NOT(OR($A28="A",$A28="B",$A28="C")),"","ADMIN_Duomenys!$"&IF($A28="A","W",IF($A28="B","Y","AA"))&"$5:$"&IF($A28="A","W",IF($A28="B","Y","AA"))&"$"&(4+MAX(1,COUNTIF(INDIRECT("ADMIN_Duomenys!$"&IF($A28="A","W",IF($A28="B","Y","AA"))&"$5:$"&IF($A28="A","W",IF($A28="B","Y","AA"))&"$44"),"?*")))) -> ADMIN_Duomenys!$W$5:$W$12
A29: A | B29: IMAGAMIS | C29: Kęstutis | D29: KLIMAVIČIUS | E29: 0 | H29: =IF(OR($A29="",$B29="",$I29=""),"",SUMPRODUCT(($A$5:$A$604=$A29)*($B$5:$B$604=$B29)*($I$5:$I$604<>"")*($I$5:$I$604<$I29))+SUMPRODUCT(($A$5:$A$604=$A29)*($B$5:$B$604=$B29)*($I$5:$I$604=$I29)*(ROW($I$5:$I$604)<=ROW($I29)))) -> 3 | I29: =IF(TRIM($C29&$D29)="","",PROPER(TRIM($C29))&" "&UPPER(TRIM($D29))) -> Kęstutis KLIMAVIČIUS | J29: =IF(OR($A29="",$B29="",$H29=""),"",$A29&"|"&$B29&"|"&$H29) -> A|IMAGAMIS|3 | K29: =IF(COUNTA($A29:$E29)=0,"",IF($A29="","← Nurodykite lygą (A / B / C)",IF($B29="","← Nurodykite komandą",IF(TRIM($C29)="","← Nurodykite vardą",IF(TRIM($D29)="","← Nurodykite pavardę",IF(NOT(ISNUMBER($E29)),"← Nurodykite Hcp (jei neturi – 0)",IF(AND(OR($A29="B",$A29="C"),NOT(OR($F29="Rytai",$F29="Vakarai"))),"← Nurodykite pogrupį (Rytai / Vakarai)",IF(AND($A29="A",OR($F29="Rytai",$F29="Vakarai")),"← A lygos komandos į pogrupius neskirstomos",IF(COUNTIFS($A$5:$A$604,$A29,$B$5:$B$604,$B29,$F$5:$F$604,"<>"&$F29)>0,"← Šios komandos pogrupis nurodytas nevienodai",IF($H29>8,"← Šioje komandoje jau daugiau nei 8 žaidėjai","")))))))))) | L29: =IF($I29="","",IF(COUNTIF($I$5:$I$604,$I29)>1,"ℹ tokių pačių vardų sąraše: "&COUNTIF($I$5:$I$604,$I29),IF(AND($B29<>"",COUNTIFS($A$5:$A$604,$A29,$B$5:$B$604,$B29)<3),"ℹ šioje komandoje tik "&COUNTIFS($A$5:$A$604,$A29,$B$5:$B$604,$B29)&" žaid. – ar ne rašybos klaida?",""))) | N29: =IF(OR($A29="",$B29=""),0,IF(COUNTIFS($A$5:$A29,$A29,$B$5:$B29,$B29)=1,1,0)) -> 0 | O29: =IF($N29<>1,"",1+SUMPRODUCT(($A$5:$A$604=$A29)*($B$5:$B$604<$B29)*($N$5:$N$604=1))) | P29: =IF(OR($N29<>1,$A29<>Lyga,AND(Pogrupis<>"",$F29<>Pogrupis)),"",1+SUMPRODUCT(($A$5:$A$604=Lyga)*($N$5:$N$604=1)*($B$5:$B$604<$B29)*((($F$5:$F$604=Pogrupis)+(Pogrupis=""))>0))) | T29: =IF($R29="","",IF($S29="",$R29,$R29&", "&$S29)) | W29: =IFERROR(INDEX($B$5:$B$604,SUMPRODUCT(MATCH(1,($A$5:$A$604="A")*($N$5:$N$604=1)*($O$5:$O$604=25),0))),"") | Y29: =IFERROR(INDEX($B$5:$B$604,SUMPRODUCT(MATCH(1,($A$5:$A$604="B")*($N$5:$N$604=1)*($O$5:$O$604=25),0))),"") | AA29: =IFERROR(INDEX($B$5:$B$604,SUMPRODUCT(MATCH(1,($A$5:$A$604="C")*($N$5:$N$604=1)*($O$5:$O$604=25),0))),"") | AB29: =IF($T29="","",COUNTIFS($T$5:$T$44,"<"&$T29,$T$5:$T$44,"?*")+COUNTIF($T$5:$T29,$T29)) | AC29: =IFERROR(INDEX($T$5:$T$44,MATCH(ROW()-4,$AB$5:$AB$44,0)),"") | AE29: =IFERROR(INDEX($B$5:$B$604,MATCH(25,$P$5:$P$604,0)),"") | AL29: =IF(NOT(OR($A29="A",$A29="B",$A29="C")),"","ADMIN_Duomenys!$"&IF($A29="A","W",IF($A29="B","Y","AA"))&"$5:$"&IF($A29="A","W",IF($A29="B","Y","AA"))&"$"&(4+MAX(1,COUNTIF(INDIRECT("ADMIN_Duomenys!$"&IF($A29="A","W",IF($A29="B","Y","AA"))&"$5:$"&IF($A29="A","W",IF($A29="B","Y","AA"))&"$44"),"?*")))) -> ADMIN_Duomenys!$W$5:$W$12
A30: A | B30: IMAGAMIS | C30: Vaidotas | D30: KRENCIUS | E30: 0 | H30: =IF(OR($A30="",$B30="",$I30=""),"",SUMPRODUCT(($A$5:$A$604=$A30)*($B$5:$B$604=$B30)*($I$5:$I$604<>"")*($I$5:$I$604<$I30))+SUMPRODUCT(($A$5:$A$604=$A30)*($B$5:$B$604=$B30)*($I$5:$I$604=$I30)*(ROW($I$5:$I$604)<=ROW($I30)))) -> 7 | I30: =IF(TRIM($C30&$D30)="","",PROPER(TRIM($C30))&" "&UPPER(TRIM($D30))) -> Vaidotas KRENCIUS | J30: =IF(OR($A30="",$B30="",$H30=""),"",$A30&"|"&$B30&"|"&$H30) -> A|IMAGAMIS|7 | K30: =IF(COUNTA($A30:$E30)=0,"",IF($A30="","← Nurodykite lygą (A / B / C)",IF($B30="","← Nurodykite komandą",IF(TRIM($C30)="","← Nurodykite vardą",IF(TRIM($D30)="","← Nurodykite pavardę",IF(NOT(ISNUMBER($E30)),"← Nurodykite Hcp (jei neturi – 0)",IF(AND(OR($A30="B",$A30="C"),NOT(OR($F30="Rytai",$F30="Vakarai"))),"← Nurodykite pogrupį (Rytai / Vakarai)",IF(AND($A30="A",OR($F30="Rytai",$F30="Vakarai")),"← A lygos komandos į pogrupius neskirstomos",IF(COUNTIFS($A$5:$A$604,$A30,$B$5:$B$604,$B30,$F$5:$F$604,"<>"&$F30)>0,"← Šios komandos pogrupis nurodytas nevienodai",IF($H30>8,"← Šioje komandoje jau daugiau nei 8 žaidėjai","")))))))))) | L30: =IF($I30="","",IF(COUNTIF($I$5:$I$604,$I30)>1,"ℹ tokių pačių vardų sąraše: "&COUNTIF($I$5:$I$604,$I30),IF(AND($B30<>"",COUNTIFS($A$5:$A$604,$A30,$B$5:$B$604,$B30)<3),"ℹ šioje komandoje tik "&COUNTIFS($A$5:$A$604,$A30,$B$5:$B$604,$B30)&" žaid. – ar ne rašybos klaida?",""))) | N30: =IF(OR($A30="",$B30=""),0,IF(COUNTIFS($A$5:$A30,$A30,$B$5:$B30,$B30)=1,1,0)) -> 0 | O30: =IF($N30<>1,"",1+SUMPRODUCT(($A$5:$A$604=$A30)*($B$5:$B$604<$B30)*($N$5:$N$604=1))) | P30: =IF(OR($N30<>1,$A30<>Lyga,AND(Pogrupis<>"",$F30<>Pogrupis)),"",1+SUMPRODUCT(($A$5:$A$604=Lyga)*($N$5:$N$604=1)*($B$5:$B$604<$B30)*((($F$5:$F$604=Pogrupis)+(Pogrupis=""))>0))) | T30: =IF($R30="","",IF($S30="",$R30,$R30&", "&$S30)) | W30: =IFERROR(INDEX($B$5:$B$604,SUMPRODUCT(MATCH(1,($A$5:$A$604="A")*($N$5:$N$604=1)*($O$5:$O$604=26),0))),"") | Y30: =IFERROR(INDEX($B$5:$B$604,SUMPRODUCT(MATCH(1,($A$5:$A$604="B")*($N$5:$N$604=1)*($O$5:$O$604=26),0))),"") | AA30: =IFERROR(INDEX($B$5:$B$604,SUMPRODUCT(MATCH(1,($A$5:$A$604="C")*($N$5:$N$604=1)*($O$5:$O$604=26),0))),"") | AB30: =IF($T30="","",COUNTIFS($T$5:$T$44,"<"&$T30,$T$5:$T$44,"?*")+COUNTIF($T$5:$T30,$T30)) | AC30: =IFERROR(INDEX($T$5:$T$44,MATCH(ROW()-4,$AB$5:$AB$44,0)),"") | AE30: =IFERROR(INDEX($B$5:$B$604,MATCH(26,$P$5:$P$604,0)),"") | AL30: =IF(NOT(OR($A30="A",$A30="B",$A30="C")),"","ADMIN_Duomenys!$"&IF($A30="A","W",IF($A30="B","Y","AA"))&"$5:$"&IF($A30="A","W",IF($A30="B","Y","AA"))&"$"&(4+MAX(1,COUNTIF(INDIRECT("ADMIN_Duomenys!$"&IF($A30="A","W",IF($A30="B","Y","AA"))&"$5:$"&IF($A30="A","W",IF($A30="B","Y","AA"))&"$44"),"?*")))) -> ADMIN_Duomenys!$W$5:$W$12
A31: A | B31: IMAGAMIS | C31: Girvidas | D31: NARAUSKAS | E31: 0 | H31: =IF(OR($A31="",$B31="",$I31=""),"",SUMPRODUCT(($A$5:$A$604=$A31)*($B$5:$B$604=$B31)*($I$5:$I$604<>"")*($I$5:$I$604<$I31))+SUMPRODUCT(($A$5:$A$604=$A31)*($B$5:$B$604=$B31)*($I$5:$I$604=$I31)*(ROW($I$5:$I$604)<=ROW($I31)))) -> 2 | I31: =IF(TRIM($C31&$D31)="","",PROPER(TRIM($C31))&" "&UPPER(TRIM($D31))) -> Girvidas NARAUSKAS | J31: =IF(OR($A31="",$B31="",$H31=""),"",$A31&"|"&$B31&"|"&$H31) -> A|IMAGAMIS|2 | K31: =IF(COUNTA($A31:$E31)=0,"",IF($A31="","← Nurodykite lygą (A / B / C)",IF($B31="","← Nurodykite komandą",IF(TRIM($C31)="","← Nurodykite vardą",IF(TRIM($D31)="","← Nurodykite pavardę",IF(NOT(ISNUMBER($E31)),"← Nurodykite Hcp (jei neturi – 0)",IF(AND(OR($A31="B",$A31="C"),NOT(OR($F31="Rytai",$F31="Vakarai"))),"← Nurodykite pogrupį (Rytai / Vakarai)",IF(AND($A31="A",OR($F31="Rytai",$F31="Vakarai")),"← A lygos komandos į pogrupius neskirstomos",IF(COUNTIFS($A$5:$A$604,$A31,$B$5:$B$604,$B31,$F$5:$F$604,"<>"&$F31)>0,"← Šios komandos pogrupis nurodytas nevienodai",IF($H31>8,"← Šioje komandoje jau daugiau nei 8 žaidėjai","")))))))))) | L31: =IF($I31="","",IF(COUNTIF($I$5:$I$604,$I31)>1,"ℹ tokių pačių vardų sąraše: "&COUNTIF($I$5:$I$604,$I31),IF(AND($B31<>"",COUNTIFS($A$5:$A$604,$A31,$B$5:$B$604,$B31)<3),"ℹ šioje komandoje tik "&COUNTIFS($A$5:$A$604,$A31,$B$5:$B$604,$B31)&" žaid. – ar ne rašybos klaida?",""))) | N31: =IF(OR($A31="",$B31=""),0,IF(COUNTIFS($A$5:$A31,$A31,$B$5:$B31,$B31)=1,1,0)) -> 0 | O31: =IF($N31<>1,"",1+SUMPRODUCT(($A$5:$A$604=$A31)*($B$5:$B$604<$B31)*($N$5:$N$604=1))) | P31: =IF(OR($N31<>1,$A31<>Lyga,AND(Pogrupis<>"",$F31<>Pogrupis)),"",1+SUMPRODUCT(($A$5:$A$604=Lyga)*($N$5:$N$604=1)*($B$5:$B$604<$B31)*((($F$5:$F$604=Pogrupis)+(Pogrupis=""))>0))) | T31: =IF($R31="","",IF($S31="",$R31,$R31&", "&$S31)) | W31: =IFERROR(INDEX($B$5:$B$604,SUMPRODUCT(MATCH(1,($A$5:$A$604="A")*($N$5:$N$604=1)*($O$5:$O$604=27),0))),"") | Y31: =IFERROR(INDEX($B$5:$B$604,SUMPRODUCT(MATCH(1,($A$5:$A$604="B")*($N$5:$N$604=1)*($O$5:$O$604=27),0))),"") | AA31: =IFERROR(INDEX($B$5:$B$604,SUMPRODUCT(MATCH(1,($A$5:$A$604="C")*($N$5:$N$604=1)*($O$5:$O$604=27),0))),"") | AB31: =IF($T31="","",COUNTIFS($T$5:$T$44,"<"&$T31,$T$5:$T$44,"?*")+COUNTIF($T$5:$T31,$T31)) | AC31: =IFERROR(INDEX($T$5:$T$44,MATCH(ROW()-4,$AB$5:$AB$44,0)),"") | AE31: =IFERROR(INDEX($B$5:$B$604,MATCH(27,$P$5:$P$604,0)),"") | AL31: =IF(NOT(OR($A31="A",$A31="B",$A31="C")),"","ADMIN_Duomenys!$"&IF($A31="A","W",IF($A31="B","Y","AA"))&"$5:$"&IF($A31="A","W",IF($A31="B","Y","AA"))&"$"&(4+MAX(1,COUNTIF(INDIRECT("ADMIN_Duomenys!$"&IF($A31="A","W",IF($A31="B","Y","AA"))&"$5:$"&IF($A31="A","W",IF($A31="B","Y","AA"))&"$44"),"?*")))) -> ADMIN_Duomenys!$W$5:$W$12
A32: A | B32: KAUNO GRŪDAI | C32: Aurelijus | D32: BERŽANSKAS | E32: 0 | H32: =IF(OR($A32="",$B32="",$I32=""),"",SUMPRODUCT(($A$5:$A$604=$A32)*($B$5:$B$604=$B32)*($I$5:$I$604<>"")*($I$5:$I$604<$I32))+SUMPRODUCT(($A$5:$A$604=$A32)*($B$5:$B$604=$B32)*($I$5:$I$604=$I32)*(ROW($I$5:$I$604)<=ROW($I32)))) -> 1 | I32: =IF(TRIM($C32&$D32)="","",PROPER(TRIM($C32))&" "&UPPER(TRIM($D32))) -> Aurelijus BERŽANSKAS | J32: =IF(OR($A32="",$B32="",$H32=""),"",$A32&"|"&$B32&"|"&$H32) -> A|KAUNO GRŪDAI|1 | K32: =IF(COUNTA($A32:$E32)=0,"",IF($A32="","← Nurodykite lygą (A / B / C)",IF($B32="","← Nurodykite komandą",IF(TRIM($C32)="","← Nurodykite vardą",IF(TRIM($D32)="","← Nurodykite pavardę",IF(NOT(ISNUMBER($E32)),"← Nurodykite Hcp (jei neturi – 0)",IF(AND(OR($A32="B",$A32="C"),NOT(OR($F32="Rytai",$F32="Vakarai"))),"← Nurodykite pogrupį (Rytai / Vakarai)",IF(AND($A32="A",OR($F32="Rytai",$F32="Vakarai")),"← A lygos komandos į pogrupius neskirstomos",IF(COUNTIFS($A$5:$A$604,$A32,$B$5:$B$604,$B32,$F$5:$F$604,"<>"&$F32)>0,"← Šios komandos pogrupis nurodytas nevienodai",IF($H32>8,"← Šioje komandoje jau daugiau nei 8 žaidėjai","")))))))))) | L32: =IF($I32="","",IF(COUNTIF($I$5:$I$604,$I32)>1,"ℹ tokių pačių vardų sąraše: "&COUNTIF($I$5:$I$604,$I32),IF(AND($B32<>"",COUNTIFS($A$5:$A$604,$A32,$B$5:$B$604,$B32)<3),"ℹ šioje komandoje tik "&COUNTIFS($A$5:$A$604,$A32,$B$5:$B$604,$B32)&" žaid. – ar ne rašybos klaida?",""))) | N32: =IF(OR($A32="",$B32=""),0,IF(COUNTIFS($A$5:$A32,$A32,$B$5:$B32,$B32)=1,1,0)) -> 1 | O32: =IF($N32<>1,"",1+SUMPRODUCT(($A$5:$A$604=$A32)*($B$5:$B$604<$B32)*($N$5:$N$604=1))) -> 5 | P32: =IF(OR($N32<>1,$A32<>Lyga,AND(Pogrupis<>"",$F32<>Pogrupis)),"",1+SUMPRODUCT(($A$5:$A$604=Lyga)*($N$5:$N$604=1)*($B$5:$B$604<$B32)*((($F$5:$F$604=Pogrupis)+(Pogrupis=""))>0))) | T32: =IF($R32="","",IF($S32="",$R32,$R32&", "&$S32)) | W32: =IFERROR(INDEX($B$5:$B$604,SUMPRODUCT(MATCH(1,($A$5:$A$604="A")*($N$5:$N$604=1)*($O$5:$O$604=28),0))),"") | Y32: =IFERROR(INDEX($B$5:$B$604,SUMPRODUCT(MATCH(1,($A$5:$A$604="B")*($N$5:$N$604=1)*($O$5:$O$604=28),0))),"") | AA32: =IFERROR(INDEX($B$5:$B$604,SUMPRODUCT(MATCH(1,($A$5:$A$604="C")*($N$5:$N$604=1)*($O$5:$O$604=28),0))),"") | AB32: =IF($T32="","",COUNTIFS($T$5:$T$44,"<"&$T32,$T$5:$T$44,"?*")+COUNTIF($T$5:$T32,$T32)) | AC32: =IFERROR(INDEX($T$5:$T$44,MATCH(ROW()-4,$AB$5:$AB$44,0)),"") | AE32: =IFERROR(INDEX($B$5:$B$604,MATCH(28,$P$5:$P$604,0)),"") | AL32: =IF(NOT(OR($A32="A",$A32="B",$A32="C")),"","ADMIN_Duomenys!$"&IF($A32="A","W",IF($A32="B","Y","AA"))&"$5:$"&IF($A32="A","W",IF($A32="B","Y","AA"))&"$"&(4+MAX(1,COUNTIF(INDIRECT("ADMIN_Duomenys!$"&IF($A32="A","W",IF($A32="B","Y","AA"))&"$5:$"&IF($A32="A","W",IF($A32="B","Y","AA"))&"$44"),"?*")))) -> ADMIN_Duomenys!$W$5:$W$12
A33: A | B33: KAUNO GRŪDAI | C33: Gytautas | D33: ČEPELIONIS | E33: 0 | H33: =IF(OR($A33="",$B33="",$I33=""),"",SUMPRODUCT(($A$5:$A$604=$A33)*($B$5:$B$604=$B33)*($I$5:$I$604<>"")*($I$5:$I$604<$I33))+SUMPRODUCT(($A$5:$A$604=$A33)*($B$5:$B$604=$B33)*($I$5:$I$604=$I33)*(ROW($I$5:$I$604)<=ROW($I33)))) -> 3 | I33: =IF(TRIM($C33&$D33)="","",PROPER(TRIM($C33))&" "&UPPER(TRIM($D33))) -> Gytautas ČEPELIONIS | J33: =IF(OR($A33="",$B33="",$H33=""),"",$A33&"|"&$B33&"|"&$H33) -> A|KAUNO GRŪDAI|3 | K33: =IF(COUNTA($A33:$E33)=0,"",IF($A33="","← Nurodykite lygą (A / B / C)",IF($B33="","← Nurodykite komandą",IF(TRIM($C33)="","← Nurodykite vardą",IF(TRIM($D33)="","← Nurodykite pavardę",IF(NOT(ISNUMBER($E33)),"← Nurodykite Hcp (jei neturi – 0)",IF(AND(OR($A33="B",$A33="C"),NOT(OR($F33="Rytai",$F33="Vakarai"))),"← Nurodykite pogrupį (Rytai / Vakarai)",IF(AND($A33="A",OR($F33="Rytai",$F33="Vakarai")),"← A lygos komandos į pogrupius neskirstomos",IF(COUNTIFS($A$5:$A$604,$A33,$B$5:$B$604,$B33,$F$5:$F$604,"<>"&$F33)>0,"← Šios komandos pogrupis nurodytas nevienodai",IF($H33>8,"← Šioje komandoje jau daugiau nei 8 žaidėjai","")))))))))) | L33: =IF($I33="","",IF(COUNTIF($I$5:$I$604,$I33)>1,"ℹ tokių pačių vardų sąraše: "&COUNTIF($I$5:$I$604,$I33),IF(AND($B33<>"",COUNTIFS($A$5:$A$604,$A33,$B$5:$B$604,$B33)<3),"ℹ šioje komandoje tik "&COUNTIFS($A$5:$A$604,$A33,$B$5:$B$604,$B33)&" žaid. – ar ne rašybos klaida?",""))) | N33: =IF(OR($A33="",$B33=""),0,IF(COUNTIFS($A$5:$A33,$A33,$B$5:$B33,$B33)=1,1,0)) -> 0 | O33: =IF($N33<>1,"",1+SUMPRODUCT(($A$5:$A$604=$A33)*($B$5:$B$604<$B33)*($N$5:$N$604=1))) | P33: =IF(OR($N33<>1,$A33<>Lyga,AND(Pogrupis<>"",$F33<>Pogrupis)),"",1+SUMPRODUCT(($A$5:$A$604=Lyga)*($N$5:$N$604=1)*($B$5:$B$604<$B33)*((($F$5:$F$604=Pogrupis)+(Pogrupis=""))>0))) | T33: =IF($R33="","",IF($S33="",$R33,$R33&", "&$S33)) | W33: =IFERROR(INDEX($B$5:$B$604,SUMPRODUCT(MATCH(1,($A$5:$A$604="A")*($N$5:$N$604=1)*($O$5:$O$604=29),0))),"") | Y33: =IFERROR(INDEX($B$5:$B$604,SUMPRODUCT(MATCH(1,($A$5:$A$604="B")*($N$5:$N$604=1)*($O$5:$O$604=29),0))),"") | AA33: =IFERROR(INDEX($B$5:$B$604,SUMPRODUCT(MATCH(1,($A$5:$A$604="C")*($N$5:$N$604=1)*($O$5:$O$604=29),0))),"") | AB33: =IF($T33="","",COUNTIFS($T$5:$T$44,"<"&$T33,$T$5:$T$44,"?*")+COUNTIF($T$5:$T33,$T33)) | AC33: =IFERROR(INDEX($T$5:$T$44,MATCH(ROW()-4,$AB$5:$AB$44,0)),"") | AE33: =IFERROR(INDEX($B$5:$B$604,MATCH(29,$P$5:$P$604,0)),"") | AL33: =IF(NOT(OR($A33="A",$A33="B",$A33="C")),"","ADMIN_Duomenys!$"&IF($A33="A","W",IF($A33="B","Y","AA"))&"$5:$"&IF($A33="A","W",IF($A33="B","Y","AA"))&"$"&(4+MAX(1,COUNTIF(INDIRECT("ADMIN_Duomenys!$"&IF($A33="A","W",IF($A33="B","Y","AA"))&"$5:$"&IF($A33="A","W",IF($A33="B","Y","AA"))&"$44"),"?*")))) -> ADMIN_Duomenys!$W$5:$W$12
A34: A | B34: KAUNO GRŪDAI | C34: Rimantas | D34: DAUBARAS | E34: 5 | H34: =IF(OR($A34="",$B34="",$I34=""),"",SUMPRODUCT(($A$5:$A$604=$A34)*($B$5:$B$604=$B34)*($I$5:$I$604<>"")*($I$5:$I$604<$I34))+SUMPRODUCT(($A$5:$A$604=$A34)*($B$5:$B$604=$B34)*($I$5:$I$604=$I34)*(ROW($I$5:$I$604)<=ROW($I34)))) -> 7 | I34: =IF(TRIM($C34&$D34)="","",PROPER(TRIM($C34))&" "&UPPER(TRIM($D34))) -> Rimantas DAUBARAS | J34: =IF(OR($A34="",$B34="",$H34=""),"",$A34&"|"&$B34&"|"&$H34) -> A|KAUNO GRŪDAI|7 | K34: =IF(COUNTA($A34:$E34)=0,"",IF($A34="","← Nurodykite lygą (A / B / C)",IF($B34="","← Nurodykite komandą",IF(TRIM($C34)="","← Nurodykite vardą",IF(TRIM($D34)="","← Nurodykite pavardę",IF(NOT(ISNUMBER($E34)),"← Nurodykite Hcp (jei neturi – 0)",IF(AND(OR($A34="B",$A34="C"),NOT(OR($F34="Rytai",$F34="Vakarai"))),"← Nurodykite pogrupį (Rytai / Vakarai)",IF(AND($A34="A",OR($F34="Rytai",$F34="Vakarai")),"← A lygos komandos į pogrupius neskirstomos",IF(COUNTIFS($A$5:$A$604,$A34,$B$5:$B$604,$B34,$F$5:$F$604,"<>"&$F34)>0,"← Šios komandos pogrupis nurodytas nevienodai",IF($H34>8,"← Šioje komandoje jau daugiau nei 8 žaidėjai","")))))))))) | L34: =IF($I34="","",IF(COUNTIF($I$5:$I$604,$I34)>1,"ℹ tokių pačių vardų sąraše: "&COUNTIF($I$5:$I$604,$I34),IF(AND($B34<>"",COUNTIFS($A$5:$A$604,$A34,$B$5:$B$604,$B34)<3),"ℹ šioje komandoje tik "&COUNTIFS($A$5:$A$604,$A34,$B$5:$B$604,$B34)&" žaid. – ar ne rašybos klaida?",""))) | N34: =IF(OR($A34="",$B34=""),0,IF(COUNTIFS($A$5:$A34,$A34,$B$5:$B34,$B34)=1,1,0)) -> 0 | O34: =IF($N34<>1,"",1+SUMPRODUCT(($A$5:$A$604=$A34)*($B$5:$B$604<$B34)*($N$5:$N$604=1))) | P34: =IF(OR($N34<>1,$A34<>Lyga,AND(Pogrupis<>"",$F34<>Pogrupis)),"",1+SUMPRODUCT(($A$5:$A$604=Lyga)*($N$5:$N$604=1)*($B$5:$B$604<$B34)*((($F$5:$F$604=Pogrupis)+(Pogrupis=""))>0))) | T34: =IF($R34="","",IF($S34="",$R34,$R34&", "&$S34)) | W34: =IFERROR(INDEX($B$5:$B$604,SUMPRODUCT(MATCH(1,($A$5:$A$604="A")*($N$5:$N$604=1)*($O$5:$O$604=30),0))),"") | Y34: =IFERROR(INDEX($B$5:$B$604,SUMPRODUCT(MATCH(1,($A$5:$A$604="B")*($N$5:$N$604=1)*($O$5:$O$604=30),0))),"") | AA34: =IFERROR(INDEX($B$5:$B$604,SUMPRODUCT(MATCH(1,($A$5:$A$604="C")*($N$5:$N$604=1)*($O$5:$O$604=30),0))),"") | AB34: =IF($T34="","",COUNTIFS($T$5:$T$44,"<"&$T34,$T$5:$T$44,"?*")+COUNTIF($T$5:$T34,$T34)) | AC34: =IFERROR(INDEX($T$5:$T$44,MATCH(ROW()-4,$AB$5:$AB$44,0)),"") | AE34: =IFERROR(INDEX($B$5:$B$604,MATCH(30,$P$5:$P$604,0)),"") | AL34: =IF(NOT(OR($A34="A",$A34="B",$A34="C")),"","ADMIN_Duomenys!$"&IF($A34="A","W",IF($A34="B","Y","AA"))&"$5:$"&IF($A34="A","W",IF($A34="B","Y","AA"))&"$"&(4+MAX(1,COUNTIF(INDIRECT("ADMIN_Duomenys!$"&IF($A34="A","W",IF($A34="B","Y","AA"))&"$5:$"&IF($A34="A","W",IF($A34="B","Y","AA"))&"$44"),"?*")))) -> ADMIN_Duomenys!$W$5:$W$12
A35: A | B35: KAUNO GRŪDAI | C35: Dalia | D35: DRAGŪNAITĖ | E35: 8 | H35: =IF(OR($A35="",$B35="",$I35=""),"",SUMPRODUCT(($A$5:$A$604=$A35)*($B$5:$B$604=$B35)*($I$5:$I$604<>"")*($I$5:$I$604<$I35))+SUMPRODUCT(($A$5:$A$604=$A35)*($B$5:$B$604=$B35)*($I$5:$I$604=$I35)*(ROW($I$5:$I$604)<=ROW($I35)))) -> 2 | I35: =IF(TRIM($C35&$D35)="","",PROPER(TRIM($C35))&" "&UPPER(TRIM($D35))) -> Dalia DRAGŪNAITĖ | J35: =IF(OR($A35="",$B35="",$H35=""),"",$A35&"|"&$B35&"|"&$H35) -> A|KAUNO GRŪDAI|2 | K35: =IF(COUNTA($A35:$E35)=0,"",IF($A35="","← Nurodykite lygą (A / B / C)",IF($B35="","← Nurodykite komandą",IF(TRIM($C35)="","← Nurodykite vardą",IF(TRIM($D35)="","← Nurodykite pavardę",IF(NOT(ISNUMBER($E35)),"← Nurodykite Hcp (jei neturi – 0)",IF(AND(OR($A35="B",$A35="C"),NOT(OR($F35="Rytai",$F35="Vakarai"))),"← Nurodykite pogrupį (Rytai / Vakarai)",IF(AND($A35="A",OR($F35="Rytai",$F35="Vakarai")),"← A lygos komandos į pogrupius neskirstomos",IF(COUNTIFS($A$5:$A$604,$A35,$B$5:$B$604,$B35,$F$5:$F$604,"<>"&$F35)>0,"← Šios komandos pogrupis nurodytas nevienodai",IF($H35>8,"← Šioje komandoje jau daugiau nei 8 žaidėjai","")))))))))) | L35: =IF($I35="","",IF(COUNTIF($I$5:$I$604,$I35)>1,"ℹ tokių pačių vardų sąraše: "&COUNTIF($I$5:$I$604,$I35),IF(AND($B35<>"",COUNTIFS($A$5:$A$604,$A35,$B$5:$B$604,$B35)<3),"ℹ šioje komandoje tik "&COUNTIFS($A$5:$A$604,$A35,$B$5:$B$604,$B35)&" žaid. – ar ne rašybos klaida?",""))) | N35: =IF(OR($A35="",$B35=""),0,IF(COUNTIFS($A$5:$A35,$A35,$B$5:$B35,$B35)=1,1,0)) -> 0 | O35: =IF($N35<>1,"",1+SUMPRODUCT(($A$5:$A$604=$A35)*($B$5:$B$604<$B35)*($N$5:$N$604=1))) | P35: =IF(OR($N35<>1,$A35<>Lyga,AND(Pogrupis<>"",$F35<>Pogrupis)),"",1+SUMPRODUCT(($A$5:$A$604=Lyga)*($N$5:$N$604=1)*($B$5:$B$604<$B35)*((($F$5:$F$604=Pogrupis)+(Pogrupis=""))>0))) | T35: =IF($R35="","",IF($S35="",$R35,$R35&", "&$S35)) | W35: =IFERROR(INDEX($B$5:$B$604,SUMPRODUCT(MATCH(1,($A$5:$A$604="A")*($N$5:$N$604=1)*($O$5:$O$604=31),0))),"") | Y35: =IFERROR(INDEX($B$5:$B$604,SUMPRODUCT(MATCH(1,($A$5:$A$604="B")*($N$5:$N$604=1)*($O$5:$O$604=31),0))),"") | AA35: =IFERROR(INDEX($B$5:$B$604,SUMPRODUCT(MATCH(1,($A$5:$A$604="C")*($N$5:$N$604=1)*($O$5:$O$604=31),0))),"") | AB35: =IF($T35="","",COUNTIFS($T$5:$T$44,"<"&$T35,$T$5:$T$44,"?*")+COUNTIF($T$5:$T35,$T35)) | AC35: =IFERROR(INDEX($T$5:$T$44,MATCH(ROW()-4,$AB$5:$AB$44,0)),"") | AE35: =IFERROR(INDEX($B$5:$B$604,MATCH(31,$P$5:$P$604,0)),"") | AL35: =IF(NOT(OR($A35="A",$A35="B",$A35="C")),"","ADMIN_Duomenys!$"&IF($A35="A","W",IF($A35="B","Y","AA"))&"$5:$"&IF($A35="A","W",IF($A35="B","Y","AA"))&"$"&(4+MAX(1,COUNTIF(INDIRECT("ADMIN_Duomenys!$"&IF($A35="A","W",IF($A35="B","Y","AA"))&"$5:$"&IF($A35="A","W",IF($A35="B","Y","AA"))&"$44"),"?*")))) -> ADMIN_Duomenys!$W$5:$W$12
A36: A | B36: KAUNO GRŪDAI | C36: Povilas | D36: KALVAITIS | E36: 0 | H36: =IF(OR($A36="",$B36="",$I36=""),"",SUMPRODUCT(($A$5:$A$604=$A36)*($B$5:$B$604=$B36)*($I$5:$I$604<>"")*($I$5:$I$604<$I36))+SUMPRODUCT(($A$5:$A$604=$A36)*($B$5:$B$604=$B36)*($I$5:$I$604=$I36)*(ROW($I$5:$I$604)<=ROW($I36)))) -> 6 | I36: =IF(TRIM($C36&$D36)="","",PROPER(TRIM($C36))&" "&UPPER(TRIM($D36))) -> Povilas KALVAITIS | J36: =IF(OR($A36="",$B36="",$H36=""),"",$A36&"|"&$B36&"|"&$H36) -> A|KAUNO GRŪDAI|6 | K36: =IF(COUNTA($A36:$E36)=0,"",IF($A36="","← Nurodykite lygą (A / B / C)",IF($B36="","← Nurodykite komandą",IF(TRIM($C36)="","← Nurodykite vardą",IF(TRIM($D36)="","← Nurodykite pavardę",IF(NOT(ISNUMBER($E36)),"← Nurodykite Hcp (jei neturi – 0)",IF(AND(OR($A36="B",$A36="C"),NOT(OR($F36="Rytai",$F36="Vakarai"))),"← Nurodykite pogrupį (Rytai / Vakarai)",IF(AND($A36="A",OR($F36="Rytai",$F36="Vakarai")),"← A lygos komandos į pogrupius neskirstomos",IF(COUNTIFS($A$5:$A$604,$A36,$B$5:$B$604,$B36,$F$5:$F$604,"<>"&$F36)>0,"← Šios komandos pogrupis nurodytas nevienodai",IF($H36>8,"← Šioje komandoje jau daugiau nei 8 žaidėjai","")))))))))) | L36: =IF($I36="","",IF(COUNTIF($I$5:$I$604,$I36)>1,"ℹ tokių pačių vardų sąraše: "&COUNTIF($I$5:$I$604,$I36),IF(AND($B36<>"",COUNTIFS($A$5:$A$604,$A36,$B$5:$B$604,$B36)<3),"ℹ šioje komandoje tik "&COUNTIFS($A$5:$A$604,$A36,$B$5:$B$604,$B36)&" žaid. – ar ne rašybos klaida?",""))) | N36: =IF(OR($A36="",$B36=""),0,IF(COUNTIFS($A$5:$A36,$A36,$B$5:$B36,$B36)=1,1,0)) -> 0 | O36: =IF($N36<>1,"",1+SUMPRODUCT(($A$5:$A$604=$A36)*($B$5:$B$604<$B36)*($N$5:$N$604=1))) | P36: =IF(OR($N36<>1,$A36<>Lyga,AND(Pogrupis<>"",$F36<>Pogrupis)),"",1+SUMPRODUCT(($A$5:$A$604=Lyga)*($N$5:$N$604=1)*($B$5:$B$604<$B36)*((($F$5:$F$604=Pogrupis)+(Pogrupis=""))>0))) | T36: =IF($R36="","",IF($S36="",$R36,$R36&", "&$S36)) | W36: =IFERROR(INDEX($B$5:$B$604,SUMPRODUCT(MATCH(1,($A$5:$A$604="A")*($N$5:$N$604=1)*($O$5:$O$604=32),0))),"") | Y36: =IFERROR(INDEX($B$5:$B$604,SUMPRODUCT(MATCH(1,($A$5:$A$604="B")*($N$5:$N$604=1)*($O$5:$O$604=32),0))),"") | AA36: =IFERROR(INDEX($B$5:$B$604,SUMPRODUCT(MATCH(1,($A$5:$A$604="C")*($N$5:$N$604=1)*($O$5:$O$604=32),0))),"") | AB36: =IF($T36="","",COUNTIFS($T$5:$T$44,"<"&$T36,$T$5:$T$44,"?*")+COUNTIF($T$5:$T36,$T36)) | AC36: =IFERROR(INDEX($T$5:$T$44,MATCH(ROW()-4,$AB$5:$AB$44,0)),"") | AE36: =IFERROR(INDEX($B$5:$B$604,MATCH(32,$P$5:$P$604,0)),"") | AL36: =IF(NOT(OR($A36="A",$A36="B",$A36="C")),"","ADMIN_Duomenys!$"&IF($A36="A","W",IF($A36="B","Y","AA"))&"$5:$"&IF($A36="A","W",IF($A36="B","Y","AA"))&"$"&(4+MAX(1,COUNTIF(INDIRECT("ADMIN_Duomenys!$"&IF($A36="A","W",IF($A36="B","Y","AA"))&"$5:$"&IF($A36="A","W",IF($A36="B","Y","AA"))&"$44"),"?*")))) -> ADMIN_Duomenys!$W$5:$W$12
A37: A | B37: KAUNO GRŪDAI | C37: Klaudijus | D37: RIMKEVIČIUS | E37: 0 | H37: =IF(OR($A37="",$B37="",$I37=""),"",SUMPRODUCT(($A$5:$A$604=$A37)*($B$5:$B$604=$B37)*($I$5:$I$604<>"")*($I$5:$I$604<$I37))+SUMPRODUCT(($A$5:$A$604=$A37)*($B$5:$B$604=$B37)*($I$5:$I$604=$I37)*(ROW($I$5:$I$604)<=ROW($I37)))) -> 5 | I37: =IF(TRIM($C37&$D37)="","",PROPER(TRIM($C37))&" "&UPPER(TRIM($D37))) -> Klaudijus RIMKEVIČIUS | J37: =IF(OR($A37="",$B37="",$H37=""),"",$A37&"|"&$B37&"|"&$H37) -> A|KAUNO GRŪDAI|5 | K37: =IF(COUNTA($A37:$E37)=0,"",IF($A37="","← Nurodykite lygą (A / B / C)",IF($B37="","← Nurodykite komandą",IF(TRIM($C37)="","← Nurodykite vardą",IF(TRIM($D37)="","← Nurodykite pavardę",IF(NOT(ISNUMBER($E37)),"← Nurodykite Hcp (jei neturi – 0)",IF(AND(OR($A37="B",$A37="C"),NOT(OR($F37="Rytai",$F37="Vakarai"))),"← Nurodykite pogrupį (Rytai / Vakarai)",IF(AND($A37="A",OR($F37="Rytai",$F37="Vakarai")),"← A lygos komandos į pogrupius neskirstomos",IF(COUNTIFS($A$5:$A$604,$A37,$B$5:$B$604,$B37,$F$5:$F$604,"<>"&$F37)>0,"← Šios komandos pogrupis nurodytas nevienodai",IF($H37>8,"← Šioje komandoje jau daugiau nei 8 žaidėjai","")))))))))) | L37: =IF($I37="","",IF(COUNTIF($I$5:$I$604,$I37)>1,"ℹ tokių pačių vardų sąraše: "&COUNTIF($I$5:$I$604,$I37),IF(AND($B37<>"",COUNTIFS($A$5:$A$604,$A37,$B$5:$B$604,$B37)<3),"ℹ šioje komandoje tik "&COUNTIFS($A$5:$A$604,$A37,$B$5:$B$604,$B37)&" žaid. – ar ne rašybos klaida?",""))) | N37: =IF(OR($A37="",$B37=""),0,IF(COUNTIFS($A$5:$A37,$A37,$B$5:$B37,$B37)=1,1,0)) -> 0 | O37: =IF($N37<>1,"",1+SUMPRODUCT(($A$5:$A$604=$A37)*($B$5:$B$604<$B37)*($N$5:$N$604=1))) | P37: =IF(OR($N37<>1,$A37<>Lyga,AND(Pogrupis<>"",$F37<>Pogrupis)),"",1+SUMPRODUCT(($A$5:$A$604=Lyga)*($N$5:$N$604=1)*($B$5:$B$604<$B37)*((($F$5:$F$604=Pogrupis)+(Pogrupis=""))>0))) | T37: =IF($R37="","",IF($S37="",$R37,$R37&", "&$S37)) | W37: =IFERROR(INDEX($B$5:$B$604,SUMPRODUCT(MATCH(1,($A$5:$A$604="A")*($N$5:$N$604=1)*($O$5:$O$604=33),0))),"") | Y37: =IFERROR(INDEX($B$5:$B$604,SUMPRODUCT(MATCH(1,($A$5:$A$604="B")*($N$5:$N$604=1)*($O$5:$O$604=33),0))),"") | AA37: =IFERROR(INDEX($B$5:$B$604,SUMPRODUCT(MATCH(1,($A$5:$A$604="C")*($N$5:$N$604=1)*($O$5:$O$604=33),0))),"") | AB37: =IF($T37="","",COUNTIFS($T$5:$T$44,"<"&$T37,$T$5:$T$44,"?*")+COUNTIF($T$5:$T37,$T37)) | AC37: =IFERROR(INDEX($T$5:$T$44,MATCH(ROW()-4,$AB$5:$AB$44,0)),"") | AE37: =IFERROR(INDEX($B$5:$B$604,MATCH(33,$P$5:$P$604,0)),"") | AL37: =IF(NOT(OR($A37="A",$A37="B",$A37="C")),"","ADMIN_Duomenys!$"&IF($A37="A","W",IF($A37="B","Y","AA"))&"$5:$"&IF($A37="A","W",IF($A37="B","Y","AA"))&"$"&(4+MAX(1,COUNTIF(INDIRECT("ADMIN_Duomenys!$"&IF($A37="A","W",IF($A37="B","Y","AA"))&"$5:$"&IF($A37="A","W",IF($A37="B","Y","AA"))&"$44"),"?*")))) -> ADMIN_Duomenys!$W$5:$W$12
A38: A | B38: KAUNO GRŪDAI | C38: Kęstutis | D38: ŽEMAITAITIS | E38: 0 | H38: =IF(OR($A38="",$B38="",$I38=""),"",SUMPRODUCT(($A$5:$A$604=$A38)*($B$5:$B$604=$B38)*($I$5:$I$604<>"")*($I$5:$I$604<$I38))+SUMPRODUCT(($A$5:$A$604=$A38)*($B$5:$B$604=$B38)*($I$5:$I$604=$I38)*(ROW($I$5:$I$604)<=ROW($I38)))) -> 4 | I38: =IF(TRIM($C38&$D38)="","",PROPER(TRIM($C38))&" "&UPPER(TRIM($D38))) -> Kęstutis ŽEMAITAITIS | J38: =IF(OR($A38="",$B38="",$H38=""),"",$A38&"|"&$B38&"|"&$H38) -> A|KAUNO GRŪDAI|4 | K38: =IF(COUNTA($A38:$E38)=0,"",IF($A38="","← Nurodykite lygą (A / B / C)",IF($B38="","← Nurodykite komandą",IF(TRIM($C38)="","← Nurodykite vardą",IF(TRIM($D38)="","← Nurodykite pavardę",IF(NOT(ISNUMBER($E38)),"← Nurodykite Hcp (jei neturi – 0)",IF(AND(OR($A38="B",$A38="C"),NOT(OR($F38="Rytai",$F38="Vakarai"))),"← Nurodykite pogrupį (Rytai / Vakarai)",IF(AND($A38="A",OR($F38="Rytai",$F38="Vakarai")),"← A lygos komandos į pogrupius neskirstomos",IF(COUNTIFS($A$5:$A$604,$A38,$B$5:$B$604,$B38,$F$5:$F$604,"<>"&$F38)>0,"← Šios komandos pogrupis nurodytas nevienodai",IF($H38>8,"← Šioje komandoje jau daugiau nei 8 žaidėjai","")))))))))) | L38: =IF($I38="","",IF(COUNTIF($I$5:$I$604,$I38)>1,"ℹ tokių pačių vardų sąraše: "&COUNTIF($I$5:$I$604,$I38),IF(AND($B38<>"",COUNTIFS($A$5:$A$604,$A38,$B$5:$B$604,$B38)<3),"ℹ šioje komandoje tik "&COUNTIFS($A$5:$A$604,$A38,$B$5:$B$604,$B38)&" žaid. – ar ne rašybos klaida?",""))) | N38: =IF(OR($A38="",$B38=""),0,IF(COUNTIFS($A$5:$A38,$A38,$B$5:$B38,$B38)=1,1,0)) -> 0 | O38: =IF($N38<>1,"",1+SUMPRODUCT(($A$5:$A$604=$A38)*($B$5:$B$604<$B38)*($N$5:$N$604=1))) | P38: =IF(OR($N38<>1,$A38<>Lyga,AND(Pogrupis<>"",$F38<>Pogrupis)),"",1+SUMPRODUCT(($A$5:$A$604=Lyga)*($N$5:$N$604=1)*($B$5:$B$604<$B38)*((($F$5:$F$604=Pogrupis)+(Pogrupis=""))>0))) | T38: =IF($R38="","",IF($S38="",$R38,$R38&", "&$S38)) | W38: =IFERROR(INDEX($B$5:$B$604,SUMPRODUCT(MATCH(1,($A$5:$A$604="A")*($N$5:$N$604=1)*($O$5:$O$604=34),0))),"") | Y38: =IFERROR(INDEX($B$5:$B$604,SUMPRODUCT(MATCH(1,($A$5:$A$604="B")*($N$5:$N$604=1)*($O$5:$O$604=34),0))),"") | AA38: =IFERROR(INDEX($B$5:$B$604,SUMPRODUCT(MATCH(1,($A$5:$A$604="C")*($N$5:$N$604=1)*($O$5:$O$604=34),0))),"") | AB38: =IF($T38="","",COUNTIFS($T$5:$T$44,"<"&$T38,$T$5:$T$44,"?*")+COUNTIF($T$5:$T38,$T38)) | AC38: =IFERROR(INDEX($T$5:$T$44,MATCH(ROW()-4,$AB$5:$AB$44,0)),"") | AE38: =IFERROR(INDEX($B$5:$B$604,MATCH(34,$P$5:$P$604,0)),"") | AL38: =IF(NOT(OR($A38="A",$A38="B",$A38="C")),"","ADMIN_Duomenys!$"&IF($A38="A","W",IF($A38="B","Y","AA"))&"$5:$"&IF($A38="A","W",IF($A38="B","Y","AA"))&"$"&(4+MAX(1,COUNTIF(INDIRECT("ADMIN_Duomenys!$"&IF($A38="A","W",IF($A38="B","Y","AA"))&"$5:$"&IF($A38="A","W",IF($A38="B","Y","AA"))&"$44"),"?*")))) -> ADMIN_Duomenys!$W$5:$W$12
A39: A | B39: PROMETĖJAS | C39: Rimvydas | D39: BALŽEKAS | E39: 0 | H39: =IF(OR($A39="",$B39="",$I39=""),"",SUMPRODUCT(($A$5:$A$604=$A39)*($B$5:$B$604=$B39)*($I$5:$I$604<>"")*($I$5:$I$604<$I39))+SUMPRODUCT(($A$5:$A$604=$A39)*($B$5:$B$604=$B39)*($I$5:$I$604=$I39)*(ROW($I$5:$I$604)<=ROW($I39)))) -> 7 | I39: =IF(TRIM($C39&$D39)="","",PROPER(TRIM($C39))&" "&UPPER(TRIM($D39))) -> Rimvydas BALŽEKAS | J39: =IF(OR($A39="",$B39="",$H39=""),"",$A39&"|"&$B39&"|"&$H39) -> A|PROMETĖJAS|7 | K39: =IF(COUNTA($A39:$E39)=0,"",IF($A39="","← Nurodykite lygą (A / B / C)",IF($B39="","← Nurodykite komandą",IF(TRIM($C39)="","← Nurodykite vardą",IF(TRIM($D39)="","← Nurodykite pavardę",IF(NOT(ISNUMBER($E39)),"← Nurodykite Hcp (jei neturi – 0)",IF(AND(OR($A39="B",$A39="C"),NOT(OR($F39="Rytai",$F39="Vakarai"))),"← Nurodykite pogrupį (Rytai / Vakarai)",IF(AND($A39="A",OR($F39="Rytai",$F39="Vakarai")),"← A lygos komandos į pogrupius neskirstomos",IF(COUNTIFS($A$5:$A$604,$A39,$B$5:$B$604,$B39,$F$5:$F$604,"<>"&$F39)>0,"← Šios komandos pogrupis nurodytas nevienodai",IF($H39>8,"← Šioje komandoje jau daugiau nei 8 žaidėjai","")))))))))) | L39: =IF($I39="","",IF(COUNTIF($I$5:$I$604,$I39)>1,"ℹ tokių pačių vardų sąraše: "&COUNTIF($I$5:$I$604,$I39),IF(AND($B39<>"",COUNTIFS($A$5:$A$604,$A39,$B$5:$B$604,$B39)<3),"ℹ šioje komandoje tik "&COUNTIFS($A$5:$A$604,$A39,$B$5:$B$604,$B39)&" žaid. – ar ne rašybos klaida?",""))) | N39: =IF(OR($A39="",$B39=""),0,IF(COUNTIFS($A$5:$A39,$A39,$B$5:$B39,$B39)=1,1,0)) -> 1 | O39: =IF($N39<>1,"",1+SUMPRODUCT(($A$5:$A$604=$A39)*($B$5:$B$604<$B39)*($N$5:$N$604=1))) -> 6 | P39: =IF(OR($N39<>1,$A39<>Lyga,AND(Pogrupis<>"",$F39<>Pogrupis)),"",1+SUMPRODUCT(($A$5:$A$604=Lyga)*($N$5:$N$604=1)*($B$5:$B$604<$B39)*((($F$5:$F$604=Pogrupis)+(Pogrupis=""))>0))) | T39: =IF($R39="","",IF($S39="",$R39,$R39&", "&$S39)) | W39: =IFERROR(INDEX($B$5:$B$604,SUMPRODUCT(MATCH(1,($A$5:$A$604="A")*($N$5:$N$604=1)*($O$5:$O$604=35),0))),"") | Y39: =IFERROR(INDEX($B$5:$B$604,SUMPRODUCT(MATCH(1,($A$5:$A$604="B")*($N$5:$N$604=1)*($O$5:$O$604=35),0))),"") | AA39: =IFERROR(INDEX($B$5:$B$604,SUMPRODUCT(MATCH(1,($A$5:$A$604="C")*($N$5:$N$604=1)*($O$5:$O$604=35),0))),"") | AB39: =IF($T39="","",COUNTIFS($T$5:$T$44,"<"&$T39,$T$5:$T$44,"?*")+COUNTIF($T$5:$T39,$T39)) | AC39: =IFERROR(INDEX($T$5:$T$44,MATCH(ROW()-4,$AB$5:$AB$44,0)),"") | AE39: =IFERROR(INDEX($B$5:$B$604,MATCH(35,$P$5:$P$604,0)),"") | AL39: =IF(NOT(OR($A39="A",$A39="B",$A39="C")),"","ADMIN_Duomenys!$"&IF($A39="A","W",IF($A39="B","Y","AA"))&"$5:$"&IF($A39="A","W",IF($A39="B","Y","AA"))&"$"&(4+MAX(1,COUNTIF(INDIRECT("ADMIN_Duomenys!$"&IF($A39="A","W",IF($A39="B","Y","AA"))&"$5:$"&IF($A39="A","W",IF($A39="B","Y","AA"))&"$44"),"?*")))) -> ADMIN_Duomenys!$W$5:$W$12
A40: A | B40: PROMETĖJAS | C40: Aidas | D40: BORODINAS | E40: 0 | H40: =IF(OR($A40="",$B40="",$I40=""),"",SUMPRODUCT(($A$5:$A$604=$A40)*($B$5:$B$604=$B40)*($I$5:$I$604<>"")*($I$5:$I$604<$I40))+SUMPRODUCT(($A$5:$A$604=$A40)*($B$5:$B$604=$B40)*($I$5:$I$604=$I40)*(ROW($I$5:$I$604)<=ROW($I40)))) -> 1 | I40: =IF(TRIM($C40&$D40)="","",PROPER(TRIM($C40))&" "&UPPER(TRIM($D40))) -> Aidas BORODINAS | J40: =IF(OR($A40="",$B40="",$H40=""),"",$A40&"|"&$B40&"|"&$H40) -> A|PROMETĖJAS|1 | K40: =IF(COUNTA($A40:$E40)=0,"",IF($A40="","← Nurodykite lygą (A / B / C)",IF($B40="","← Nurodykite komandą",IF(TRIM($C40)="","← Nurodykite vardą",IF(TRIM($D40)="","← Nurodykite pavardę",IF(NOT(ISNUMBER($E40)),"← Nurodykite Hcp (jei neturi – 0)",IF(AND(OR($A40="B",$A40="C"),NOT(OR($F40="Rytai",$F40="Vakarai"))),"← Nurodykite pogrupį (Rytai / Vakarai)",IF(AND($A40="A",OR($F40="Rytai",$F40="Vakarai")),"← A lygos komandos į pogrupius neskirstomos",IF(COUNTIFS($A$5:$A$604,$A40,$B$5:$B$604,$B40,$F$5:$F$604,"<>"&$F40)>0,"← Šios komandos pogrupis nurodytas nevienodai",IF($H40>8,"← Šioje komandoje jau daugiau nei 8 žaidėjai","")))))))))) | L40: =IF($I40="","",IF(COUNTIF($I$5:$I$604,$I40)>1,"ℹ tokių pačių vardų sąraše: "&COUNTIF($I$5:$I$604,$I40),IF(AND($B40<>"",COUNTIFS($A$5:$A$604,$A40,$B$5:$B$604,$B40)<3),"ℹ šioje komandoje tik "&COUNTIFS($A$5:$A$604,$A40,$B$5:$B$604,$B40)&" žaid. – ar ne rašybos klaida?",""))) | N40: =IF(OR($A40="",$B40=""),0,IF(COUNTIFS($A$5:$A40,$A40,$B$5:$B40,$B40)=1,1,0)) -> 0 | O40: =IF($N40<>1,"",1+SUMPRODUCT(($A$5:$A$604=$A40)*($B$5:$B$604<$B40)*($N$5:$N$604=1))) | P40: =IF(OR($N40<>1,$A40<>Lyga,AND(Pogrupis<>"",$F40<>Pogrupis)),"",1+SUMPRODUCT(($A$5:$A$604=Lyga)*($N$5:$N$604=1)*($B$5:$B$604<$B40)*((($F$5:$F$604=Pogrupis)+(Pogrupis=""))>0))) | T40: =IF($R40="","",IF($S40="",$R40,$R40&", "&$S40)) | W40: =IFERROR(INDEX($B$5:$B$604,SUMPRODUCT(MATCH(1,($A$5:$A$604="A")*($N$5:$N$604=1)*($O$5:$O$604=36),0))),"") | Y40: =IFERROR(INDEX($B$5:$B$604,SUMPRODUCT(MATCH(1,($A$5:$A$604="B")*($N$5:$N$604=1)*($O$5:$O$604=36),0))),"") | AA40: =IFERROR(INDEX($B$5:$B$604,SUMPRODUCT(MATCH(1,($A$5:$A$604="C")*($N$5:$N$604=1)*($O$5:$O$604=36),0))),"") | AB40: =IF($T40="","",COUNTIFS($T$5:$T$44,"<"&$T40,$T$5:$T$44,"?*")+COUNTIF($T$5:$T40,$T40)) | AC40: =IFERROR(INDEX($T$5:$T$44,MATCH(ROW()-4,$AB$5:$AB$44,0)),"") | AE40: =IFERROR(INDEX($B$5:$B$604,MATCH(36,$P$5:$P$604,0)),"") | AL40: =IF(NOT(OR($A40="A",$A40="B",$A40="C")),"","ADMIN_Duomenys!$"&IF($A40="A","W",IF($A40="B","Y","AA"))&"$5:$"&IF($A40="A","W",IF($A40="B","Y","AA"))&"$"&(4+MAX(1,COUNTIF(INDIRECT("ADMIN_Duomenys!$"&IF($A40="A","W",IF($A40="B","Y","AA"))&"$5:$"&IF($A40="A","W",IF($A40="B","Y","AA"))&"$44"),"?*")))) -> ADMIN_Duomenys!$W$5:$W$12
A41: A | B41: PROMETĖJAS | C41: Arnoldas | D41: JURGELEVIČIUS | E41: 0 | H41: =IF(OR($A41="",$B41="",$I41=""),"",SUMPRODUCT(($A$5:$A$604=$A41)*($B$5:$B$604=$B41)*($I$5:$I$604<>"")*($I$5:$I$604<$I41))+SUMPRODUCT(($A$5:$A$604=$A41)*($B$5:$B$604=$B41)*($I$5:$I$604=$I41)*(ROW($I$5:$I$604)<=ROW($I41)))) -> 2 | I41: =IF(TRIM($C41&$D41)="","",PROPER(TRIM($C41))&" "&UPPER(TRIM($D41))) -> Arnoldas JURGELEVIČIUS | J41: =IF(OR($A41="",$B41="",$H41=""),"",$A41&"|"&$B41&"|"&$H41) -> A|PROMETĖJAS|2 | K41: =IF(COUNTA($A41:$E41)=0,"",IF($A41="","← Nurodykite lygą (A / B / C)",IF($B41="","← Nurodykite komandą",IF(TRIM($C41)="","← Nurodykite vardą",IF(TRIM($D41)="","← Nurodykite pavardę",IF(NOT(ISNUMBER($E41)),"← Nurodykite Hcp (jei neturi – 0)",IF(AND(OR($A41="B",$A41="C"),NOT(OR($F41="Rytai",$F41="Vakarai"))),"← Nurodykite pogrupį (Rytai / Vakarai)",IF(AND($A41="A",OR($F41="Rytai",$F41="Vakarai")),"← A lygos komandos į pogrupius neskirstomos",IF(COUNTIFS($A$5:$A$604,$A41,$B$5:$B$604,$B41,$F$5:$F$604,"<>"&$F41)>0,"← Šios komandos pogrupis nurodytas nevienodai",IF($H41>8,"← Šioje komandoje jau daugiau nei 8 žaidėjai","")))))))))) | L41: =IF($I41="","",IF(COUNTIF($I$5:$I$604,$I41)>1,"ℹ tokių pačių vardų sąraše: "&COUNTIF($I$5:$I$604,$I41),IF(AND($B41<>"",COUNTIFS($A$5:$A$604,$A41,$B$5:$B$604,$B41)<3),"ℹ šioje komandoje tik "&COUNTIFS($A$5:$A$604,$A41,$B$5:$B$604,$B41)&" žaid. – ar ne rašybos klaida?",""))) | N41: =IF(OR($A41="",$B41=""),0,IF(COUNTIFS($A$5:$A41,$A41,$B$5:$B41,$B41)=1,1,0)) -> 0 | O41: =IF($N41<>1,"",1+SUMPRODUCT(($A$5:$A$604=$A41)*($B$5:$B$604<$B41)*($N$5:$N$604=1))) | P41: =IF(OR($N41<>1,$A41<>Lyga,AND(Pogrupis<>"",$F41<>Pogrupis)),"",1+SUMPRODUCT(($A$5:$A$604=Lyga)*($N$5:$N$604=1)*($B$5:$B$604<$B41)*((($F$5:$F$604=Pogrupis)+(Pogrupis=""))>0))) | T41: =IF($R41="","",IF($S41="",$R41,$R41&", "&$S41)) | W41: =IFERROR(INDEX($B$5:$B$604,SUMPRODUCT(MATCH(1,($A$5:$A$604="A")*($N$5:$N$604=1)*($O$5:$O$604=37),0))),"") | Y41: =IFERROR(INDEX($B$5:$B$604,SUMPRODUCT(MATCH(1,($A$5:$A$604="B")*($N$5:$N$604=1)*($O$5:$O$604=37),0))),"") | AA41: =IFERROR(INDEX($B$5:$B$604,SUMPRODUCT(MATCH(1,($A$5:$A$604="C")*($N$5:$N$604=1)*($O$5:$O$604=37),0))),"") | AB41: =IF($T41="","",COUNTIFS($T$5:$T$44,"<"&$T41,$T$5:$T$44,"?*")+COUNTIF($T$5:$T41,$T41)) | AC41: =IFERROR(INDEX($T$5:$T$44,MATCH(ROW()-4,$AB$5:$AB$44,0)),"") | AE41: =IFERROR(INDEX($B$5:$B$604,MATCH(37,$P$5:$P$604,0)),"") | AL41: =IF(NOT(OR($A41="A",$A41="B",$A41="C")),"","ADMIN_Duomenys!$"&IF($A41="A","W",IF($A41="B","Y","AA"))&"$5:$"&IF($A41="A","W",IF($A41="B","Y","AA"))&"$"&(4+MAX(1,COUNTIF(INDIRECT("ADMIN_Duomenys!$"&IF($A41="A","W",IF($A41="B","Y","AA"))&"$5:$"&IF($A41="A","W",IF($A41="B","Y","AA"))&"$44"),"?*")))) -> ADMIN_Duomenys!$W$5:$W$12
A42: A | B42: PROMETĖJAS | C42: Drąsius | D42: KIETIS | E42: 0 | H42: =IF(OR($A42="",$B42="",$I42=""),"",SUMPRODUCT(($A$5:$A$604=$A42)*($B$5:$B$604=$B42)*($I$5:$I$604<>"")*($I$5:$I$604<$I42))+SUMPRODUCT(($A$5:$A$604=$A42)*($B$5:$B$604=$B42)*($I$5:$I$604=$I42)*(ROW($I$5:$I$604)<=ROW($I42)))) -> 3 | I42: =IF(TRIM($C42&$D42)="","",PROPER(TRIM($C42))&" "&UPPER(TRIM($D42))) -> Drąsius KIETIS | J42: =IF(OR($A42="",$B42="",$H42=""),"",$A42&"|"&$B42&"|"&$H42) -> A|PROMETĖJAS|3 | K42: =IF(COUNTA($A42:$E42)=0,"",IF($A42="","← Nurodykite lygą (A / B / C)",IF($B42="","← Nurodykite komandą",IF(TRIM($C42)="","← Nurodykite vardą",IF(TRIM($D42)="","← Nurodykite pavardę",IF(NOT(ISNUMBER($E42)),"← Nurodykite Hcp (jei neturi – 0)",IF(AND(OR($A42="B",$A42="C"),NOT(OR($F42="Rytai",$F42="Vakarai"))),"← Nurodykite pogrupį (Rytai / Vakarai)",IF(AND($A42="A",OR($F42="Rytai",$F42="Vakarai")),"← A lygos komandos į pogrupius neskirstomos",IF(COUNTIFS($A$5:$A$604,$A42,$B$5:$B$604,$B42,$F$5:$F$604,"<>"&$F42)>0,"← Šios komandos pogrupis nurodytas nevienodai",IF($H42>8,"← Šioje komandoje jau daugiau nei 8 žaidėjai","")))))))))) | L42: =IF($I42="","",IF(COUNTIF($I$5:$I$604,$I42)>1,"ℹ tokių pačių vardų sąraše: "&COUNTIF($I$5:$I$604,$I42),IF(AND($B42<>"",COUNTIFS($A$5:$A$604,$A42,$B$5:$B$604,$B42)<3),"ℹ šioje komandoje tik "&COUNTIFS($A$5:$A$604,$A42,$B$5:$B$604,$B42)&" žaid. – ar ne rašybos klaida?",""))) | N42: =IF(OR($A42="",$B42=""),0,IF(COUNTIFS($A$5:$A42,$A42,$B$5:$B42,$B42)=1,1,0)) -> 0 | O42: =IF($N42<>1,"",1+SUMPRODUCT(($A$5:$A$604=$A42)*($B$5:$B$604<$B42)*($N$5:$N$604=1))) | P42: =IF(OR($N42<>1,$A42<>Lyga,AND(Pogrupis<>"",$F42<>Pogrupis)),"",1+SUMPRODUCT(($A$5:$A$604=Lyga)*($N$5:$N$604=1)*($B$5:$B$604<$B42)*((($F$5:$F$604=Pogrupis)+(Pogrupis=""))>0))) | T42: =IF($R42="","",IF($S42="",$R42,$R42&", "&$S42)) | W42: =IFERROR(INDEX($B$5:$B$604,SUMPRODUCT(MATCH(1,($A$5:$A$604="A")*($N$5:$N$604=1)*($O$5:$O$604=38),0))),"") | Y42: =IFERROR(INDEX($B$5:$B$604,SUMPRODUCT(MATCH(1,($A$5:$A$604="B")*($N$5:$N$604=1)*($O$5:$O$604=38),0))),"") | AA42: =IFERROR(INDEX($B$5:$B$604,SUMPRODUCT(MATCH(1,($A$5:$A$604="C")*($N$5:$N$604=1)*($O$5:$O$604=38),0))),"") | AB42: =IF($T42="","",COUNTIFS($T$5:$T$44,"<"&$T42,$T$5:$T$44,"?*")+COUNTIF($T$5:$T42,$T42)) | AC42: =IFERROR(INDEX($T$5:$T$44,MATCH(ROW()-4,$AB$5:$AB$44,0)),"") | AE42: =IFERROR(INDEX($B$5:$B$604,MATCH(38,$P$5:$P$604,0)),"") | AL42: =IF(NOT(OR($A42="A",$A42="B",$A42="C")),"","ADMIN_Duomenys!$"&IF($A42="A","W",IF($A42="B","Y","AA"))&"$5:$"&IF($A42="A","W",IF($A42="B","Y","AA"))&"$"&(4+MAX(1,COUNTIF(INDIRECT("ADMIN_Duomenys!$"&IF($A42="A","W",IF($A42="B","Y","AA"))&"$5:$"&IF($A42="A","W",IF($A42="B","Y","AA"))&"$44"),"?*")))) -> ADMIN_Duomenys!$W$5:$W$12
A43: A | B43: PROMETĖJAS | C43: Osvaldas | D43: NOREIKA | E43: 0 | H43: =IF(OR($A43="",$B43="",$I43=""),"",SUMPRODUCT(($A$5:$A$604=$A43)*($B$5:$B$604=$B43)*($I$5:$I$604<>"")*($I$5:$I$604<$I43))+SUMPRODUCT(($A$5:$A$604=$A43)*($B$5:$B$604=$B43)*($I$5:$I$604=$I43)*(ROW($I$5:$I$604)<=ROW($I43)))) -> 6 | I43: =IF(TRIM($C43&$D43)="","",PROPER(TRIM($C43))&" "&UPPER(TRIM($D43))) -> Osvaldas NOREIKA | J43: =IF(OR($A43="",$B43="",$H43=""),"",$A43&"|"&$B43&"|"&$H43) -> A|PROMETĖJAS|6 | K43: =IF(COUNTA($A43:$E43)=0,"",IF($A43="","← Nurodykite lygą (A / B / C)",IF($B43="","← Nurodykite komandą",IF(TRIM($C43)="","← Nurodykite vardą",IF(TRIM($D43)="","← Nurodykite pavardę",IF(NOT(ISNUMBER($E43)),"← Nurodykite Hcp (jei neturi – 0)",IF(AND(OR($A43="B",$A43="C"),NOT(OR($F43="Rytai",$F43="Vakarai"))),"← Nurodykite pogrupį (Rytai / Vakarai)",IF(AND($A43="A",OR($F43="Rytai",$F43="Vakarai")),"← A lygos komandos į pogrupius neskirstomos",IF(COUNTIFS($A$5:$A$604,$A43,$B$5:$B$604,$B43,$F$5:$F$604,"<>"&$F43)>0,"← Šios komandos pogrupis nurodytas nevienodai",IF($H43>8,"← Šioje komandoje jau daugiau nei 8 žaidėjai","")))))))))) | L43: =IF($I43="","",IF(COUNTIF($I$5:$I$604,$I43)>1,"ℹ tokių pačių vardų sąraše: "&COUNTIF($I$5:$I$604,$I43),IF(AND($B43<>"",COUNTIFS($A$5:$A$604,$A43,$B$5:$B$604,$B43)<3),"ℹ šioje komandoje tik "&COUNTIFS($A$5:$A$604,$A43,$B$5:$B$604,$B43)&" žaid. – ar ne rašybos klaida?",""))) | N43: =IF(OR($A43="",$B43=""),0,IF(COUNTIFS($A$5:$A43,$A43,$B$5:$B43,$B43)=1,1,0)) -> 0 | O43: =IF($N43<>1,"",1+SUMPRODUCT(($A$5:$A$604=$A43)*($B$5:$B$604<$B43)*($N$5:$N$604=1))) | P43: =IF(OR($N43<>1,$A43<>Lyga,AND(Pogrupis<>"",$F43<>Pogrupis)),"",1+SUMPRODUCT(($A$5:$A$604=Lyga)*($N$5:$N$604=1)*($B$5:$B$604<$B43)*((($F$5:$F$604=Pogrupis)+(Pogrupis=""))>0))) | T43: =IF($R43="","",IF($S43="",$R43,$R43&", "&$S43)) | W43: =IFERROR(INDEX($B$5:$B$604,SUMPRODUCT(MATCH(1,($A$5:$A$604="A")*($N$5:$N$604=1)*($O$5:$O$604=39),0))),"") | Y43: =IFERROR(INDEX($B$5:$B$604,SUMPRODUCT(MATCH(1,($A$5:$A$604="B")*($N$5:$N$604=1)*($O$5:$O$604=39),0))),"") | AA43: =IFERROR(INDEX($B$5:$B$604,SUMPRODUCT(MATCH(1,($A$5:$A$604="C")*($N$5:$N$604=1)*($O$5:$O$604=39),0))),"") | AB43: =IF($T43="","",COUNTIFS($T$5:$T$44,"<"&$T43,$T$5:$T$44,"?*")+COUNTIF($T$5:$T43,$T43)) | AC43: =IFERROR(INDEX($T$5:$T$44,MATCH(ROW()-4,$AB$5:$AB$44,0)),"") | AE43: =IFERROR(INDEX($B$5:$B$604,MATCH(39,$P$5:$P$604,0)),"") | AL43: =IF(NOT(OR($A43="A",$A43="B",$A43="C")),"","ADMIN_Duomenys!$"&IF($A43="A","W",IF($A43="B","Y","AA"))&"$5:$"&IF($A43="A","W",IF($A43="B","Y","AA"))&"$"&(4+MAX(1,COUNTIF(INDIRECT("ADMIN_Duomenys!$"&IF($A43="A","W",IF($A43="B","Y","AA"))&"$5:$"&IF($A43="A","W",IF($A43="B","Y","AA"))&"$44"),"?*")))) -> ADMIN_Duomenys!$W$5:$W$12
A44: A | B44: PROMETĖJAS | C44: Kristina | D44: RULYTĖ | E44: 8 | H44: =IF(OR($A44="",$B44="",$I44=""),"",SUMPRODUCT(($A$5:$A$604=$A44)*($B$5:$B$604=$B44)*($I$5:$I$604<>"")*($I$5:$I$604<$I44))+SUMPRODUCT(($A$5:$A$604=$A44)*($B$5:$B$604=$B44)*($I$5:$I$604=$I44)*(ROW($I$5:$I$604)<=ROW($I44)))) -> 5 | I44: =IF(TRIM($C44&$D44)="","",PROPER(TRIM($C44))&" "&UPPER(TRIM($D44))) -> Kristina RULYTĖ | J44: =IF(OR($A44="",$B44="",$H44=""),"",$A44&"|"&$B44&"|"&$H44) -> A|PROMETĖJAS|5 | K44: =IF(COUNTA($A44:$E44)=0,"",IF($A44="","← Nurodykite lygą (A / B / C)",IF($B44="","← Nurodykite komandą",IF(TRIM($C44)="","← Nurodykite vardą",IF(TRIM($D44)="","← Nurodykite pavardę",IF(NOT(ISNUMBER($E44)),"← Nurodykite Hcp (jei neturi – 0)",IF(AND(OR($A44="B",$A44="C"),NOT(OR($F44="Rytai",$F44="Vakarai"))),"← Nurodykite pogrupį (Rytai / Vakarai)",IF(AND($A44="A",OR($F44="Rytai",$F44="Vakarai")),"← A lygos komandos į pogrupius neskirstomos",IF(COUNTIFS($A$5:$A$604,$A44,$B$5:$B$604,$B44,$F$5:$F$604,"<>"&$F44)>0,"← Šios komandos pogrupis nurodytas nevienodai",IF($H44>8,"← Šioje komandoje jau daugiau nei 8 žaidėjai","")))))))))) | L44: =IF($I44="","",IF(COUNTIF($I$5:$I$604,$I44)>1,"ℹ tokių pačių vardų sąraše: "&COUNTIF($I$5:$I$604,$I44),IF(AND($B44<>"",COUNTIFS($A$5:$A$604,$A44,$B$5:$B$604,$B44)<3),"ℹ šioje komandoje tik "&COUNTIFS($A$5:$A$604,$A44,$B$5:$B$604,$B44)&" žaid. – ar ne rašybos klaida?",""))) | N44: =IF(OR($A44="",$B44=""),0,IF(COUNTIFS($A$5:$A44,$A44,$B$5:$B44,$B44)=1,1,0)) -> 0 | O44: =IF($N44<>1,"",1+SUMPRODUCT(($A$5:$A$604=$A44)*($B$5:$B$604<$B44)*($N$5:$N$604=1))) | P44: =IF(OR($N44<>1,$A44<>Lyga,AND(Pogrupis<>"",$F44<>Pogrupis)),"",1+SUMPRODUCT(($A$5:$A$604=Lyga)*($N$5:$N$604=1)*($B$5:$B$604<$B44)*((($F$5:$F$604=Pogrupis)+(Pogrupis=""))>0))) | T44: =IF($R44="","",IF($S44="",$R44,$R44&", "&$S44)) | W44: =IFERROR(INDEX($B$5:$B$604,SUMPRODUCT(MATCH(1,($A$5:$A$604="A")*($N$5:$N$604=1)*($O$5:$O$604=40),0))),"") | Y44: =IFERROR(INDEX($B$5:$B$604,SUMPRODUCT(MATCH(1,($A$5:$A$604="B")*($N$5:$N$604=1)*($O$5:$O$604=40),0))),"") | AA44: =IFERROR(INDEX($B$5:$B$604,SUMPRODUCT(MATCH(1,($A$5:$A$604="C")*($N$5:$N$604=1)*($O$5:$O$604=40),0))),"") | AB44: =IF($T44="","",COUNTIFS($T$5:$T$44,"<"&$T44,$T$5:$T$44,"?*")+COUNTIF($T$5:$T44,$T44)) | AC44: =IFERROR(INDEX($T$5:$T$44,MATCH(ROW()-4,$AB$5:$AB$44,0)),"") | AE44: =IFERROR(INDEX($B$5:$B$604,MATCH(40,$P$5:$P$604,0)),"") | AL44: =IF(NOT(OR($A44="A",$A44="B",$A44="C")),"","ADMIN_Duomenys!$"&IF($A44="A","W",IF($A44="B","Y","AA"))&"$5:$"&IF($A44="A","W",IF($A44="B","Y","AA"))&"$"&(4+MAX(1,COUNTIF(INDIRECT("ADMIN_Duomenys!$"&IF($A44="A","W",IF($A44="B","Y","AA"))&"$5:$"&IF($A44="A","W",IF($A44="B","Y","AA"))&"$44"),"?*")))) -> ADMIN_Duomenys!$W$5:$W$12
A45: A | B45: PROMETĖJAS | C45: Karolis | D45: ŠMIDTAS | E45: 0 | H45: =IF(OR($A45="",$B45="",$I45=""),"",SUMPRODUCT(($A$5:$A$604=$A45)*($B$5:$B$604=$B45)*($I$5:$I$604<>"")*($I$5:$I$604<$I45))+SUMPRODUCT(($A$5:$A$604=$A45)*($B$5:$B$604=$B45)*($I$5:$I$604=$I45)*(ROW($I$5:$I$604)<=ROW($I45)))) -> 4 | I45: =IF(TRIM($C45&$D45)="","",PROPER(TRIM($C45))&" "&UPPER(TRIM($D45))) -> Karolis ŠMIDTAS | J45: =IF(OR($A45="",$B45="",$H45=""),"",$A45&"|"&$B45&"|"&$H45) -> A|PROMETĖJAS|4 | K45: =IF(COUNTA($A45:$E45)=0,"",IF($A45="","← Nurodykite lygą (A / B / C)",IF($B45="","← Nurodykite komandą",IF(TRIM($C45)="","← Nurodykite vardą",IF(TRIM($D45)="","← Nurodykite pavardę",IF(NOT(ISNUMBER($E45)),"← Nurodykite Hcp (jei neturi – 0)",IF(AND(OR($A45="B",$A45="C"),NOT(OR($F45="Rytai",$F45="Vakarai"))),"← Nurodykite pogrupį (Rytai / Vakarai)",IF(AND($A45="A",OR($F45="Rytai",$F45="Vakarai")),"← A lygos komandos į pogrupius neskirstomos",IF(COUNTIFS($A$5:$A$604,$A45,$B$5:$B$604,$B45,$F$5:$F$604,"<>"&$F45)>0,"← Šios komandos pogrupis nurodytas nevienodai",IF($H45>8,"← Šioje komandoje jau daugiau nei 8 žaidėjai","")))))))))) | L45: =IF($I45="","",IF(COUNTIF($I$5:$I$604,$I45)>1,"ℹ tokių pačių vardų sąraše: "&COUNTIF($I$5:$I$604,$I45),IF(AND($B45<>"",COUNTIFS($A$5:$A$604,$A45,$B$5:$B$604,$B45)<3),"ℹ šioje komandoje tik "&COUNTIFS($A$5:$A$604,$A45,$B$5:$B$604,$B45)&" žaid. – ar ne rašybos klaida?",""))) | N45: =IF(OR($A45="",$B45=""),0,IF(COUNTIFS($A$5:$A45,$A45,$B$5:$B45,$B45)=1,1,0)) -> 0 | O45: =IF($N45<>1,"",1+SUMPRODUCT(($A$5:$A$604=$A45)*($B$5:$B$604<$B45)*($N$5:$N$604=1))) | P45: =IF(OR($N45<>1,$A45<>Lyga,AND(Pogrupis<>"",$F45<>Pogrupis)),"",1+SUMPRODUCT(($A$5:$A$604=Lyga)*($N$5:$N$604=1)*($B$5:$B$604<$B45)*((($F$5:$F$604=Pogrupis)+(Pogrupis=""))>0))) | AL45: =IF(NOT(OR($A45="A",$A45="B",$A45="C")),"","ADMIN_Duomenys!$"&IF($A45="A","W",IF($A45="B","Y","AA"))&"$5:$"&IF($A45="A","W",IF($A45="B","Y","AA"))&"$"&(4+MAX(1,COUNTIF(INDIRECT("ADMIN_Duomenys!$"&IF($A45="A","W",IF($A45="B","Y","AA"))&"$5:$"&IF($A45="A","W",IF($A45="B","Y","AA"))&"$44"),"?*")))) -> ADMIN_Duomenys!$W$5:$W$12
A46: A | B46: STRIKE HOUSE & D.M PROPERTIES | C46: Aidas | D46: DANIŪNAS | E46: 0 | H46: =IF(OR($A46="",$B46="",$I46=""),"",SUMPRODUCT(($A$5:$A$604=$A46)*($B$5:$B$604=$B46)*($I$5:$I$604<>"")*($I$5:$I$604<$I46))+SUMPRODUCT(($A$5:$A$604=$A46)*($B$5:$B$604=$B46)*($I$5:$I$604=$I46)*(ROW($I$5:$I$604)<=ROW($I46)))) -> 1 | I46: =IF(TRIM($C46&$D46)="","",PROPER(TRIM($C46))&" "&UPPER(TRIM($D46))) -> Aidas DANIŪNAS | J46: =IF(OR($A46="",$B46="",$H46=""),"",$A46&"|"&$B46&"|"&$H46) -> A|STRIKE HOUSE & D.M PROPERTIES|1 | K46: =IF(COUNTA($A46:$E46)=0,"",IF($A46="","← Nurodykite lygą (A / B / C)",IF($B46="","← Nurodykite komandą",IF(TRIM($C46)="","← Nurodykite vardą",IF(TRIM($D46)="","← Nurodykite pavardę",IF(NOT(ISNUMBER($E46)),"← Nurodykite Hcp (jei neturi – 0)",IF(AND(OR($A46="B",$A46="C"),NOT(OR($F46="Rytai",$F46="Vakarai"))),"← Nurodykite pogrupį (Rytai / Vakarai)",IF(AND($A46="A",OR($F46="Rytai",$F46="Vakarai")),"← A lygos komandos į pogrupius neskirstomos",IF(COUNTIFS($A$5:$A$604,$A46,$B$5:$B$604,$B46,$F$5:$F$604,"<>"&$F46)>0,"← Šios komandos pogrupis nurodytas nevienodai",IF($H46>8,"← Šioje komandoje jau daugiau nei 8 žaidėjai","")))))))))) | L46: =IF($I46="","",IF(COUNTIF($I$5:$I$604,$I46)>1,"ℹ tokių pačių vardų sąraše: "&COUNTIF($I$5:$I$604,$I46),IF(AND($B46<>"",COUNTIFS($A$5:$A$604,$A46,$B$5:$B$604,$B46)<3),"ℹ šioje komandoje tik "&COUNTIFS($A$5:$A$604,$A46,$B$5:$B$604,$B46)&" žaid. – ar ne rašybos klaida?",""))) | N46: =IF(OR($A46="",$B46=""),0,IF(COUNTIFS($A$5:$A46,$A46,$B$5:$B46,$B46)=1,1,0)) -> 1 | O46: =IF($N46<>1,"",1+SUMPRODUCT(($A$5:$A$604=$A46)*($B$5:$B$604<$B46)*($N$5:$N$604=1))) -> 7 | P46: =IF(OR($N46<>1,$A46<>Lyga,AND(Pogrupis<>"",$F46<>Pogrupis)),"",1+SUMPRODUCT(($A$5:$A$604=Lyga)*($N$5:$N$604=1)*($B$5:$B$604<$B46)*((($F$5:$F$604=Pogrupis)+(Pogrupis=""))>0))) | AL46: =IF(NOT(OR($A46="A",$A46="B",$A46="C")),"","ADMIN_Duomenys!$"&IF($A46="A","W",IF($A46="B","Y","AA"))&"$5:$"&IF($A46="A","W",IF($A46="B","Y","AA"))&"$"&(4+MAX(1,COUNTIF(INDIRECT("ADMIN_Duomenys!$"&IF($A46="A","W",IF($A46="B","Y","AA"))&"$5:$"&IF($A46="A","W",IF($A46="B","Y","AA"))&"$44"),"?*")))) -> ADMIN_Duomenys!$W$5:$W$12
A47: A | B47: STRIKE HOUSE & D.M PROPERTIES | C47: Kęstutis | D47: GUDAUSKAS | E47: 0 | H47: =IF(OR($A47="",$B47="",$I47=""),"",SUMPRODUCT(($A$5:$A$604=$A47)*($B$5:$B$604=$B47)*($I$5:$I$604<>"")*($I$5:$I$604<$I47))+SUMPRODUCT(($A$5:$A$604=$A47)*($B$5:$B$604=$B47)*($I$5:$I$604=$I47)*(ROW($I$5:$I$604)<=ROW($I47)))) -> 4 | I47: =IF(TRIM($C47&$D47)="","",PROPER(TRIM($C47))&" "&UPPER(TRIM($D47))) -> Kęstutis GUDAUSKAS | J47: =IF(OR($A47="",$B47="",$H47=""),"",$A47&"|"&$B47&"|"&$H47) -> A|STRIKE HOUSE & D.M PROPERTIES|4 | K47: =IF(COUNTA($A47:$E47)=0,"",IF($A47="","← Nurodykite lygą (A / B / C)",IF($B47="","← Nurodykite komandą",IF(TRIM($C47)="","← Nurodykite vardą",IF(TRIM($D47)="","← Nurodykite pavardę",IF(NOT(ISNUMBER($E47)),"← Nurodykite Hcp (jei neturi – 0)",IF(AND(OR($A47="B",$A47="C"),NOT(OR($F47="Rytai",$F47="Vakarai"))),"← Nurodykite pogrupį (Rytai / Vakarai)",IF(AND($A47="A",OR($F47="Rytai",$F47="Vakarai")),"← A lygos komandos į pogrupius neskirstomos",IF(COUNTIFS($A$5:$A$604,$A47,$B$5:$B$604,$B47,$F$5:$F$604,"<>"&$F47)>0,"← Šios komandos pogrupis nurodytas nevienodai",IF($H47>8,"← Šioje komandoje jau daugiau nei 8 žaidėjai","")))))))))) | L47: =IF($I47="","",IF(COUNTIF($I$5:$I$604,$I47)>1,"ℹ tokių pačių vardų sąraše: "&COUNTIF($I$5:$I$604,$I47),IF(AND($B47<>"",COUNTIFS($A$5:$A$604,$A47,$B$5:$B$604,$B47)<3),"ℹ šioje komandoje tik "&COUNTIFS($A$5:$A$604,$A47,$B$5:$B$604,$B47)&" žaid. – ar ne rašybos klaida?",""))) | N47: =IF(OR($A47="",$B47=""),0,IF(COUNTIFS($A$5:$A47,$A47,$B$5:$B47,$B47)=1,1,0)) -> 0 | O47: =IF($N47<>1,"",1+SUMPRODUCT(($A$5:$A$604=$A47)*($B$5:$B$604<$B47)*($N$5:$N$604=1))) | P47: =IF(OR($N47<>1,$A47<>Lyga,AND(Pogrupis<>"",$F47<>Pogrupis)),"",1+SUMPRODUCT(($A$5:$A$604=Lyga)*($N$5:$N$604=1)*($B$5:$B$604<$B47)*((($F$5:$F$604=Pogrupis)+(Pogrupis=""))>0))) | AL47: =IF(NOT(OR($A47="A",$A47="B",$A47="C")),"","ADMIN_Duomenys!$"&IF($A47="A","W",IF($A47="B","Y","AA"))&"$5:$"&IF($A47="A","W",IF($A47="B","Y","AA"))&"$"&(4+MAX(1,COUNTIF(INDIRECT("ADMIN_Duomenys!$"&IF($A47="A","W",IF($A47="B","Y","AA"))&"$5:$"&IF($A47="A","W",IF($A47="B","Y","AA"))&"$44"),"?*")))) -> ADMIN_Duomenys!$W$5:$W$12
A48: A | B48: STRIKE HOUSE & D.M PROPERTIES | C48: Rihards | D48: KOVAJENKO | E48: 0 | H48: =IF(OR($A48="",$B48="",$I48=""),"",SUMPRODUCT(($A$5:$A$604=$A48)*($B$5:$B$604=$B48)*($I$5:$I$604<>"")*($I$5:$I$604<$I48))+SUMPRODUCT(($A$5:$A$604=$A48)*($B$5:$B$604=$B48)*($I$5:$I$604=$I48)*(ROW($I$5:$I$604)<=ROW($I48)))) -> 6 | I48: =IF(TRIM($C48&$D48)="","",PROPER(TRIM($C48))&" "&UPPER(TRIM($D48))) -> Rihards KOVAJENKO | J48: =IF(OR($A48="",$B48="",$H48=""),"",$A48&"|"&$B48&"|"&$H48) -> A|STRIKE HOUSE & D.M PROPERTIES|6 | K48: =IF(COUNTA($A48:$E48)=0,"",IF($A48="","← Nurodykite lygą (A / B / C)",IF($B48="","← Nurodykite komandą",IF(TRIM($C48)="","← Nurodykite vardą",IF(TRIM($D48)="","← Nurodykite pavardę",IF(NOT(ISNUMBER($E48)),"← Nurodykite Hcp (jei neturi – 0)",IF(AND(OR($A48="B",$A48="C"),NOT(OR($F48="Rytai",$F48="Vakarai"))),"← Nurodykite pogrupį (Rytai / Vakarai)",IF(AND($A48="A",OR($F48="Rytai",$F48="Vakarai")),"← A lygos komandos į pogrupius neskirstomos",IF(COUNTIFS($A$5:$A$604,$A48,$B$5:$B$604,$B48,$F$5:$F$604,"<>"&$F48)>0,"← Šios komandos pogrupis nurodytas nevienodai",IF($H48>8,"← Šioje komandoje jau daugiau nei 8 žaidėjai","")))))))))) | L48: =IF($I48="","",IF(COUNTIF($I$5:$I$604,$I48)>1,"ℹ tokių pačių vardų sąraše: "&COUNTIF($I$5:$I$604,$I48),IF(AND($B48<>"",COUNTIFS($A$5:$A$604,$A48,$B$5:$B$604,$B48)<3),"ℹ šioje komandoje tik "&COUNTIFS($A$5:$A$604,$A48,$B$5:$B$604,$B48)&" žaid. – ar ne rašybos klaida?",""))) | N48: =IF(OR($A48="",$B48=""),0,IF(COUNTIFS($A$5:$A48,$A48,$B$5:$B48,$B48)=1,1,0)) -> 0 | O48: =IF($N48<>1,"",1+SUMPRODUCT(($A$5:$A$604=$A48)*($B$5:$B$604<$B48)*($N$5:$N$604=1))) | P48: =IF(OR($N48<>1,$A48<>Lyga,AND(Pogrupis<>"",$F48<>Pogrupis)),"",1+SUMPRODUCT(($A$5:$A$604=Lyga)*($N$5:$N$604=1)*($B$5:$B$604<$B48)*((($F$5:$F$604=Pogrupis)+(Pogrupis=""))>0))) | AL48: =IF(NOT(OR($A48="A",$A48="B",$A48="C")),"","ADMIN_Duomenys!$"&IF($A48="A","W",IF($A48="B","Y","AA"))&"$5:$"&IF($A48="A","W",IF($A48="B","Y","AA"))&"$"&(4+MAX(1,COUNTIF(INDIRECT("ADMIN_Duomenys!$"&IF($A48="A","W",IF($A48="B","Y","AA"))&"$5:$"&IF($A48="A","W",IF($A48="B","Y","AA"))&"$44"),"?*")))) -> ADMIN_Duomenys!$W$5:$W$12
A49: A | B49: STRIKE HOUSE & D.M PROPERTIES | C49: Artur | D49: LEVIKIN | E49: 0 | H49: =IF(OR($A49="",$B49="",$I49=""),"",SUMPRODUCT(($A$5:$A$604=$A49)*($B$5:$B$604=$B49)*($I$5:$I$604<>"")*($I$5:$I$604<$I49))+SUMPRODUCT(($A$5:$A$604=$A49)*($B$5:$B$604=$B49)*($I$5:$I$604=$I49)*(ROW($I$5:$I$604)<=ROW($I49)))) -> 3 | I49: =IF(TRIM($C49&$D49)="","",PROPER(TRIM($C49))&" "&UPPER(TRIM($D49))) -> Artur LEVIKIN | J49: =IF(OR($A49="",$B49="",$H49=""),"",$A49&"|"&$B49&"|"&$H49) -> A|STRIKE HOUSE & D.M PROPERTIES|3 | K49: =IF(COUNTA($A49:$E49)=0,"",IF($A49="","← Nurodykite lygą (A / B / C)",IF($B49="","← Nurodykite komandą",IF(TRIM($C49)="","← Nurodykite vardą",IF(TRIM($D49)="","← Nurodykite pavardę",IF(NOT(ISNUMBER($E49)),"← Nurodykite Hcp (jei neturi – 0)",IF(AND(OR($A49="B",$A49="C"),NOT(OR($F49="Rytai",$F49="Vakarai"))),"← Nurodykite pogrupį (Rytai / Vakarai)",IF(AND($A49="A",OR($F49="Rytai",$F49="Vakarai")),"← A lygos komandos į pogrupius neskirstomos",IF(COUNTIFS($A$5:$A$604,$A49,$B$5:$B$604,$B49,$F$5:$F$604,"<>"&$F49)>0,"← Šios komandos pogrupis nurodytas nevienodai",IF($H49>8,"← Šioje komandoje jau daugiau nei 8 žaidėjai","")))))))))) | L49: =IF($I49="","",IF(COUNTIF($I$5:$I$604,$I49)>1,"ℹ tokių pačių vardų sąraše: "&COUNTIF($I$5:$I$604,$I49),IF(AND($B49<>"",COUNTIFS($A$5:$A$604,$A49,$B$5:$B$604,$B49)<3),"ℹ šioje komandoje tik "&COUNTIFS($A$5:$A$604,$A49,$B$5:$B$604,$B49)&" žaid. – ar ne rašybos klaida?",""))) | N49: =IF(OR($A49="",$B49=""),0,IF(COUNTIFS($A$5:$A49,$A49,$B$5:$B49,$B49)=1,1,0)) -> 0 | O49: =IF($N49<>1,"",1+SUMPRODUCT(($A$5:$A$604=$A49)*($B$5:$B$604<$B49)*($N$5:$N$604=1))) | P49: =IF(OR($N49<>1,$A49<>Lyga,AND(Pogrupis<>"",$F49<>Pogrupis)),"",1+SUMPRODUCT(($A$5:$A$604=Lyga)*($N$5:$N$604=1)*($B$5:$B$604<$B49)*((($F$5:$F$604=Pogrupis)+(Pogrupis=""))>0))) | AL49: =IF(NOT(OR($A49="A",$A49="B",$A49="C")),"","ADMIN_Duomenys!$"&IF($A49="A","W",IF($A49="B","Y","AA"))&"$5:$"&IF($A49="A","W",IF($A49="B","Y","AA"))&"$"&(4+MAX(1,COUNTIF(INDIRECT("ADMIN_Duomenys!$"&IF($A49="A","W",IF($A49="B","Y","AA"))&"$5:$"&IF($A49="A","W",IF($A49="B","Y","AA"))&"$44"),"?*")))) -> ADMIN_Duomenys!$W$5:$W$12
A50: A | B50: STRIKE HOUSE & D.M PROPERTIES | C50: Raimundas | D50: NAKAS | E50: 0 | H50: =IF(OR($A50="",$B50="",$I50=""),"",SUMPRODUCT(($A$5:$A$604=$A50)*($B$5:$B$604=$B50)*($I$5:$I$604<>"")*($I$5:$I$604<$I50))+SUMPRODUCT(($A$5:$A$604=$A50)*($B$5:$B$604=$B50)*($I$5:$I$604=$I50)*(ROW($I$5:$I$604)<=ROW($I50)))) -> 5 | I50: =IF(TRIM($C50&$D50)="","",PROPER(TRIM($C50))&" "&UPPER(TRIM($D50))) -> Raimundas NAKAS | J50: =IF(OR($A50="",$B50="",$H50=""),"",$A50&"|"&$B50&"|"&$H50) -> A|STRIKE HOUSE & D.M PROPERTIES|5 | K50: =IF(COUNTA($A50:$E50)=0,"",IF($A50="","← Nurodykite lygą (A / B / C)",IF($B50="","← Nurodykite komandą",IF(TRIM($C50)="","← Nurodykite vardą",IF(TRIM($D50)="","← Nurodykite pavardę",IF(NOT(ISNUMBER($E50)),"← Nurodykite Hcp (jei neturi – 0)",IF(AND(OR($A50="B",$A50="C"),NOT(OR($F50="Rytai",$F50="Vakarai"))),"← Nurodykite pogrupį (Rytai / Vakarai)",IF(AND($A50="A",OR($F50="Rytai",$F50="Vakarai")),"← A lygos komandos į pogrupius neskirstomos",IF(COUNTIFS($A$5:$A$604,$A50,$B$5:$B$604,$B50,$F$5:$F$604,"<>"&$F50)>0,"← Šios komandos pogrupis nurodytas nevienodai",IF($H50>8,"← Šioje komandoje jau daugiau nei 8 žaidėjai","")))))))))) | L50: =IF($I50="","",IF(COUNTIF($I$5:$I$604,$I50)>1,"ℹ tokių pačių vardų sąraše: "&COUNTIF($I$5:$I$604,$I50),IF(AND($B50<>"",COUNTIFS($A$5:$A$604,$A50,$B$5:$B$604,$B50)<3),"ℹ šioje komandoje tik "&COUNTIFS($A$5:$A$604,$A50,$B$5:$B$604,$B50)&" žaid. – ar ne rašybos klaida?",""))) | N50: =IF(OR($A50="",$B50=""),0,IF(COUNTIFS($A$5:$A50,$A50,$B$5:$B50,$B50)=1,1,0)) -> 0 | O50: =IF($N50<>1,"",1+SUMPRODUCT(($A$5:$A$604=$A50)*($B$5:$B$604<$B50)*($N$5:$N$604=1))) | P50: =IF(OR($N50<>1,$A50<>Lyga,AND(Pogrupis<>"",$F50<>Pogrupis)),"",1+SUMPRODUCT(($A$5:$A$604=Lyga)*($N$5:$N$604=1)*($B$5:$B$604<$B50)*((($F$5:$F$604=Pogrupis)+(Pogrupis=""))>0))) | AL50: =IF(NOT(OR($A50="A",$A50="B",$A50="C")),"","ADMIN_Duomenys!$"&IF($A50="A","W",IF($A50="B","Y","AA"))&"$5:$"&IF($A50="A","W",IF($A50="B","Y","AA"))&"$"&(4+MAX(1,COUNTIF(INDIRECT("ADMIN_Duomenys!$"&IF($A50="A","W",IF($A50="B","Y","AA"))&"$5:$"&IF($A50="A","W",IF($A50="B","Y","AA"))&"$44"),"?*")))) -> ADMIN_Duomenys!$W$5:$W$12
A51: A | B51: STRIKE HOUSE & D.M PROPERTIES | C51: Andrius | D51: POLIKEVIČIUS | E51: 0 | H51: =IF(OR($A51="",$B51="",$I51=""),"",SUMPRODUCT(($A$5:$A$604=$A51)*($B$5:$B$604=$B51)*($I$5:$I$604<>"")*($I$5:$I$604<$I51))+SUMPRODUCT(($A$5:$A$604=$A51)*($B$5:$B$604=$B51)*($I$5:$I$604=$I51)*(ROW($I$5:$I$604)<=ROW($I51)))) -> 2 | I51: =IF(TRIM($C51&$D51)="","",PROPER(TRIM($C51))&" "&UPPER(TRIM($D51))) -> Andrius POLIKEVIČIUS | J51: =IF(OR($A51="",$B51="",$H51=""),"",$A51&"|"&$B51&"|"&$H51) -> A|STRIKE HOUSE & D.M PROPERTIES|2 | K51: =IF(COUNTA($A51:$E51)=0,"",IF($A51="","← Nurodykite lygą (A / B / C)",IF($B51="","← Nurodykite komandą",IF(TRIM($C51)="","← Nurodykite vardą",IF(TRIM($D51)="","← Nurodykite pavardę",IF(NOT(ISNUMBER($E51)),"← Nurodykite Hcp (jei neturi – 0)",IF(AND(OR($A51="B",$A51="C"),NOT(OR($F51="Rytai",$F51="Vakarai"))),"← Nurodykite pogrupį (Rytai / Vakarai)",IF(AND($A51="A",OR($F51="Rytai",$F51="Vakarai")),"← A lygos komandos į pogrupius neskirstomos",IF(COUNTIFS($A$5:$A$604,$A51,$B$5:$B$604,$B51,$F$5:$F$604,"<>"&$F51)>0,"← Šios komandos pogrupis nurodytas nevienodai",IF($H51>8,"← Šioje komandoje jau daugiau nei 8 žaidėjai","")))))))))) | L51: =IF($I51="","",IF(COUNTIF($I$5:$I$604,$I51)>1,"ℹ tokių pačių vardų sąraše: "&COUNTIF($I$5:$I$604,$I51),IF(AND($B51<>"",COUNTIFS($A$5:$A$604,$A51,$B$5:$B$604,$B51)<3),"ℹ šioje komandoje tik "&COUNTIFS($A$5:$A$604,$A51,$B$5:$B$604,$B51)&" žaid. – ar ne rašybos klaida?",""))) | N51: =IF(OR($A51="",$B51=""),0,IF(COUNTIFS($A$5:$A51,$A51,$B$5:$B51,$B51)=1,1,0)) -> 0 | O51: =IF($N51<>1,"",1+SUMPRODUCT(($A$5:$A$604=$A51)*($B$5:$B$604<$B51)*($N$5:$N$604=1))) | P51: =IF(OR($N51<>1,$A51<>Lyga,AND(Pogrupis<>"",$F51<>Pogrupis)),"",1+SUMPRODUCT(($A$5:$A$604=Lyga)*($N$5:$N$604=1)*($B$5:$B$604<$B51)*((($F$5:$F$604=Pogrupis)+(Pogrupis=""))>0))) | AL51: =IF(NOT(OR($A51="A",$A51="B",$A51="C")),"","ADMIN_Duomenys!$"&IF($A51="A","W",IF($A51="B","Y","AA"))&"$5:$"&IF($A51="A","W",IF($A51="B","Y","AA"))&"$"&(4+MAX(1,COUNTIF(INDIRECT("ADMIN_Duomenys!$"&IF($A51="A","W",IF($A51="B","Y","AA"))&"$5:$"&IF($A51="A","W",IF($A51="B","Y","AA"))&"$44"),"?*")))) -> ADMIN_Duomenys!$W$5:$W$12
A52: A | B52: WITSEE MELGA | C52: Jurijs | D52: BOKUMS | E52: 0 | H52: =IF(OR($A52="",$B52="",$I52=""),"",SUMPRODUCT(($A$5:$A$604=$A52)*($B$5:$B$604=$B52)*($I$5:$I$604<>"")*($I$5:$I$604<$I52))+SUMPRODUCT(($A$5:$A$604=$A52)*($B$5:$B$604=$B52)*($I$5:$I$604=$I52)*(ROW($I$5:$I$604)<=ROW($I52)))) -> 4 | I52: =IF(TRIM($C52&$D52)="","",PROPER(TRIM($C52))&" "&UPPER(TRIM($D52))) -> Jurijs BOKUMS | J52: =IF(OR($A52="",$B52="",$H52=""),"",$A52&"|"&$B52&"|"&$H52) -> A|WITSEE MELGA|4 | K52: =IF(COUNTA($A52:$E52)=0,"",IF($A52="","← Nurodykite lygą (A / B / C)",IF($B52="","← Nurodykite komandą",IF(TRIM($C52)="","← Nurodykite vardą",IF(TRIM($D52)="","← Nurodykite pavardę",IF(NOT(ISNUMBER($E52)),"← Nurodykite Hcp (jei neturi – 0)",IF(AND(OR($A52="B",$A52="C"),NOT(OR($F52="Rytai",$F52="Vakarai"))),"← Nurodykite pogrupį (Rytai / Vakarai)",IF(AND($A52="A",OR($F52="Rytai",$F52="Vakarai")),"← A lygos komandos į pogrupius neskirstomos",IF(COUNTIFS($A$5:$A$604,$A52,$B$5:$B$604,$B52,$F$5:$F$604,"<>"&$F52)>0,"← Šios komandos pogrupis nurodytas nevienodai",IF($H52>8,"← Šioje komandoje jau daugiau nei 8 žaidėjai","")))))))))) | L52: =IF($I52="","",IF(COUNTIF($I$5:$I$604,$I52)>1,"ℹ tokių pačių vardų sąraše: "&COUNTIF($I$5:$I$604,$I52),IF(AND($B52<>"",COUNTIFS($A$5:$A$604,$A52,$B$5:$B$604,$B52)<3),"ℹ šioje komandoje tik "&COUNTIFS($A$5:$A$604,$A52,$B$5:$B$604,$B52)&" žaid. – ar ne rašybos klaida?",""))) | N52: =IF(OR($A52="",$B52=""),0,IF(COUNTIFS($A$5:$A52,$A52,$B$5:$B52,$B52)=1,1,0)) -> 1 | O52: =IF($N52<>1,"",1+SUMPRODUCT(($A$5:$A$604=$A52)*($B$5:$B$604<$B52)*($N$5:$N$604=1))) -> 8 | P52: =IF(OR($N52<>1,$A52<>Lyga,AND(Pogrupis<>"",$F52<>Pogrupis)),"",1+SUMPRODUCT(($A$5:$A$604=Lyga)*($N$5:$N$604=1)*($B$5:$B$604<$B52)*((($F$5:$F$604=Pogrupis)+(Pogrupis=""))>0))) | AL52: =IF(NOT(OR($A52="A",$A52="B",$A52="C")),"","ADMIN_Duomenys!$"&IF($A52="A","W",IF($A52="B","Y","AA"))&"$5:$"&IF($A52="A","W",IF($A52="B","Y","AA"))&"$"&(4+MAX(1,COUNTIF(INDIRECT("ADMIN_Duomenys!$"&IF($A52="A","W",IF($A52="B","Y","AA"))&"$5:$"&IF($A52="A","W",IF($A52="B","Y","AA"))&"$44"),"?*")))) -> ADMIN_Duomenys!$W$5:$W$12
